BEGIN:VCALENDAR
VERSION:2.0
PRODID:-// - ECPv6.15.20//NONSGML v1.0//EN
CALSCALE:GREGORIAN
METHOD:PUBLISH
X-ORIGINAL-URL:https://eventosagenda.com
X-WR-CALDESC:Events for 
REFRESH-INTERVAL;VALUE=DURATION:PT1H
X-Robots-Tag:noindex
X-PUBLISHED-TTL:PT1H
BEGIN:VTIMEZONE
TZID:Europe/Lisbon
BEGIN:DAYLIGHT
TZOFFSETFROM:+0000
TZOFFSETTO:+0100
TZNAME:WEST
DTSTART:20240331T010000
END:DAYLIGHT
BEGIN:STANDARD
TZOFFSETFROM:+0100
TZOFFSETTO:+0000
TZNAME:WET
DTSTART:20241027T010000
END:STANDARD
BEGIN:DAYLIGHT
TZOFFSETFROM:+0000
TZOFFSETTO:+0100
TZNAME:WEST
DTSTART:20250330T010000
END:DAYLIGHT
BEGIN:STANDARD
TZOFFSETFROM:+0100
TZOFFSETTO:+0000
TZNAME:WET
DTSTART:20251026T010000
END:STANDARD
BEGIN:DAYLIGHT
TZOFFSETFROM:+0000
TZOFFSETTO:+0100
TZNAME:WEST
DTSTART:20260329T010000
END:DAYLIGHT
BEGIN:STANDARD
TZOFFSETFROM:+0100
TZOFFSETTO:+0000
TZNAME:WET
DTSTART:20261025T010000
END:STANDARD
END:VTIMEZONE
BEGIN:VEVENT
DTSTART;TZID=Europe/Lisbon:20250705T173000
DTEND;TZID=Europe/Lisbon:20250706T100000
DTSTAMP:20260422T004734
CREATED:20250619T071055Z
LAST-MODIFIED:20250619T071055Z
UID:2678-1751736600-1751796000@eventosagenda.com
SUMMARY:4° Trator Racing
DESCRIPTION:
URL:https://eventosagenda.com/event/4-trator-racing/
LOCATION:Vale de Ílhavo\, Vale de Ílhavo\, Aveiro\, Portugal
CATEGORIES:Festas & Festivals,Tours & Trips
ATTACH;FMTTYPE=image/jpeg:https://eventosagenda.com/wp-content/uploads/2025/06/07.05-06-Ilhavo.jpg
END:VEVENT
BEGIN:VEVENT
DTSTART;TZID=Europe/Lisbon:20250706T090000
DTEND;TZID=Europe/Lisbon:20250706T150000
DTSTAMP:20260422T004734
CREATED:20250701T140616Z
LAST-MODIFIED:20250701T140616Z
UID:2979-1751792400-1751814000@eventosagenda.com
SUMMARY:Passeio Clássico's - Atalaia do Campo
DESCRIPTION:
URL:https://eventosagenda.com/event/passeio-classicos-atalaia-do-campo/
LOCATION:Atalaia do Campo\, Atalaia do Campo\, Fundão\, Castelo Branco\, Portugal
CATEGORIES:Tours & Trips
ATTACH;FMTTYPE=image/jpeg:https://eventosagenda.com/wp-content/uploads/2025/07/facebook_1751367941514_7345769562567896420.jpg
END:VEVENT
BEGIN:VEVENT
DTSTART;TZID=Europe/Lisbon:20250706T090000
DTEND;TZID=Europe/Lisbon:20250706T220000
DTSTAMP:20260422T004734
CREATED:20250418T084211Z
LAST-MODIFIED:20250523T175000Z
UID:409-1751792400-1751839200@eventosagenda.com
SUMMARY:The First Motorcycle and Motorbike Charity Ride - Montes de Senhora
DESCRIPTION:ATTN: NEW DATE!!!\nThe 1. Motorcycle and Motorbike Charity Ride has been postponed to July 6 due to weather conditions. \n\n\nWe apologise and appreciate your understanding.\n\n\nRegistration is required:\n+351 925 743 304\nmovimento-centro.pt\n\n\nDon’t miss out on this opportunity to be a part of a great cause and make memories on wheels!
URL:https://eventosagenda.com/event/the-first-motorcycle-and-motorbike-charity-ride-montes-de-senhora/
LOCATION:Montes da Senhora\, Montes da Senhora\, Castelo Branco\, 6150-128\, Portugal
CATEGORIES:Tours & Trips
ATTACH;FMTTYPE=image/jpeg:https://eventosagenda.com/wp-content/uploads/2025/04/Montes-2.jpg
END:VEVENT
END:VCALENDAR