BEGIN:VCALENDAR
VERSION:2.0
PRODID:-// - ECPv6.15.20//NONSGML v1.0//EN
CALSCALE:GREGORIAN
METHOD:PUBLISH
X-ORIGINAL-URL:https://eventosagenda.com
X-WR-CALDESC:Events for 
REFRESH-INTERVAL;VALUE=DURATION:PT1H
X-Robots-Tag:noindex
X-PUBLISHED-TTL:PT1H
BEGIN:VTIMEZONE
TZID:Europe/Lisbon
BEGIN:DAYLIGHT
TZOFFSETFROM:+0000
TZOFFSETTO:+0100
TZNAME:WEST
DTSTART:20240331T010000
END:DAYLIGHT
BEGIN:STANDARD
TZOFFSETFROM:+0100
TZOFFSETTO:+0000
TZNAME:WET
DTSTART:20241027T010000
END:STANDARD
BEGIN:DAYLIGHT
TZOFFSETFROM:+0000
TZOFFSETTO:+0100
TZNAME:WEST
DTSTART:20250330T010000
END:DAYLIGHT
BEGIN:STANDARD
TZOFFSETFROM:+0100
TZOFFSETTO:+0000
TZNAME:WET
DTSTART:20251026T010000
END:STANDARD
BEGIN:DAYLIGHT
TZOFFSETFROM:+0000
TZOFFSETTO:+0100
TZNAME:WEST
DTSTART:20260329T010000
END:DAYLIGHT
BEGIN:STANDARD
TZOFFSETFROM:+0100
TZOFFSETTO:+0000
TZNAME:WET
DTSTART:20261025T010000
END:STANDARD
END:VTIMEZONE
BEGIN:VEVENT
DTSTART;VALUE=DATE:20250731
DTEND;VALUE=DATE:20250811
DTSTAMP:20260421T103627
CREATED:20250604T073044Z
LAST-MODIFIED:20250604T073143Z
UID:2432-1753920000-1754870399@eventosagenda.com
SUMMARY:Expofacic  - Cantanhede 2025
DESCRIPTION:
URL:https://eventosagenda.com/event/expo-facic-cantanhede-2025/
LOCATION:Cantanhede\, Cantanhede\, Coimbra\, Portugal
CATEGORIES:Festas & Festivals,Food & Drink,Markets & Fairs
ATTACH;FMTTYPE=image/jpeg:https://eventosagenda.com/wp-content/uploads/2025/06/07.31-08.10-Cantanhede.jpg
END:VEVENT
BEGIN:VEVENT
DTSTART;TZID=Europe/Lisbon:20250807T170000
DTEND;TZID=Europe/Lisbon:20250812T233000
DTSTAMP:20260421T103627
CREATED:20250512T133613Z
LAST-MODIFIED:20250808T081824Z
UID:1395-1754586000-1755041400@eventosagenda.com
SUMMARY:40° Festival do Vinho Português e 30 Feira Nacional da Pera Rocha - Bombarral
DESCRIPTION:O concelho do Bombarral volta a ser palco de um dos mais emblemáticos certames dedicados à promoção dos produtos endógenos da região: o 40.º Festival do Vinho Português e a 30.ª Feira Nacional da Pera Rocha\, que terão lugar de 7 a 12 de agosto\, na Mata Municipal do Bombarral.
URL:https://eventosagenda.com/event/40-festival-do-vinho-portugues-e-30-feira-nacional-da-pera-rocha-bombarral/
LOCATION:Bombarral\, Bombarral\, Leiria\, Portugal
CATEGORIES:Festas & Festivals,Food & Drink
ATTACH;FMTTYPE=image/png:https://eventosagenda.com/wp-content/uploads/2025/08/08-07-Festa-Vinho.png
END:VEVENT
BEGIN:VEVENT
DTSTART;VALUE=DATE:20250809
DTEND;VALUE=DATE:20250810
DTSTAMP:20260421T103627
CREATED:20250528T114634Z
LAST-MODIFIED:20250528T114634Z
UID:2074-1754697600-1754783999@eventosagenda.com
SUMMARY:Radio Musica Total Fronteiras - Viseu
DESCRIPTION:
URL:https://eventosagenda.com/event/radio-musica-total-fronteiras-viseu/
LOCATION:Viseu\, Viseu\, Viseu\, Portugal
CATEGORIES:Fado, Concerts & Music,Food & Drink
ATTACH;FMTTYPE=image/jpeg:https://eventosagenda.com/wp-content/uploads/2025/05/facebook_1746866988982_7326891199355639153.jpg
END:VEVENT
BEGIN:VEVENT
DTSTART;TZID=Europe/Lisbon:20250809T113000
DTEND;TZID=Europe/Lisbon:20250809T223000
DTSTAMP:20260421T103627
CREATED:20250709T191324Z
LAST-MODIFIED:20250709T191324Z
UID:3193-1754739000-1754778600@eventosagenda.com
SUMMARY:40° Aniversário - Vale da Ursa
DESCRIPTION:
URL:https://eventosagenda.com/event/40-aniversario-vale-da-ursa/
LOCATION:Centrosocial Vale da Ursa\, Proença-a-Nova\, Castelo Branco\, Portugal
CATEGORIES:Festas & Festivals,Sports & Games
ATTACH;FMTTYPE=image/jpeg:https://eventosagenda.com/wp-content/uploads/2025/07/facebook_1751481460255_7346245694676089600.jpg
END:VEVENT
END:VCALENDAR