BEGIN:VCALENDAR
VERSION:2.0
PRODID:-// - ECPv6.15.20//NONSGML v1.0//EN
CALSCALE:GREGORIAN
METHOD:PUBLISH
X-ORIGINAL-URL:https://eventosagenda.com
X-WR-CALDESC:Events for 
REFRESH-INTERVAL;VALUE=DURATION:PT1H
X-Robots-Tag:noindex
X-PUBLISHED-TTL:PT1H
BEGIN:VTIMEZONE
TZID:Europe/Lisbon
BEGIN:DAYLIGHT
TZOFFSETFROM:+0000
TZOFFSETTO:+0100
TZNAME:WEST
DTSTART:20240331T010000
END:DAYLIGHT
BEGIN:STANDARD
TZOFFSETFROM:+0100
TZOFFSETTO:+0000
TZNAME:WET
DTSTART:20241027T010000
END:STANDARD
BEGIN:DAYLIGHT
TZOFFSETFROM:+0000
TZOFFSETTO:+0100
TZNAME:WEST
DTSTART:20250330T010000
END:DAYLIGHT
BEGIN:STANDARD
TZOFFSETFROM:+0100
TZOFFSETTO:+0000
TZNAME:WET
DTSTART:20251026T010000
END:STANDARD
BEGIN:DAYLIGHT
TZOFFSETFROM:+0000
TZOFFSETTO:+0100
TZNAME:WEST
DTSTART:20260329T010000
END:DAYLIGHT
BEGIN:STANDARD
TZOFFSETFROM:+0100
TZOFFSETTO:+0000
TZNAME:WET
DTSTART:20261025T010000
END:STANDARD
END:VTIMEZONE
BEGIN:VEVENT
DTSTART;VALUE=DATE:20250627
DTEND;VALUE=DATE:20250630
DTSTAMP:20260421T132521
CREATED:20250416T175743Z
LAST-MODIFIED:20250416T180815Z
UID:376-1750982400-1751241599@eventosagenda.com
SUMMARY:Feira dos Sabores do Tejo
DESCRIPTION:Tejo Flavours Fair is back on June 27\, 28 & 29\n\n\nOn the last weekend of June\, on the 27\, 28 and 29\, the Tejo Flavours Feira dos Bores do Tejo again enliven the council of Vila Velha de Rodão with activities and cultural proposals for the whole family. The wristbands to guarantee entry to the event\, which will continue to be free\, can already be reserved on the event website at www.feiradossaboresdotejo.pt.\n\n\nOrganised by the Municipality of Vila Velha de Rodão\, the Tejo Flavours Fair has established itself as a landmark event in the region\, attracting thousands of people. Year after year\, it stands out for the quality and diversity of the exhibitors and programming.\n\n\nThe musical animation will feature big names from the national landscape\, to be announced soon.\n\n\nSimilar to the 2024 edition\, admission is free\, and the compound will be gated. To enter\, you will need to present a wristband\, which can be reserved at www.feiradossaboresdotejo.pt.\n\n\nSecure your ticket to this year’s edition now and stay tuned for all the news about these three unforgettable days\, through the website and social networks of the Fair of Flavours do Tejo and the Municipality of Vila Vela de Rodão!
URL:https://eventosagenda.com/event/feira-dos-sabores-do-tejo/
LOCATION:Vila Vela de Rodão\, Vila Vela de Rodão\, Castelo Branco\, Portugal
CATEGORIES:Festas & Festivals,Food & Drink
ATTACH;FMTTYPE=image/png:https://eventosagenda.com/wp-content/uploads/2025/04/Feira-dos-Sabores-do-Tejo.png
END:VEVENT
BEGIN:VEVENT
DTSTART;VALUE=DATE:20250627
DTEND;VALUE=DATE:20250630
DTSTAMP:20260421T132521
CREATED:20250430T214946Z
LAST-MODIFIED:20250430T214946Z
UID:901-1750982400-1751241599@eventosagenda.com
SUMMARY:XXIX Festival do Caraco - Porches
DESCRIPTION:
URL:https://eventosagenda.com/event/xxix-festival-do-caraco-porches/
LOCATION:Porches\, Lagoa\, Faro
CATEGORIES:Festas & Festivals,Food & Drink
ATTACH;FMTTYPE=image/jpeg:https://eventosagenda.com/wp-content/uploads/2025/04/facebook_1746043719572_7323438157176900292.jpg
END:VEVENT
BEGIN:VEVENT
DTSTART;VALUE=DATE:20250627
DTEND;VALUE=DATE:20250630
DTSTAMP:20260421T132521
CREATED:20250504T104653Z
LAST-MODIFIED:20250504T112130Z
UID:1013-1750982400-1751241599@eventosagenda.com
SUMMARY:Glu Glu Festival de Vinho 2025 - Coimbra
DESCRIPTION:
URL:https://eventosagenda.com/event/glu-glu-festival-de-vinho-2025-coimbra/
LOCATION:Jardim da Sereia\, Coimbra\, Coimbra\, Portugal
CATEGORIES:Festas & Festivals,Food & Drink
ATTACH;FMTTYPE=image/jpeg:https://eventosagenda.com/wp-content/uploads/2025/05/facebook_1746343215697_7324694334973977303.jpg
END:VEVENT
END:VCALENDAR