BEGIN:VCALENDAR
VERSION:2.0
PRODID:-// - ECPv6.15.20//NONSGML v1.0//EN
CALSCALE:GREGORIAN
METHOD:PUBLISH
X-ORIGINAL-URL:https://eventosagenda.com
X-WR-CALDESC:Events for 
REFRESH-INTERVAL;VALUE=DURATION:PT1H
X-Robots-Tag:noindex
X-PUBLISHED-TTL:PT1H
BEGIN:VTIMEZONE
TZID:Europe/Lisbon
BEGIN:DAYLIGHT
TZOFFSETFROM:+0000
TZOFFSETTO:+0100
TZNAME:WEST
DTSTART:20240331T010000
END:DAYLIGHT
BEGIN:STANDARD
TZOFFSETFROM:+0100
TZOFFSETTO:+0000
TZNAME:WET
DTSTART:20241027T010000
END:STANDARD
BEGIN:DAYLIGHT
TZOFFSETFROM:+0000
TZOFFSETTO:+0100
TZNAME:WEST
DTSTART:20250330T010000
END:DAYLIGHT
BEGIN:STANDARD
TZOFFSETFROM:+0100
TZOFFSETTO:+0000
TZNAME:WET
DTSTART:20251026T010000
END:STANDARD
BEGIN:DAYLIGHT
TZOFFSETFROM:+0000
TZOFFSETTO:+0100
TZNAME:WEST
DTSTART:20260329T010000
END:DAYLIGHT
BEGIN:STANDARD
TZOFFSETFROM:+0100
TZOFFSETTO:+0000
TZNAME:WET
DTSTART:20261025T010000
END:STANDARD
END:VTIMEZONE
BEGIN:VEVENT
DTSTART;TZID=Europe/Lisbon:20250619T093000
DTEND;TZID=Europe/Lisbon:20250619T093000
DTSTAMP:20260421T132706
CREATED:20250523T173651Z
LAST-MODIFIED:20250523T174927Z
UID:1946-1750325400-1750325400@eventosagenda.com
SUMMARY:1° Passeio Gastronómico - Folgosinho
DESCRIPTION:Another trip to Trinca!!!\nAfter the success of Trinca Trutas\, we’re going to Folgosinho.\n\n\nThrough the magnificent roads of Serra da Estrela we are going to Folgosinho to taste all the iguarias of the Serrano icon that is the Albertino restaurant\, from the cabidela rice\, to the lamb and piglet\, the roasted veal and the typical boar with beans.\n\n\nFree-range ride with scheduled stops. Limited to 35 people.\n\n\nBooking till 16th June\, WhatsApp or msg on 926507805
URL:https://eventosagenda.com/event/1-passeio-gastronomico-folgosinho/
LOCATION:Fundão\, Fundão\, Castelo Branco\, Portugal
CATEGORIES:Food & Drink,Tours & Trips
ATTACH;FMTTYPE=image/jpeg:https://eventosagenda.com/wp-content/uploads/2025/05/facebook_1748018618869_7331721485197547756.jpg
END:VEVENT
END:VCALENDAR