BEGIN:VCALENDAR
VERSION:2.0
PRODID:-// - ECPv6.15.20//NONSGML v1.0//EN
CALSCALE:GREGORIAN
METHOD:PUBLISH
X-ORIGINAL-URL:https://eventosagenda.com
X-WR-CALDESC:Events for 
REFRESH-INTERVAL;VALUE=DURATION:PT1H
X-Robots-Tag:noindex
X-PUBLISHED-TTL:PT1H
BEGIN:VTIMEZONE
TZID:Europe/Lisbon
BEGIN:DAYLIGHT
TZOFFSETFROM:+0000
TZOFFSETTO:+0100
TZNAME:WEST
DTSTART:20240331T010000
END:DAYLIGHT
BEGIN:STANDARD
TZOFFSETFROM:+0100
TZOFFSETTO:+0000
TZNAME:WET
DTSTART:20241027T010000
END:STANDARD
BEGIN:DAYLIGHT
TZOFFSETFROM:+0000
TZOFFSETTO:+0100
TZNAME:WEST
DTSTART:20250330T010000
END:DAYLIGHT
BEGIN:STANDARD
TZOFFSETFROM:+0100
TZOFFSETTO:+0000
TZNAME:WET
DTSTART:20251026T010000
END:STANDARD
BEGIN:DAYLIGHT
TZOFFSETFROM:+0000
TZOFFSETTO:+0100
TZNAME:WEST
DTSTART:20260329T010000
END:DAYLIGHT
BEGIN:STANDARD
TZOFFSETFROM:+0100
TZOFFSETTO:+0000
TZNAME:WET
DTSTART:20261025T010000
END:STANDARD
END:VTIMEZONE
BEGIN:VEVENT
DTSTART;VALUE=DATE:20250430
DTEND;VALUE=DATE:20250505
DTSTAMP:20260422T174302
CREATED:20250425T124013Z
LAST-MODIFIED:20250425T124013Z
UID:594-1745971200-1746403199@eventosagenda.com
SUMMARY:Feira de Maio 2025
DESCRIPTION:
URL:https://eventosagenda.com/event/feira-de-maio-2025/
LOCATION:Felgueiras\, Felgueiras\, Porto\, Portugal
CATEGORIES:Festas & Festivals,Markets & Fairs
ATTACH;FMTTYPE=image/jpeg:https://eventosagenda.com/wp-content/uploads/2025/04/facebook_1745562330053_7321419063191665812.jpg
END:VEVENT
BEGIN:VEVENT
DTSTART;TZID=Europe/Lisbon:20250501T100000
DTEND;TZID=Europe/Lisbon:20250501T180000
DTSTAMP:20260422T174302
CREATED:20250430T113349Z
LAST-MODIFIED:20250430T113400Z
UID:828-1746093600-1746122400@eventosagenda.com
SUMMARY:Mercado da Primavera - Velharis na Aldeia de Pera
DESCRIPTION:Come and visit the market of secondhand items and antiques tomorrow in Pera\, Castanheira de Pera\, from 10h00…\n\n\nCome and visit the second hand and antiques market tomorrow in Pera\, starting at 10.00 …\n\n\nA Associação Terras de Peralta\, no concelho de Castanheira de Pera\, vai levar a efeito\, no próximo dia 1 de maio\, o Mercado da Primavera. Trata-se de uma Feira de Velharias e Antiguidades que vai decorrer entre as 10:00 e as 18:00.\nVai acontecer no recinto circunscrito à sede da associação\, na aldeia de Pêra e todas as pessoas da aldeia são convidadas a vender\, assim o entendam\, os seus objetos em segunda mãos ou antiguidades.\nOs participantes e público terão direito a almoço\, mediante inscrição e pagamento.\nO Mercado da Primavera é gratuito\, mas os interessados em participar deverão inscrever-se através dos números de telemóvel 919 417 546 ou 913 249 617. As bancas deverão ser montadas no dia a partir das 08:00.
URL:https://eventosagenda.com/event/mercado-da-primavera-velharis-na-aldeia-de-pera/
LOCATION:Velharis na Aldeia de Pera\, Castanheira de Pera\, Leiria\, Portugal
CATEGORIES:Markets & Fairs
ATTACH;FMTTYPE=image/jpeg:https://eventosagenda.com/wp-content/uploads/2025/04/Mercado.jpg
END:VEVENT
BEGIN:VEVENT
DTSTART;TZID=Europe/Lisbon:20250509T220000
DTEND;TZID=Europe/Lisbon:20250511T200000
DTSTAMP:20260422T174302
CREATED:20250430T110925Z
LAST-MODIFIED:20250430T110925Z
UID:816-1746828000-1746993600@eventosagenda.com
SUMMARY:Feira Agricola Vale do Mouro - Segude
DESCRIPTION:
URL:https://eventosagenda.com/event/feira-agricola-vale-do-mouro-segude/
LOCATION:Segude\, Monção\, Viana do Castelo\, Portugal
CATEGORIES:Festas & Festivals,Markets & Fairs
ATTACH;FMTTYPE=image/jpeg:https://eventosagenda.com/wp-content/uploads/2025/04/facebook_1745930851312_7322964753382103184.jpg
END:VEVENT
BEGIN:VEVENT
DTSTART;TZID=Europe/Lisbon:20250510T110000
DTEND;TZID=Europe/Lisbon:20250510T150000
DTSTAMP:20260422T174302
CREATED:20250406T124723Z
LAST-MODIFIED:20250406T124723Z
UID:155-1746874800-1746889200@eventosagenda.com
SUMMARY:Mercado da Quinta - Plant Fair
DESCRIPTION:
URL:https://eventosagenda.com/event/mercado-da-quinta-plant-fair/
LOCATION:Alpedrinha\, Alpedrinha\, Castelo Branco\, Portugal
CATEGORIES:Markets & Fairs
ATTACH;FMTTYPE=image/jpeg:https://eventosagenda.com/wp-content/uploads/2025/04/Plant-Fair.jpg
END:VEVENT
BEGIN:VEVENT
DTSTART;TZID=Europe/Lisbon:20250511T150000
DTEND;TZID=Europe/Lisbon:20250511T150000
DTSTAMP:20260422T174302
CREATED:20250508T080813Z
LAST-MODIFIED:20250508T080833Z
UID:1281-1746975600-1746975600@eventosagenda.com
SUMMARY:Leilão - Livração\, Marco de Canaveses
DESCRIPTION:
URL:https://eventosagenda.com/event/leilao-livracao-marco-de-canaveses/
LOCATION:Largo da Livração\, Marco de Canaveses\, Porto\, Portugal
CATEGORIES:Markets & Fairs
ATTACH;FMTTYPE=image/jpeg:https://eventosagenda.com/wp-content/uploads/2025/05/facebook_1746673682269_7326080412237113997.jpg
END:VEVENT
BEGIN:VEVENT
DTSTART;VALUE=DATE:20250515
DTEND;VALUE=DATE:20250519
DTSTAMP:20260422T174302
CREATED:20250425T172503Z
LAST-MODIFIED:20250425T172641Z
UID:638-1747267200-1747612799@eventosagenda.com
SUMMARY:Feiras Francas de Fafe 2025
DESCRIPTION:
URL:https://eventosagenda.com/event/feiras-francas-de-fafe-2025/
LOCATION:Fafe\, Fafe\, Braga\, Portugal
CATEGORIES:Festas & Festivals,Markets & Fairs
ATTACH;FMTTYPE=image/jpeg:https://eventosagenda.com/wp-content/uploads/2025/04/facebook_1745185025675_7319836533932864126.jpg
END:VEVENT
BEGIN:VEVENT
DTSTART;TZID=Europe/Lisbon:20250524T103000
DTEND;TZID=Europe/Lisbon:20250524T190000
DTSTAMP:20260422T174302
CREATED:20250516T122415Z
LAST-MODIFIED:20250516T122415Z
UID:1670-1748082600-1748113200@eventosagenda.com
SUMMARY:Festival Intercultural - Côja
DESCRIPTION:
URL:https://eventosagenda.com/event/festival-intercultural-coja/
LOCATION:Côja\, Coja\, Arganil\, Coimbra\, Portugal
CATEGORIES:Festas & Festivals
ATTACH;FMTTYPE=image/jpeg:https://eventosagenda.com/wp-content/uploads/2025/05/facebook_1747320406544_7328792970455731395.jpg
END:VEVENT
BEGIN:VEVENT
DTSTART;TZID=Europe/Lisbon:20250524T110000
DTEND;TZID=Europe/Lisbon:20250524T170000
DTSTAMP:20260422T174302
CREATED:20250430T094453Z
LAST-MODIFIED:20250430T094604Z
UID:780-1748084400-1748106000@eventosagenda.com
SUMMARY:Bazar D' Aldeia - Monte Gordo
DESCRIPTION:Mais uma exposição de produtos das nossas gentesMais uma oportunidade de destralharMais uma ocasião para conviverMais uma atividade dinâmicaMais gente positivaSEMPRE A SOMAR  \n  \n👉 Another exhibition of our people’s products\n👉 Another opportunity to declutter\n👉 Another opportunity to socialize\n👉Another dynamic activity\n👉More positive people\n🌻🍀🌹ALWAYS ADDING UP 🌹🍀🌻
URL:https://eventosagenda.com/event/bazar-d-aldeia-monte-gordo/
LOCATION:Monte Gordo\, Sarzedas\, Castelo Branco\, Portugal
CATEGORIES:Markets & Fairs
ATTACH;FMTTYPE=image/jpeg:https://eventosagenda.com/wp-content/uploads/2025/04/Monte-Gordo.jpg
END:VEVENT
BEGIN:VEVENT
DTSTART;VALUE=DATE:20250530
DTEND;VALUE=DATE:20250602
DTSTAMP:20260422T174302
CREATED:20250513T190903Z
LAST-MODIFIED:20250513T190903Z
UID:1529-1748563200-1748822399@eventosagenda.com
SUMMARY:Feira da Cereja - Vila do Ferro
DESCRIPTION:
URL:https://eventosagenda.com/event/feira-da-cereja-vila-do-ferro/
LOCATION:Vila do Ferro\, Vila do Ferro\, Covilhã\, Castelo Branco\, Portugal
CATEGORIES:Festas & Festivals,Food & Drink
ATTACH;FMTTYPE=image/jpeg:https://eventosagenda.com/wp-content/uploads/2025/05/facebook_1747159027114_7328116096062467107.jpg
END:VEVENT
BEGIN:VEVENT
DTSTART;VALUE=DATE:20250530
DTEND;VALUE=DATE:20250602
DTSTAMP:20260422T174302
CREATED:20250528T154826Z
LAST-MODIFIED:20250528T154826Z
UID:2097-1748563200-1748822399@eventosagenda.com
SUMMARY:XI Feira do Enchido e do Presunto - Atalaia do Campo
DESCRIPTION:
URL:https://eventosagenda.com/event/xi-feira-do-enchido-e-do-presunto-atalaia-do-campo/
LOCATION:Altalaia do Campo\, Atalaia do Campo\, Castelo Branco\, Portugal
CATEGORIES:Food & Drink,Markets & Fairs
ATTACH;FMTTYPE=image/jpeg:https://eventosagenda.com/wp-content/uploads/2025/05/facebook_1748445466276_7333511812986680086.jpg
END:VEVENT
BEGIN:VEVENT
DTSTART;TZID=Europe/Lisbon:20250531T100000
DTEND;TZID=Europe/Lisbon:20250531T100000
DTSTAMP:20260422T174302
CREATED:20250527T131228Z
LAST-MODIFIED:20250527T131228Z
UID:1982-1748685600-1748685600@eventosagenda.com
SUMMARY:Summer Food & Craft Fair
DESCRIPTION:
URL:https://eventosagenda.com/event/summer-food-craft-fair/
LOCATION:Alvaiázere\, Alvaiázere\, Leiria\, Portugal
CATEGORIES:Markets & Fairs
ATTACH;FMTTYPE=image/jpeg:https://eventosagenda.com/wp-content/uploads/2025/05/494064914_122159815454575290_2046756939255816068_n.jpg
END:VEVENT
BEGIN:VEVENT
DTSTART;TZID=Europe/Lisbon:20250531T110000
DTEND;TZID=Europe/Lisbon:20250531T170000
DTSTAMP:20260422T174302
CREATED:20250429T120340Z
LAST-MODIFIED:20250429T120340Z
UID:672-1748689200-1748710800@eventosagenda.com
SUMMARY:Festival de Horticultura - Tábua
DESCRIPTION:
URL:https://eventosagenda.com/event/festival-de-horticultura-tabua/
LOCATION:Tábua\, Tábua\, Coimbra\, 3420-330\, Portugal
CATEGORIES:Community,Markets & Fairs
ATTACH;FMTTYPE=image/jpeg:https://eventosagenda.com/wp-content/uploads/2025/04/facebook_1745908254664_7322869976172970505.jpg
END:VEVENT
END:VCALENDAR