BEGIN:VCALENDAR
VERSION:2.0
PRODID:-// - ECPv6.15.20//NONSGML v1.0//EN
CALSCALE:GREGORIAN
METHOD:PUBLISH
X-ORIGINAL-URL:https://eventosagenda.com
X-WR-CALDESC:Events for 
REFRESH-INTERVAL;VALUE=DURATION:PT1H
X-Robots-Tag:noindex
X-PUBLISHED-TTL:PT1H
BEGIN:VTIMEZONE
TZID:Europe/Lisbon
BEGIN:DAYLIGHT
TZOFFSETFROM:+0000
TZOFFSETTO:+0100
TZNAME:WEST
DTSTART:20250330T010000
END:DAYLIGHT
BEGIN:STANDARD
TZOFFSETFROM:+0100
TZOFFSETTO:+0000
TZNAME:WET
DTSTART:20251026T010000
END:STANDARD
BEGIN:DAYLIGHT
TZOFFSETFROM:+0000
TZOFFSETTO:+0100
TZNAME:WEST
DTSTART:20260329T010000
END:DAYLIGHT
BEGIN:STANDARD
TZOFFSETFROM:+0100
TZOFFSETTO:+0000
TZNAME:WET
DTSTART:20261025T010000
END:STANDARD
BEGIN:DAYLIGHT
TZOFFSETFROM:+0000
TZOFFSETTO:+0100
TZNAME:WEST
DTSTART:20270328T010000
END:DAYLIGHT
BEGIN:STANDARD
TZOFFSETFROM:+0100
TZOFFSETTO:+0000
TZNAME:WET
DTSTART:20271031T010000
END:STANDARD
END:VTIMEZONE
BEGIN:VEVENT
DTSTART;VALUE=DATE:20260521
DTEND;VALUE=DATE:20260525
DTSTAMP:20260421T174730
CREATED:20260413T123408Z
LAST-MODIFIED:20260413T123442Z
UID:4998-1779321600-1779667199@eventosagenda.com
SUMMARY:XXVI ExpoÉgua e IV Festival da Biosfera - Golegã
DESCRIPTION:A celebration of horse breeding\, local nature\, and traditional gastronomy. This 4-day event focuses on the Lusitano horse and the regional culture of the Ribatejo. \nKey Features: \n\n\nRomaria a São Martinho: A traditional religious pilgrimage/gathering. \n\n\nBiosphere Festival: Focused on the Paul do Boquilobo nature reserve. \n\n\nFood & Drink Exhibitions: \n\n\nV Encontro de Vinhos: Wine meeting/tasting. \n\n\nIV Mostra Gastronómica do Peixe do Rio: River fish food exhibition. \n\n\nIII Salão do Azeite: Olive oil exhibition. \n\n\nII Mostra de Produtos Endógenos: Local regional products showcase.
URL:https://eventosagenda.com/event/xxvi-expoegua-e-iv-festival-da-biosfera-golega/
LOCATION:Golegã\, Golegã\, Santarém\, Portugal
CATEGORIES:Festas & Festivals,Markets & Fairs
ATTACH;FMTTYPE=image/jpeg:https://eventosagenda.com/wp-content/uploads/2026/04/05-21-Golega.jpg
END:VEVENT
BEGIN:VEVENT
DTSTART;VALUE=DATE:20260702
DTEND;VALUE=DATE:20260706
DTSTAMP:20260421T174730
CREATED:20260123T095757Z
LAST-MODIFIED:20260123T095757Z
UID:4753-1782950400-1783295999@eventosagenda.com
SUMMARY:XVII Feira do Cavalo - Ponte de Lima
DESCRIPTION:XVII Feira do Cavalo – Ponte de Lima\nThe Feira do Cavalo de Ponte de Lima is one of the most important equestrian events in Portugal\, bringing together sport\, tradition and culture in a celebration of the horse and equestrian heritage. \nHeld annually at Expolima\, the fair attracts national and international riders\, breeders\, professionals and visitors. The programme combines high-level equestrian competitions with cultural and recreational activities\, making it appealing to both specialists and the general public. \nHighlights typically include: \n\n\nInternational and national dressage competitions \n\n\nLusitano horse model and movement competitions \n\n\nHorseball\, carriage driving and equitation events \n\n\nEquestrian galas\, exhibitions and themed shows \n\n\nCultural activities linked to local traditions \n\n\nThe event plays a key role in promoting Portuguese equestrian culture\, particularly the Lusitano breed\, while also boosting tourism and the local economy. Over the years\, it has gained strong national and international recognition and is considered a flagship event in Ponte de Lima’s cultural calendar.
URL:https://eventosagenda.com/event/xvii-feira-do-cavalo-ponte-de-lima-2/
LOCATION:Ponte de Lima\, Ponte de Lima\, Viana do Castelo\, Portugal
CATEGORIES:Festas & Festivals,Sports & Games
ATTACH;FMTTYPE=image/jpeg:https://eventosagenda.com/wp-content/uploads/2026/01/07-02-Ponte-de-Lima.jpg
END:VEVENT
BEGIN:VEVENT
DTSTART;VALUE=DATE:20261106
DTEND;VALUE=DATE:20261116
DTSTAMP:20260421T174730
CREATED:20260109T122549Z
LAST-MODIFIED:20260109T123010Z
UID:4538-1793923200-1794787199@eventosagenda.com
SUMMARY:Golegã Horse Fair - Golegã
DESCRIPTION:The Golegã Horse Fair (Feira Nacional do Cavalo) is one of Portugal’s most iconic annual cultural and equestrian events\, held every November in the historic town of Golegã — often called the Capital of the Horse. For over a century\, this ten-day celebration brings together riders\, breeders and visitors from across Portugal and beyond to honour the majestic Lusitano horse\, showcase top-class equestrian competitions\, parades and dressage displays\, and enjoy traditional music\, food and local festivities in a vibrant town transformed by horse culture.
URL:https://eventosagenda.com/event/golega-horse-fair-golega/
LOCATION:Golegã\, Golegã\, Santarém\, Portugal
CATEGORIES:Festas & Festivals,Markets & Fairs
ATTACH;FMTTYPE=image/jpeg:https://eventosagenda.com/wp-content/uploads/2026/01/06-11-Golega.jpg
END:VEVENT
END:VCALENDAR