BEGIN:VCALENDAR
VERSION:2.0
PRODID:-// - ECPv6.15.20//NONSGML v1.0//EN
CALSCALE:GREGORIAN
METHOD:PUBLISH
X-ORIGINAL-URL:https://eventosagenda.com
X-WR-CALDESC:Events for 
REFRESH-INTERVAL;VALUE=DURATION:PT1H
X-Robots-Tag:noindex
X-PUBLISHED-TTL:PT1H
BEGIN:VTIMEZONE
TZID:Europe/Lisbon
BEGIN:DAYLIGHT
TZOFFSETFROM:+0000
TZOFFSETTO:+0100
TZNAME:WEST
DTSTART:20240331T010000
END:DAYLIGHT
BEGIN:STANDARD
TZOFFSETFROM:+0100
TZOFFSETTO:+0000
TZNAME:WET
DTSTART:20241027T010000
END:STANDARD
BEGIN:DAYLIGHT
TZOFFSETFROM:+0000
TZOFFSETTO:+0100
TZNAME:WEST
DTSTART:20250330T010000
END:DAYLIGHT
BEGIN:STANDARD
TZOFFSETFROM:+0100
TZOFFSETTO:+0000
TZNAME:WET
DTSTART:20251026T010000
END:STANDARD
BEGIN:DAYLIGHT
TZOFFSETFROM:+0000
TZOFFSETTO:+0100
TZNAME:WEST
DTSTART:20260329T010000
END:DAYLIGHT
BEGIN:STANDARD
TZOFFSETFROM:+0100
TZOFFSETTO:+0000
TZNAME:WET
DTSTART:20261025T010000
END:STANDARD
END:VTIMEZONE
BEGIN:VEVENT
DTSTART;TZID=Europe/Lisbon:20250706T090000
DTEND;TZID=Europe/Lisbon:20250706T130000
DTSTAMP:20260420T024953
CREATED:20250517T102016Z
LAST-MODIFIED:20250523T174950Z
UID:1727-1751792400-1751806800@eventosagenda.com
SUMMARY:Passeio de Motas e Motorizadas - Capela Nova de Quintãs\, Aveiro
DESCRIPTION:A Comissão de Festas 2025 convida:\n\n\n Passeio de Motas e motorizadas \n\n\nJunta-te a nós para um dia cheio de adrenalina\, amizade e boa disposição! Um passeio pensado para quem ama motas e para quem gosta de acompanhar o familiar\, amigo ou conhecido num bom passeio.\n\n\nEste será um passeio com paragem para reforço\, convívio\, fotos e descanso\, com segurança e boa disposição.\nNo final\, todos são convidados para um momento de confraternização com boa comida e música.\n\n\nTeremos também almoço para quem não quiser participar no passeio.\n\n\nNão percas tempo\, inscreve-te e marca na tua agenda:\n Data: 6 de Julho\n Hora de Encontro: 9H Capela Nova de Quintãs\, Aveiro\n\n\nClubes de motas\, tragam o vosso grupo!\nFamílias e amigos\, venham celebrar connosco!\n\n\nVive a estrada. Partilha a paixão.\n\n\nContamos convosco \n\n\n\n\nThe Fiesta Committee 2025 invites:\n\n\n Bike and motorbike ride \n\n\nJoin us for a day full of adrenaline\, friendship\, and good mood! A ride designed for those who love motorcycles and for those who like to accompany their family member\, friend or acquaintance on a good ride.\n\n\nThis will be a tour with a stop for reinforcement\, socializing\, photos and rest\, safely and in good mood.\nAt the end\, everyone is invited for a time of fellowship with good food and music.\n\n\nWe will also have lunch for anyone who does not want to join the ride.\n\n\nDon’t miss out\, sign up and mark your calendar:\n Date: July 6\nEn Meeting time: 9 o’clock\, Capela Nova de Quintãs\, Aveiro\n\n\nMotorcycle clubs\, bring your group!\nFamilies and friends come celebrate with us!\n\n\nLive on the road. Share in the passion.\n\n\nWe’re counting on you
URL:https://eventosagenda.com/event/passeio-de-motas-e-motorizadas-capela-nova-de-quintas-aveiro/
LOCATION:Capela Nova de Quintãs\, Aveiro\, Capela Nova de Quintãs\, Aveiro\, Portugal
CATEGORIES:Tours & Trips
ATTACH;FMTTYPE=image/jpeg:https://eventosagenda.com/wp-content/uploads/2025/05/facebook_1747418786466_7329205605751721560.jpg
END:VEVENT
END:VCALENDAR