BEGIN:VCALENDAR
VERSION:2.0
PRODID:-// - ECPv6.15.20//NONSGML v1.0//EN
CALSCALE:GREGORIAN
METHOD:PUBLISH
X-ORIGINAL-URL:https://eventosagenda.com
X-WR-CALDESC:Events for 
REFRESH-INTERVAL;VALUE=DURATION:PT1H
X-Robots-Tag:noindex
X-PUBLISHED-TTL:PT1H
BEGIN:VTIMEZONE
TZID:Europe/Lisbon
BEGIN:DAYLIGHT
TZOFFSETFROM:+0000
TZOFFSETTO:+0100
TZNAME:WEST
DTSTART:20240331T010000
END:DAYLIGHT
BEGIN:STANDARD
TZOFFSETFROM:+0100
TZOFFSETTO:+0000
TZNAME:WET
DTSTART:20241027T010000
END:STANDARD
BEGIN:DAYLIGHT
TZOFFSETFROM:+0000
TZOFFSETTO:+0100
TZNAME:WEST
DTSTART:20250330T010000
END:DAYLIGHT
BEGIN:STANDARD
TZOFFSETFROM:+0100
TZOFFSETTO:+0000
TZNAME:WET
DTSTART:20251026T010000
END:STANDARD
BEGIN:DAYLIGHT
TZOFFSETFROM:+0000
TZOFFSETTO:+0100
TZNAME:WEST
DTSTART:20260329T010000
END:DAYLIGHT
BEGIN:STANDARD
TZOFFSETFROM:+0100
TZOFFSETTO:+0000
TZNAME:WET
DTSTART:20261025T010000
END:STANDARD
END:VTIMEZONE
BEGIN:VEVENT
DTSTART;TZID=Europe/Lisbon:20250601T100000
DTEND;TZID=Europe/Lisbon:20250601T170000
DTSTAMP:20260422T055936
CREATED:20250504T112029Z
LAST-MODIFIED:20250504T112048Z
UID:1033-1748772000-1748797200@eventosagenda.com
SUMMARY:Dia Internacional da Crianças - Palmela
DESCRIPTION:Look out\, child!\n\n\nGet ready for a SUPER fun day celebrating the International Children’s Day!\nOn June 1st\, from 10:00 to 13:00\, the Manuel Bragadesh Sports Center\, in Aires\, will be the scene of a lot of adventure!\n\n\nCome try the GNR frock\, bring your bike or skates and learn traffic rules in a hands-on way (if you don’t have it\, we can borrow it!) ).\nAnd to pull off all the energy\, we will have some awesome inflatables!\n\n\nA day full of fun\, learning and joy awaits you!\n\n\nMark your calendar now and share with your friends!
URL:https://eventosagenda.com/event/dia-internacional-da-criancas-palmela/
LOCATION:Associação Desportiva Palmelense\, Palmela\, Lisboa\, Portugal
CATEGORIES:Community,Festas & Festivals
ATTACH;FMTTYPE=image/jpeg:https://eventosagenda.com/wp-content/uploads/2025/05/facebook_1746285041337_7324450334022855098.jpg
END:VEVENT
BEGIN:VEVENT
DTSTART;TZID=Europe/Lisbon:20250606T180000
DTEND;TZID=Europe/Lisbon:20250608T153000
DTSTAMP:20260422T055936
CREATED:20250605T201923Z
LAST-MODIFIED:20250605T201936Z
UID:2572-1749232800-1749396600@eventosagenda.com
SUMMARY:Convívio Tradicional de Paus 2025 - Paus\, Alquerubim
DESCRIPTION:
URL:https://eventosagenda.com/event/convivio-tradicional-de-paus-2025-paus-alquerubim/
LOCATION:Paus\, Paus\, Alquerubim\, Aveiro\, Portugal
CATEGORIES:Festas & Festivals
ATTACH;FMTTYPE=image/jpeg:https://eventosagenda.com/wp-content/uploads/2025/06/06.06-08-Paus-Alquerubim.jpg
END:VEVENT
BEGIN:VEVENT
DTSTART;TZID=Europe/Lisbon:20250607T080000
DTEND;TZID=Europe/Lisbon:20250607T170000
DTSTAMP:20260422T055936
CREATED:20250518T100333Z
LAST-MODIFIED:20250518T100354Z
UID:1774-1749283200-1749315600@eventosagenda.com
SUMMARY:Caminhada e Sardinhada - Praia Fluvial de Alvito da Beira
DESCRIPTION:
URL:https://eventosagenda.com/event/caminhada-e-sardinhada-praia-fluvial-de-alvito-da-beira/
LOCATION:Alvito da Beira\, Proença-a-Nova\, Castelo Branco\, Portugal
CATEGORIES:Food & Drink,Sports & Games
ATTACH;FMTTYPE=image/jpeg:https://eventosagenda.com/wp-content/uploads/2025/05/facebook_1747402034361_7329135342330810119.jpg
END:VEVENT
BEGIN:VEVENT
DTSTART;TZID=Europe/Lisbon:20250610T110000
DTEND;TZID=Europe/Lisbon:20250610T130000
DTSTAMP:20260422T055936
CREATED:20250523T104243Z
LAST-MODIFIED:20250523T104243Z
UID:1886-1749553200-1749560400@eventosagenda.com
SUMMARY:Mação Celebrações para Portugal Dia
DESCRIPTION:June 10 Celebrations in Mação\n\n\nMação prepares\, once again\, the Celebrations that mark June 10\, Portugal Day\, of Camón and the Portuguese Communities. It is a day to honor the Combatants of our Council and remember those who lost their lives in the Great War and overseas\, in partnership with the City Council of Mação and the Core of the Combatants League.\n\n\nThere will be a scrimmage by the SFUM Band at 11:00 and the Ceremony will begin at 11:30. Tributes take place at the Fighters Lounge.\n\n\nSimilar to other years\, a get-together lunch will take place after the Ceremony\, promoted by the Fighters League Core. Those interested should register with the representatives of the organization in Mação (information and contacts below).\n\n\nPROGRAM\n11:00 am – Ruada by the Maçaense Union Philharmonic Band\n11:30 – Commemorative Ceremony for June 10th (Fighters Away)\n1:00 pm – Lunch Fellowship (registration required)\n\n\nLuncheon sign ups:\nAnthony João Poeiras: 963673598\nJose Anthony Belo: 969737158\nUntil June 6\, 2025
URL:https://eventosagenda.com/event/macao-celebracoes-para-portugal-dia/
LOCATION:Mação\, Mação\, Santarém\, Portugal
CATEGORIES:Community,Food & Drink
ATTACH;FMTTYPE=image/jpeg:https://eventosagenda.com/wp-content/uploads/2025/05/facebook_1747839304882_7330969387826308507.jpg
END:VEVENT
BEGIN:VEVENT
DTSTART;TZID=Europe/Lisbon:20250614T113000
DTEND;TZID=Europe/Lisbon:20250614T113000
DTSTAMP:20260422T055936
CREATED:20250513T204034Z
LAST-MODIFIED:20250513T204052Z
UID:1585-1749900600-1749900600@eventosagenda.com
SUMMARY:Convívio de Idosos - Freguesia da Sertã
DESCRIPTION:
URL:https://eventosagenda.com/event/convivio-de-idosos-freguesia-da-serta/
LOCATION:Sertã\, Sertã\, Castelo Branco\, Portugal
CATEGORIES:Community
ATTACH;FMTTYPE=image/jpeg:https://eventosagenda.com/wp-content/uploads/2025/05/facebook_1746709227719_7326229500661381205.jpg
END:VEVENT
BEGIN:VEVENT
DTSTART;VALUE=DATE:20250620
DTEND;VALUE=DATE:20250623
DTSTAMP:20260422T055936
CREATED:20250517T102924Z
LAST-MODIFIED:20250517T102924Z
UID:1735-1750377600-1750636799@eventosagenda.com
SUMMARY:Root & Rise Gathering - Oliveira do Hospital
DESCRIPTION:Com alegria no coração\, convidamos você para um encontro especial\,\num momento para honrar a luz\, a transformação e a beleza de estarmos juntos.\n\n\nAcreditamos que\, quando os corações se unem\, algo belo pode surgir.\nNo ponto de viragem do Solstício de Verão\, um tempo de luz\, transformação e florescimento\, convidamos-te a reunir-te connosco.\n\n\nPara tornar esta bela experiência possível para todos\, pedimos uma pequena contribuição para cobrir os custos de organização.\n\n\nEste evento é gratuito e aberto a todos. Solicitamos apenas uma pequena contribuição para cobrir as despesas organizacionais\, de forma a tornar esta linda experiência possível para todos.\n\n\nDe sexta-feira à tarde até domingo à noite\, partilharemos uma jornada de práticas inspiradoras para nos reconectarmos connosco mesmos\, uns com os outros e com os ritmos da natureza\n\n\n♡\n\n\nWith joy in our hearts\, we invite you to a special gathering\,\na moment to honor the light\, the transformation\, and the beauty of being together.\n\n\nWe believe that when hearts come together\, something beautiful can arise.\nAt the turning point of the Summer Solstice\, a time of light\, transformation\, and blossoming\, we invite you to gather.\n\n\nTo root deeply.\nTo rise gently.\nTo move\, to rest\, to celebrate life.\nTo be nourished by the simple magic of being together.\n\n\nTo make this beautiful experience possible for everyone\, we ask for a small contribution to cover the organizational costs.\n\n\nFrom Friday afternoon to Sunday evening\, we’ll share a journey of inspiring practices to reconnect with ourselves\, each other\, and the rhythms of nature.\n\n\n What to expect:\n Yoga & Meditation\n Bio-danza & Contact Impro\n DJ Set\n Massage Workshop\n Nourishing food from breakfast to dinner\n Activities for children\n…or simply space to unwind\, connect\, and just be.\n\n\nThe full program will be shared soon.\nLet’s root. Let’s rise. Together.
URL:https://eventosagenda.com/event/root-rise-gathering-oliveira-do-hospital/
LOCATION:Oliveira do Hospital\, Quinta da Carva\, Oliveira do Hospital
CATEGORIES:Festas & Festivals,Lifestyle
ATTACH;FMTTYPE=image/jpeg:https://eventosagenda.com/wp-content/uploads/2025/05/facebook_1747402577789_7329137621632393522.jpg
END:VEVENT
END:VCALENDAR