BEGIN:VCALENDAR
VERSION:2.0
PRODID:-// - ECPv6.15.20//NONSGML v1.0//EN
CALSCALE:GREGORIAN
METHOD:PUBLISH
X-ORIGINAL-URL:https://eventosagenda.com
X-WR-CALDESC:Events for 
REFRESH-INTERVAL;VALUE=DURATION:PT1H
X-Robots-Tag:noindex
X-PUBLISHED-TTL:PT1H
BEGIN:VTIMEZONE
TZID:Europe/Lisbon
BEGIN:DAYLIGHT
TZOFFSETFROM:+0000
TZOFFSETTO:+0100
TZNAME:WEST
DTSTART:20240331T010000
END:DAYLIGHT
BEGIN:STANDARD
TZOFFSETFROM:+0100
TZOFFSETTO:+0000
TZNAME:WET
DTSTART:20241027T010000
END:STANDARD
BEGIN:DAYLIGHT
TZOFFSETFROM:+0000
TZOFFSETTO:+0100
TZNAME:WEST
DTSTART:20250330T010000
END:DAYLIGHT
BEGIN:STANDARD
TZOFFSETFROM:+0100
TZOFFSETTO:+0000
TZNAME:WET
DTSTART:20251026T010000
END:STANDARD
BEGIN:DAYLIGHT
TZOFFSETFROM:+0000
TZOFFSETTO:+0100
TZNAME:WEST
DTSTART:20260329T010000
END:DAYLIGHT
BEGIN:STANDARD
TZOFFSETFROM:+0100
TZOFFSETTO:+0000
TZNAME:WET
DTSTART:20261025T010000
END:STANDARD
END:VTIMEZONE
BEGIN:VEVENT
DTSTART;TZID=Europe/Lisbon:20250511T170000
DTEND;TZID=Europe/Lisbon:20250511T170000
DTSTAMP:20260420T014122
CREATED:20250502T114524Z
LAST-MODIFIED:20250502T114553Z
UID:939-1746982800-1746982800@eventosagenda.com
SUMMARY:Corrida do Tomate - Salvaterra de Magos
DESCRIPTION:A emblemática Corrida do Tomate\, um dos eventos taurinos mais aguardados da região\, volta a realizar-se no próximo dia 11 de maio\, às 17h00\, em Salvaterra de Magos\, com uma edição especial marcada pela homenagem a José da Costa\, figura incontornável do setor agrícola local e grande impulsionador desta iniciativa. \nReconhecido como um dos mais respeitados agricultores da região\, José da Costa será recordado e homenageado numa cerimónia que antecederá o início da corrida\, numa justa distinção pelo seu contributo inestimável para a promoção da cultura e das tradições ribatejanas. \nA edição deste ano promete manter o elevado nível competitivo\, com um atrativo Concurso de Ganadarias que contará com seis prestigiadas divisas: Prudêncio\, Vale do Sorraia\, Ribeiro Telles\, Conde de Murça\, Manuel Veiga e Foro do Almeida. \nO cartel está igualmente recheado de talento\, com a presença dos cavaleiros Marcos Bastinhas\, João Ribeiro Telles e Francisco Palha\, figuras de destaque da tauromaquia nacional\, e dos valorosos grupos de forcados Amadores de Coruche e Amadores de Alcochete\, garantindo uma tarde de grandes emoções na arena. \nThe emblematic Tomato Race\, one of the most awaited taurine events in the region\, will be held again next day 11 May at 17:00in Salvaterra de Magos\, with a special edition marked by tribute to Jose da Costa\, unavoidable figure of the local agricultural sector and great driver of this initiative. \nRecognized as one of the most respected farmers in the region\, Jose da Costa will be remembered and honored in a ceremony that will precede the start of the race\, in a just distinction for his invaluable contribution to the promotion of Ribatejo culture and traditions. \nThis year’s edition promises to maintain the high competitive level\, with a attractive Competition of Ganadarias which will feature six prestigious currencies: Prudentio\, Vale do Sorraia\, Ribeiro Telles\, Conde de Murca\, Manuel Veiga and Foro do Almeida. \nThe cartel is also full of talent\, with the presence of the knights Marcos Bastinhas\, Joao Ribeiro Telles and Francisco Palha\, prominent figures of the national bullfighting\, and of the valiant groups of pitchforks Amateurs of Coruche and Amateurs of Alcochete\, ensuring an afternoon of great emotions in the arena.
URL:https://eventosagenda.com/event/corrida-do-tomate-salvaterra-de-magos/
LOCATION:Salvaterra de Magos\, Salvaterra de Magos\, Santarém\, Portugal
CATEGORIES:Festas & Festivals,Sports & Games
ATTACH;FMTTYPE=image/jpeg:https://eventosagenda.com/wp-content/uploads/2025/05/facebook_1746101254361_7323679475571762284.jpg
END:VEVENT
END:VCALENDAR