BEGIN:VCALENDAR
VERSION:2.0
PRODID:-// - ECPv6.15.20//NONSGML v1.0//EN
CALSCALE:GREGORIAN
METHOD:PUBLISH
X-ORIGINAL-URL:https://eventosagenda.com
X-WR-CALDESC:Events for 
REFRESH-INTERVAL;VALUE=DURATION:PT1H
X-Robots-Tag:noindex
X-PUBLISHED-TTL:PT1H
BEGIN:VTIMEZONE
TZID:Europe/Lisbon
BEGIN:DAYLIGHT
TZOFFSETFROM:+0000
TZOFFSETTO:+0100
TZNAME:WEST
DTSTART:20240331T010000
END:DAYLIGHT
BEGIN:STANDARD
TZOFFSETFROM:+0100
TZOFFSETTO:+0000
TZNAME:WET
DTSTART:20241027T010000
END:STANDARD
BEGIN:DAYLIGHT
TZOFFSETFROM:+0000
TZOFFSETTO:+0100
TZNAME:WEST
DTSTART:20250330T010000
END:DAYLIGHT
BEGIN:STANDARD
TZOFFSETFROM:+0100
TZOFFSETTO:+0000
TZNAME:WET
DTSTART:20251026T010000
END:STANDARD
BEGIN:DAYLIGHT
TZOFFSETFROM:+0000
TZOFFSETTO:+0100
TZNAME:WEST
DTSTART:20260329T010000
END:DAYLIGHT
BEGIN:STANDARD
TZOFFSETFROM:+0100
TZOFFSETTO:+0000
TZNAME:WET
DTSTART:20261025T010000
END:STANDARD
END:VTIMEZONE
BEGIN:VEVENT
DTSTART;VALUE=DATE:20250602
DTEND;VALUE=DATE:20250609
DTSTAMP:20260425T005653
CREATED:20250513T194101Z
LAST-MODIFIED:20250513T194101Z
UID:1557-1748822400-1749427199@eventosagenda.com
SUMMARY:Fluvial Beach Tennis Tour - Proença-a-Nova
DESCRIPTION:Proença-a-Nova returns to welcome the world elite of beach tennis.\n\n\n\nThe Fluvial Beach Playing Field of Ruiva Village\, in Proença-a-Nova\, transforms into the epicentre of international beach tennis again with the 2025 edition of the Fluvial Beach Tennis Tour\, which takes place from June 2 to 8. Over seven days\, the arena will host four international tournaments scoreable for the International Tennis Federation (ITF) rankings\, drawing dozens of elite athletes and fans of the modality.\n\n\n\nIn this edition\, the calendar integrates three BT 50 events – which award monetary prizes distributed equally between male and female pairs – and a BT 10\, exclusively to add up points on the circuit. The sports program is broken down as follows: BT 50\, June 2 and 3; BT 10 to June 4; BT 50 on June 5 and 6 and again another BT 50\, on June 7 and 8. The finals of each of the BT will be streamed live on the Aduane Sports Solutions channels and social media networks.\n\n\n\nWith a total prize value of over $12\,000 and 150 points for the international Beach Tennis ranking\, the event promises to attract athletes from multiple nationalities\, also contributing to the council’s tourism and economic projection.\n\n\n\nRead full story: https://shorturl.at/CDIod
URL:https://eventosagenda.com/event/fluvial-beach-tennis-tour-proenca-a-nova/
LOCATION:Proença-a-Nova\, Proença-a-Nova\, Castelo Branco\, Portugal
CATEGORIES:Sports & Games
ATTACH;FMTTYPE=image/jpeg:https://eventosagenda.com/wp-content/uploads/2025/05/GR0_4175-2.jpg
END:VEVENT
END:VCALENDAR