BEGIN:VCALENDAR
VERSION:2.0
PRODID:-// - ECPv6.15.20//NONSGML v1.0//EN
CALSCALE:GREGORIAN
METHOD:PUBLISH
X-ORIGINAL-URL:https://eventosagenda.com
X-WR-CALDESC:Events for 
REFRESH-INTERVAL;VALUE=DURATION:PT1H
X-Robots-Tag:noindex
X-PUBLISHED-TTL:PT1H
BEGIN:VTIMEZONE
TZID:Europe/Lisbon
BEGIN:DAYLIGHT
TZOFFSETFROM:+0000
TZOFFSETTO:+0100
TZNAME:WEST
DTSTART:20240331T010000
END:DAYLIGHT
BEGIN:STANDARD
TZOFFSETFROM:+0100
TZOFFSETTO:+0000
TZNAME:WET
DTSTART:20241027T010000
END:STANDARD
BEGIN:DAYLIGHT
TZOFFSETFROM:+0000
TZOFFSETTO:+0100
TZNAME:WEST
DTSTART:20250330T010000
END:DAYLIGHT
BEGIN:STANDARD
TZOFFSETFROM:+0100
TZOFFSETTO:+0000
TZNAME:WET
DTSTART:20251026T010000
END:STANDARD
BEGIN:DAYLIGHT
TZOFFSETFROM:+0000
TZOFFSETTO:+0100
TZNAME:WEST
DTSTART:20260329T010000
END:DAYLIGHT
BEGIN:STANDARD
TZOFFSETFROM:+0100
TZOFFSETTO:+0000
TZNAME:WET
DTSTART:20261025T010000
END:STANDARD
END:VTIMEZONE
BEGIN:VEVENT
DTSTART;TZID=Europe/Lisbon:20251101T213000
DTEND;TZID=Europe/Lisbon:20251101T233000
DTSTAMP:20260420T213440
CREATED:20251020T142158Z
LAST-MODIFIED:20251020T142158Z
UID:3909-1762032600-1762039800@eventosagenda.com
SUMMARY:Halloween Party - Orca
DESCRIPTION:
URL:https://eventosagenda.com/event/halloween-party-orca/
LOCATION:Orca\, Orca\, Castelo Branco\, 6230-512\, Portugal
CATEGORIES:Festas & Festivals
ATTACH;FMTTYPE=image/jpeg:https://eventosagenda.com/wp-content/uploads/2025/10/11-01-Orca.jpg
END:VEVENT
BEGIN:VEVENT
DTSTART;TZID=Europe/Lisbon:20251101T190000
DTEND;TZID=Europe/Lisbon:20251101T230000
DTSTAMP:20260420T213440
CREATED:20251020T141928Z
LAST-MODIFIED:20251020T141928Z
UID:3906-1762023600-1762038000@eventosagenda.com
SUMMARY:Magusto dos Socios - Atalaias
DESCRIPTION:
URL:https://eventosagenda.com/event/magusto-dos-socios-atalaias/
LOCATION:Atalaias\, Atalaias\, Proença-a-Nova\, Castelo Branco\, Portugal
CATEGORIES:Food & Drink
ATTACH;FMTTYPE=image/jpeg:https://eventosagenda.com/wp-content/uploads/2025/10/11-01-Atalaia.jpg
END:VEVENT
BEGIN:VEVENT
DTSTART;TZID=Europe/Lisbon:20251101T170000
DTEND;TZID=Europe/Lisbon:20251101T230000
DTSTAMP:20260420T213440
CREATED:20251019T122950Z
LAST-MODIFIED:20251019T123038Z
UID:3886-1762016400-1762038000@eventosagenda.com
SUMMARY:Fado à porta - Paranhosa\, Porto
DESCRIPTION:𝐅𝐀𝐃𝐎 𝐀̀ 𝐏𝐎𝐑𝐓𝐀 | 𝟭 𝗱𝗲 𝗻𝗼𝘃𝗲𝗺𝗯𝗿𝗼\n𝗙𝘂𝘁𝗲𝗯𝗼𝗹 𝗖𝗹𝘂𝗯𝗲 𝗔𝗺𝗶𝗮𝗹 𝗥𝗲𝗴𝗮𝗱𝗼\n\n\nNo dia 𝟭 𝗱𝗲 𝗻𝗼𝘃𝗲𝗺𝗯𝗿𝗼\, sábado\, pelas 𝟭𝟳𝗵𝟬𝟬\, há sessão de Fado\, no 𝗙𝘂𝘁𝗲𝗯𝗼𝗹 𝗖𝗹𝘂𝗯𝗲 𝗔𝗺𝗶𝗮𝗹 𝗥𝗲𝗴𝗮𝗱𝗼\, na Rua Avelar Brotero\, Bl. 19\, cave – 4250-394 Porto.\n\n\n𝗨𝗺𝗮 𝗶𝗻𝗶𝗰𝗶𝗮𝘁𝗶𝘃𝗮 𝗱𝗮 𝗝𝘂𝗻𝘁𝗮 𝗱𝗲 𝗙𝗿𝗲𝗴𝘂𝗲𝘀𝗶𝗮 𝗱𝗲 𝗣𝗮𝗿𝗮𝗻𝗵𝗼𝘀\, 𝗾𝘂𝗲 𝗽𝗿𝗲𝘁𝗲𝗻𝗱𝗲 𝗷𝘂𝗻𝘁𝗮𝗿 𝘁𝗼𝗱𝗼𝘀 𝗼𝘀 𝗣𝗮𝗿𝗮𝗻𝗵𝗲𝗻𝘀𝗲𝘀 𝗾𝘂𝗲 𝗴𝗼𝘀𝘁𝗮𝗺 𝗱𝗲 𝗙𝗮𝗱𝗼\, 𝗱𝗶𝗻𝗮𝗺𝗶𝘇𝗮𝗱𝗮 𝗽𝗼𝗿 𝗦𝗲́𝗿𝗴𝗶𝗼 𝗠𝗮𝗿𝗾𝘂𝗲𝘀 𝗲 𝗖𝗹𝗮́𝘂𝗱𝗶𝗮 𝗟𝗼𝗽𝗲𝘀.\n\n\n𝑬𝒏𝒕𝒓𝒂𝒅𝒂 𝒍𝒊𝒗𝒓𝒆
URL:https://eventosagenda.com/event/fado-a-porta-paranhosa-porto/
LOCATION:Paranhosa\, Paranhosa\, Porto\, Portugal
CATEGORIES:Fado, Concerts & Music
ATTACH;FMTTYPE=image/jpeg:https://eventosagenda.com/wp-content/uploads/2025/10/facebook_1760867672077_7385614320463322932.jpg
END:VEVENT
BEGIN:VEVENT
DTSTART;TZID=Europe/Lisbon:20251101T163000
DTEND;TZID=Europe/Lisbon:20251101T230000
DTSTAMP:20260420T213440
CREATED:20251019T102413Z
LAST-MODIFIED:20251019T102413Z
UID:3799-1762014600-1762038000@eventosagenda.com
SUMMARY:95° Aniversario do Sporte Clube Sobreirense - Sobreira Formosa
DESCRIPTION:𝟗𝟓.º 𝐀𝐧𝐢𝐯𝐞𝐫𝐬𝐚𝐫𝐢𝐨 𝐝𝐨 𝐒𝐩𝐨𝐫𝐭 𝐂𝐥𝐮𝐛𝐞 𝐒𝐨𝐛𝐫𝐞𝐢𝐫𝐞𝐧𝐬𝐞 | 01 de novembro de 2025\n\n\n O Sport Clube Sobreirense celebra com orgulho o seu 95.º aniversário e 𝐜𝐨𝐧𝐯𝐢𝐝𝐚 𝐭𝐨𝐝𝐨𝐬 𝐨𝐬 𝐬𝐨𝐜𝐢𝐨𝐬 𝐞 𝐚 𝐜𝐨𝐦𝐮𝐧𝐢𝐝𝐚𝐝𝐞 a participar neste dia tão especial\, em Sobreira Formosa!\n\n\n A data marca também a 𝐢𝐧𝐚𝐮𝐠𝐮𝐫𝐚𝐜ã𝐨 𝐝𝐚 𝐫𝐞𝐪𝐮𝐚𝐥𝐢𝐟𝐢𝐜𝐚𝐜ã𝐨 𝐝𝐚 𝐬𝐞𝐝𝐞 𝐝𝐨 𝐜𝐥𝐮𝐛𝐞\, um momento simbólico que ficará na história do SCS.\n\n\n O convívio contará com música ao vivo com 𝐁𝐞𝐬𝐬𝐚 & 𝐅𝐢𝐠𝐮𝐞𝐢𝐫𝐞𝐝𝐨\, prometendo uma tarde de boa disposição e celebração!\n\n\n 𝐒𝐚𝐛𝐚𝐝𝐨 | 𝟎𝟏 𝐝𝐞 𝐧𝐨𝐯𝐞𝐦𝐛𝐫𝐨 𝐝𝐞 𝟐𝟎𝟐𝟓\n 𝟏𝟔𝐡𝟑𝟎\n 𝐒𝐨𝐛𝐫𝐞𝐢𝐫𝐚 𝐅𝐨𝐫𝐦𝐨𝐬𝐚\n\n\nVem celebrar connosco 95 anos de história do Sport Clube Sobreirense!
URL:https://eventosagenda.com/event/95-aniversario-do-sporte-clube-sobreirense-sobreira-formosa/
LOCATION:Sobreira Formosa\, Sobreira Formosa\, Castelo Branco\, Portugal
CATEGORIES:Community,Festas & Festivals
ATTACH;FMTTYPE=image/jpeg:https://eventosagenda.com/wp-content/uploads/2025/10/11-01-Sobreira.jpg
END:VEVENT
BEGIN:VEVENT
DTSTART;TZID=Europe/Lisbon:20251101T113000
DTEND;TZID=Europe/Lisbon:20251101T200000
DTSTAMP:20260420T213440
CREATED:20251019T110422Z
LAST-MODIFIED:20251019T110453Z
UID:3829-1761996600-1762027200@eventosagenda.com
SUMMARY:Festa da Castanha - Lapa dos Dinheiros
DESCRIPTION:A Festa da Castanha está de volta à Lapa dos Dinheiros! \n\n\nJunte-se a nós para celebrar o outono com o melhor da nossa terra e não perca o almoço comunitário com as tradicionais feijocas!
URL:https://eventosagenda.com/event/festa-da-castanha-lapa-dos-dinheiros/
LOCATION:Lapa dos Dinheiros\, Lapa dos Dinheiros\, Seia\, Guarda\, Portugal
CATEGORIES:Festas & Festivals,Food & Drink
ATTACH;FMTTYPE=image/jpeg:https://eventosagenda.com/wp-content/uploads/2025/10/11-01-Lapa-dos-Dinheiros.jpg
END:VEVENT
BEGIN:VEVENT
DTSTART;TZID=Europe/Lisbon:20251101T110000
DTEND;TZID=Europe/Lisbon:20251101T150000
DTSTAMP:20260420T213440
CREATED:20250930T075446Z
LAST-MODIFIED:20250930T075531Z
UID:3725-1761994800-1762009200@eventosagenda.com
SUMMARY:Breath of Letting Go: A Samhain Kriya & Gong Journey - Mega Fundeira
DESCRIPTION:As the year turns inwards and the veil between worlds is thin\, we invite you to a powerful ceremony of release and renewal. Join us in the serene valley of Mega Fundeira for a day where ancient breathwork\, mindful connection with nature\, and immersive sound healing guide you to let go of the past and welcome the winter’s quiet with an open heart.\nThis Samhain gathering is designed for conscious transition. We will begin by grounding ourselves with a Nature Resonance Meditation\, tuning into the rhythms of the autumn land. We then harness the active\, purifying power of Rebirthing Kriya—a potent Kundalini Yoga breath technique—to break cycles and release what weighs on the soul. This cathartic journey is then sealed with a deep\, restorative Gong Bath\, allowing the vibrations to integrate your release and bathe your nervous system in profound peace.\n What’s Included:\n· Nature Resonance Meditation: A guided practice to connect with the autumn landscape\, listening to and absorbing the natural frequencies of the valley.· Rebirthing Kriya Workshop: A transformative breathing meditation to purge emotional blocks and stagnant energy.· Restorative Gong Bath: An immersive sound journey to calm the mind\, soothe the body\, and integrate the experience.· Herbal Tea Circle: Share reflections over specially selected\, warming organic teas and wholesome snacks.· Optional upgrade: A 60-minute herbal massage after the event to deeply embody your newfound clarity.\nExchange:\n· Base Experience: €25 (includes all activities + refreshments)· With Massage: €65\n When: Friday\, 1st November 2024  Time: 11:00 – 15:00 (Main Event). Massage slots available from 15:30 onwards.\n Where: Mega Fundeira (address provided after booking)\n Facilitated by:\n· Chanan Tej (Sound Healer & Psychotherapist)· Jarek Krzeminski (Musician & Bodyworker)\n To Join: Message Chanan at chanan@bluemorphoedinburgh.com or WhatsApp +447821796299.\nPlease specify if you’d like to book a massage!\n What to Bring: Wear comfortable\, loose clothing and warm layers for our time outdoors. Bring a yoga mat\, blanket\, and water bottle. (Some mats/blankets available to borrow). Come with an open heart.
URL:https://eventosagenda.com/event/breath-of-letting-go-mega-fundeira/
LOCATION:Mega Fundeira\, Mega Fundeira\, Pedrógão Grande\, Coimbra
CATEGORIES:Community,Lifestyle
ATTACH;FMTTYPE=image/jpeg:https://eventosagenda.com/wp-content/uploads/2025/09/11-01-Mega.jpg
END:VEVENT
BEGIN:VEVENT
DTSTART;TZID=Europe/Lisbon:20251101T100000
DTEND;TZID=Europe/Lisbon:20251101T200000
DTSTAMP:20260420T213440
CREATED:20251019T111828Z
LAST-MODIFIED:20251019T111928Z
UID:3838-1761991200-1762027200@eventosagenda.com
SUMMARY:Festa da Castanha - Marmelete
DESCRIPTION:
URL:https://eventosagenda.com/event/festa-da-castanha-marmelete/
LOCATION:Marmelete\, Marmelete\, Monchique\, Faro\, Portugal
CATEGORIES:Festas & Festivals,Food & Drink
ATTACH;FMTTYPE=image/jpeg:https://eventosagenda.com/wp-content/uploads/2025/10/11-01-Marmelete.jpg
END:VEVENT
BEGIN:VEVENT
DTSTART;TZID=Europe/Lisbon:20251101T090000
DTEND;TZID=Europe/Lisbon:20251101T230000
DTSTAMP:20260420T213440
CREATED:20251020T142840Z
LAST-MODIFIED:20251020T142853Z
UID:3915-1761987600-1762038000@eventosagenda.com
SUMMARY:1° Encontro dos Amigos da Concertina do Pampilhal - Cernache do Bonjardim
DESCRIPTION:
URL:https://eventosagenda.com/event/1-encontro-dos-amigos-da-concertina-do-pampilhal-cernache-do-bonjardim/
LOCATION:Pampilhal\, Pampilhal\, Cernache do Bonjardim\, Castelo Branco\, Portugal
CATEGORIES:Fado, Concerts & Music,Festas & Festivals
ATTACH;FMTTYPE=image/jpeg:https://eventosagenda.com/wp-content/uploads/2025/10/11-01-Pampilhal.jpg
END:VEVENT
BEGIN:VEVENT
DTSTART;TZID=Europe/Lisbon:20251031T213000
DTEND;TZID=Europe/Lisbon:20251101T170000
DTSTAMP:20260420T213440
CREATED:20251022T121728Z
LAST-MODIFIED:20251022T121853Z
UID:3962-1761946200-1762016400@eventosagenda.com
SUMMARY:Feira dos Santos - Mangualde
DESCRIPTION:
URL:https://eventosagenda.com/event/feira-dos-santos-mangualde/
LOCATION:Mangualde\, Mangualde\, Viseu\, Portugal
CATEGORIES:Festas & Festivals,Food & Drink
ATTACH;FMTTYPE=image/jpeg:https://eventosagenda.com/wp-content/uploads/2025/10/11-01-Mangualde.jpg
END:VEVENT
BEGIN:VEVENT
DTSTART;TZID=Europe/Lisbon:20251031T180000
DTEND;TZID=Europe/Lisbon:20251102T190000
DTSTAMP:20260420T213440
CREATED:20251022T121336Z
LAST-MODIFIED:20251022T121432Z
UID:3959-1761933600-1762110000@eventosagenda.com
SUMMARY:Mostra dos Frutos de Outono - Oleiros
DESCRIPTION: 𝗠𝗼𝘀𝘁𝗿𝗮 𝗱𝗼𝘀 𝗙𝗿𝘂𝘁𝗼𝘀 𝗱𝗲 𝗢𝘂𝘁𝗼𝗻𝗼 𝟮𝟬𝟮𝟱 𝟯𝟭 𝗱𝗲 𝗼𝘂𝘁𝘂𝗯𝗿𝗼\, 𝟭 𝗲 𝟮 𝗱𝗲 𝗻𝗼𝘃𝗲𝗺𝗯𝗿𝗼Com a chegada do outono\, Oleiros volta a celebrar os sabores e tradições desta estação com mais uma edição da Mostra dos Frutos de Outono\, um evento promovido pelo Município de Oleiros que valoriza a autenticidade rural e o papel essencial dos produtos endógenos na economia local.Durante três dias\, o Multiusos das Devesas Altas transforma-se num ponto de encontro entre cultura\, gastronomia e natureza\, promovendo a riqueza dos recursos locais e o trabalho das comunidades que mantêm vivas as tradições beirãs.A Mostra destaca produtos emblemáticos que representam o verdadeiro sabor do Outono\, como as aguardentes e licores artesanais\, o azeite\, o vinho\, as castanhas\, o mel e o medronho\, fundamentais para a identidade cultural do concelho de Oleiros.O programa é diversificado e pensado para todas as idades. Entre os destaques estão a atuação da Banda Kompanhia\, o Folk Festival de Folclore Lagos do Zêzere Oleiros 2025\, organizado pelo Rancho Folclórico e Etnográfico de Oleiros\, com o apoio do município\, a XV BTT Rota do Medronho Pinhal Total Oleiros Aventura (com inscrições na página da associação)\, a Caminhada Micológica (com inscrição prévia através do e-mail eventos@cm-oleiros.pt)\, a Jornada Micológica dos Amigos Silvestris\, a apresentação do livro “Casta Callum: Em busca das origens”\, (da autoria de Leonel Azevedo) e o tradicional Magusto\, momento de convívio e partilha tão típico desta época.Para além da animação musical e cultural\, o evento integra também palestras\, concursos gastronómicos\, exposições e atividades de sensibilização sobre a importância da floresta\, da micologia e da produção sustentável.Organizada pelo Município de Oleiros\, com o apoio de diversas entidades locais e regionais\, a Mostra dos Frutos de Outono é uma celebração do território e da sua gente — um convite a redescobrir os sabores\, aromas e tradições que definem o melhor do Outono beirão. Vem viver o Outono em Oleiros — onde a natureza\, a cultura e os sabores se encontram.
URL:https://eventosagenda.com/event/mostra-dos-frutos-de-outono-oleiros/
LOCATION:Oleiros\, Oleiros\, Castelo Branco\, Portugal
CATEGORIES:Festas & Festivals
ATTACH;FMTTYPE=image/jpeg:https://eventosagenda.com/wp-content/uploads/2025/10/10-31-Mostra.jpg
END:VEVENT
BEGIN:VEVENT
DTSTART;VALUE=DATE:20251031
DTEND;VALUE=DATE:20251103
DTSTAMP:20260420T213440
CREATED:20251019T123609Z
LAST-MODIFIED:20251019T123748Z
UID:3890-1761868800-1762127999@eventosagenda.com
SUMMARY:Festas Vale da Pedra 2025
DESCRIPTION:
URL:https://eventosagenda.com/event/festas-vale-da-pedra-2025/
LOCATION:Vale de Pedra\, Leiria\, Vale de Pedra\, Leiria
CATEGORIES:Festas & Festivals
ATTACH;FMTTYPE=image/jpeg:https://eventosagenda.com/wp-content/uploads/2025/10/10-31-Vale-da-Pedra.jpg
END:VEVENT
BEGIN:VEVENT
DTSTART;VALUE=DATE:20251031
DTEND;VALUE=DATE:20251103
DTSTAMP:20260420T213440
CREATED:20251019T104822Z
LAST-MODIFIED:20251019T104903Z
UID:3813-1761868800-1762127999@eventosagenda.com
SUMMARY:Feira da Castanha e Paladares de Outono 2025 - Trancoso
DESCRIPTION:
URL:https://eventosagenda.com/event/feira-da-castanha-e-paladares-de-outono-2025-trancoso/
LOCATION:Trancoso\, Trancoso\, Guarda\, Portugal
CATEGORIES:Festas & Festivals,Food & Drink
ATTACH;FMTTYPE=image/jpeg:https://eventosagenda.com/wp-content/uploads/2025/10/facebook_1760118968272_7382474029100267181.jpg
END:VEVENT
BEGIN:VEVENT
DTSTART;TZID=Europe/Lisbon:20251030T170000
DTEND;TZID=Europe/Lisbon:20251102T233000
DTSTAMP:20260420T213440
CREATED:20251022T121019Z
LAST-MODIFIED:20251022T121019Z
UID:3955-1761843600-1762126200@eventosagenda.com
SUMMARY:Feira do Outono - Corroios
DESCRIPTION:
URL:https://eventosagenda.com/event/feira-do-outono-corroios/
LOCATION:Corroios\, Corroios\, Seixal\, Setúbal\, Portugal
CATEGORIES:Festas & Festivals
ATTACH;FMTTYPE=image/jpeg:https://eventosagenda.com/wp-content/uploads/2025/10/10-30-Corroios.jpg
END:VEVENT
BEGIN:VEVENT
DTSTART;TZID=Europe/Lisbon:20251026T200000
DTEND;TZID=Europe/Lisbon:20251026T230000
DTSTAMP:20260420T213440
CREATED:20250930T072821Z
LAST-MODIFIED:20250930T072834Z
UID:3706-1761508800-1761519600@eventosagenda.com
SUMMARY:Chilli Night - Venda do Preto
DESCRIPTION:
URL:https://eventosagenda.com/event/chilli-night-venda-do-preto/
LOCATION:Venda do Preto\, Venda do Preto\, Alvaiázere\, Leiria\, Portugal
CATEGORIES:Food & Drink
ATTACH;FMTTYPE=image/jpeg:https://eventosagenda.com/wp-content/uploads/2025/09/10-26-Sarrada-Velha.jpg
END:VEVENT
BEGIN:VEVENT
DTSTART;TZID=Europe/Lisbon:20251026T110000
DTEND;TZID=Europe/Lisbon:20251026T160000
DTSTAMP:20260420T213440
CREATED:20250415T081815Z
LAST-MODIFIED:20250415T081815Z
UID:326-1761476400-1761494400@eventosagenda.com
SUMMARY:Relva Market / Mercado de Relva
DESCRIPTION:
URL:https://eventosagenda.com/event/relva-market-mercado-de-relva-7/
LOCATION:Relva\, Relva\, Monsanto\, Castelo Branco\, Portugal
CATEGORIES:Markets & Fairs
ATTACH;FMTTYPE=image/jpeg:https://eventosagenda.com/wp-content/uploads/2025/04/465552328_895792475979700_591932599823029703_n.jpg
END:VEVENT
BEGIN:VEVENT
DTSTART;TZID=Europe/Lisbon:20251026T100000
DTEND;TZID=Europe/Lisbon:20251026T153000
DTSTAMP:20260420T213440
CREATED:20250930T080326Z
LAST-MODIFIED:20250930T080343Z
UID:3731-1761472800-1761492600@eventosagenda.com
SUMMARY:Do Trilho das Janas à Barca d'Amieira - Nisa
DESCRIPTION:A 26 de Outubro\, Domingo\, aventure-se com a Hike Land por terras alentejanas e venha percorrer as escarpadas margens do Tejo\, de encontro dos Trilhos da Jans e da Barca d’Amieira e dos seus recentes passadiços\, onde também teremos oportunidade de atravessar uma vertiginosa ponte pedonal suspensa e de contemplar o maior rio da Península Ibérica num fabuloso miradouro transparente.\n\nPERCURSOIniciamos o nosso percurso na histórica localidade de Amieira do Tejo\, uma das doze vilas da Ordem de Malta\, palco de batalhas durante a crise dinástica de 1383-85 e que fez parte da linha de defesa do Tejo. Caminharemos em direcção às margens do Tejo\, por campos de pasto e zonas florestais onde predominam os sobreiros\, as azinheiras e as oliveiras. Atingidas as escarpadas margens do maior rio da Península Ibérica\, percorremos os novísssimos Passadiços de Nisa\, onde nos aguarda uma alucinante ponte suspensa e um fabuloso miradouro transparente\, que nos darão paisagens deslumbrantes sobre a região e momentos de pura adrenalina. Daqui\, seguiremos lado-a-lado ao Tejo pelo histórico muro de sirga\, que outrora servia para auxiliar a navegação\, rebocando os barcos à força de braços a partir da margem do rio. Por fim e deixando para trás a peculiar localidade de Barca D’Amieira\, subiremos a encosta que nos levará de regresso ao ponto inicial.\n\nCARACTERÍSTICAS TÉCNICASNível 2 – Moderado (Escala de 1 a 5)Distância: 12.50KmDesnível: D+390mTipologia: Circular\n\nPONTO DE ENCONTROLocalização: Na Amieira do Tejo\, junto ao Castelo.\n\nCoordenadas GPSLat: N 39° 30′ 30.3″Long: W 7° 48′ 57.2″\n\n12€ | ParticipanteO Preço Inclui:Guia Hike Land no terreno;Chá;Seguro de Acidentes Pessoais;Seguro de Responsabilidade Civil;Licença RNAAT n.º 1333/2023 do Turismo de Portugal\, reconhecida como Turismo na Natureza pelo ICNF.\n\nO Preço Não Inclui:Transporte até ao ponto de encontro;Outras refeições;Outros não especificamente descritos como incluídos.\n\nN.º Mínimo de Participantes: 5\n\nLimite de Idade: Todos os participantes devem ter\, pelo menos\, 12 anos (devido às especificidades da atividade).
URL:https://eventosagenda.com/event/do-trilho-das-janas-a-barca-damieira-nisa/
LOCATION:Nisa\, Nisa\, Portalegre\, Portugal
CATEGORIES:Sports & Games,Tours & Trips
ATTACH;FMTTYPE=image/jpeg:https://eventosagenda.com/wp-content/uploads/2025/09/10-26-Nisa.jpg
END:VEVENT
BEGIN:VEVENT
DTSTART;TZID=Europe/Lisbon:20251025T213000
DTEND;TZID=Europe/Lisbon:20251025T230000
DTSTAMP:20260420T213440
CREATED:20251019T103021Z
LAST-MODIFIED:20251019T103021Z
UID:3802-1761427800-1761433200@eventosagenda.com
SUMMARY:Festival de Outono - Arzila\, Coimbra
DESCRIPTION:Festival de Outono\n25 de outubro\, 21:30h na Sede do GFEArzila\n\n\nGrupos participantes:\n– Rancho Folclórico “As Lavadeiras” do Sabugo (Sintra)\n– Rancho Regional e Folclórico de Candosa (Tábua)\n– Rancho Folclórico de Zebreiros ( Gondomar)\n– Grupo Folclórico e Etnográfico de Arzila (Coimbra)\n\n\n\nwww.gfearzila.pt
URL:https://eventosagenda.com/event/festival-de-outono-arzila-coimbra/
LOCATION:Arzila\, Arzila\, Coimbra\, Portugal
CATEGORIES:Fado, Concerts & Music
ATTACH;FMTTYPE=image/jpeg:https://eventosagenda.com/wp-content/uploads/2025/10/10-25-Arzila.jpg
END:VEVENT
BEGIN:VEVENT
DTSTART;TZID=Europe/Lisbon:20251025T210000
DTEND;TZID=Europe/Lisbon:20251025T230000
DTSTAMP:20260420T213440
CREATED:20251019T105944Z
LAST-MODIFIED:20251019T105956Z
UID:3826-1761426000-1761433200@eventosagenda.com
SUMMARY:Fado - Cernache do Bonjardim
DESCRIPTION:
URL:https://eventosagenda.com/event/fado-cernache-do-bonjardim/
LOCATION:Cernache do Bonjardim\, Cernache do Bonjardim\, Castelo Branco\, Portugal
CATEGORIES:Fado, Concerts & Music
ATTACH;FMTTYPE=image/jpeg:https://eventosagenda.com/wp-content/uploads/2025/10/10-25-Cernache-do-Bonjardim.jpg
END:VEVENT
BEGIN:VEVENT
DTSTART;TZID=Europe/Lisbon:20251025T210000
DTEND;TZID=Europe/Lisbon:20251025T230000
DTSTAMP:20260420T213440
CREATED:20251019T103444Z
LAST-MODIFIED:20251019T103444Z
UID:3806-1761426000-1761433200@eventosagenda.com
SUMMARY:Noite de Fados - Casa do Povo
DESCRIPTION:O Grupo de Danças e Cantares da Casa do Povo de V. N. de Anha tem o prazer de anunciar mais uma edição da Noite de Fados\, a realizar-se no próximo dia 25 de Outubro\, pelas 21h.\nO evento contará com as vozes de Andreia Ribeiro e Joaquim Macedo\, acompanhados por Pedro Martins na guitarra portuguesa e José Costa Pereira na viola de fado.\nDurante a noite\, haverá serviço de bar com petiscos\, proporcionando um ambiente acolhedor e de convívio.\n Reservas:922 080 146 | 962 460 458 7\,5 fados por pessoa\nContamos com a sua presença para mais uma noite dedicada à tradição e cultura.
URL:https://eventosagenda.com/event/noite-de-fados-casa-do-povo/
LOCATION:Casa do Povo Vila Nova de Anha\, Casa do Povo Vila Nova de Anha\, Viana do Castelo
CATEGORIES:Fado, Concerts & Music
ATTACH;FMTTYPE=image/jpeg:https://eventosagenda.com/wp-content/uploads/2025/10/10-25-Casa-do-Povo.jpg
END:VEVENT
BEGIN:VEVENT
DTSTART;TZID=Europe/Lisbon:20251025T090000
DTEND;TZID=Europe/Lisbon:20251026T180000
DTSTAMP:20260420T213440
CREATED:20250930T072505Z
LAST-MODIFIED:20250930T072557Z
UID:3703-1761382800-1761501600@eventosagenda.com
SUMMARY:XVIII Encontro Escalada - Proença-a-Nova
DESCRIPTION:
URL:https://eventosagenda.com/event/xviii-encontro-escalada-proenca-a-nova/
LOCATION:Proença-a-Nova\, Proença-a-Nova\, Castelo Branco\, Portugal
CATEGORIES:Community,Sports & Games
ATTACH;FMTTYPE=image/jpeg:https://eventosagenda.com/wp-content/uploads/2025/09/10-25-Proenca.jpg
END:VEVENT
BEGIN:VEVENT
DTSTART;TZID=Europe/Lisbon:20251025T080000
DTEND;TZID=Europe/Lisbon:20251025T170000
DTSTAMP:20260420T213440
CREATED:20250930T085152Z
LAST-MODIFIED:20250930T085152Z
UID:3740-1761379200-1761411600@eventosagenda.com
SUMMARY:Maratona de Lisboa 2025
DESCRIPTION:
URL:https://eventosagenda.com/event/maratona-de-lisboa-2025/
LOCATION:Lisboa\, Lisboa\, Lisboa\, Portugal
CATEGORIES:Sports & Games
ATTACH;FMTTYPE=image/webp:https://eventosagenda.com/wp-content/uploads/2025/09/10-25-Lisboa-Marathon.webp
END:VEVENT
BEGIN:VEVENT
DTSTART;VALUE=DATE:20251025
DTEND;VALUE=DATE:20251027
DTSTAMP:20260420T213440
CREATED:20251019T105255Z
LAST-MODIFIED:20251019T105315Z
UID:3817-1761350400-1761523199@eventosagenda.com
SUMMARY:Festa da Castanha - Aldeia do Bispo
DESCRIPTION:
URL:https://eventosagenda.com/event/festa-da-castanha-aldeia-do-bispo/
LOCATION:Aldeia do Bispo\, Aldeia do Bispo\, Guarda\, Guarda\, Portugal
CATEGORIES:Festas & Festivals,Food & Drink
ATTACH;FMTTYPE=image/jpeg:https://eventosagenda.com/wp-content/uploads/2025/10/10-25-Aldeia-do-Bispo.jpg
END:VEVENT
BEGIN:VEVENT
DTSTART;VALUE=DATE:20251025
DTEND;VALUE=DATE:20251026
DTSTAMP:20260420T213440
CREATED:20251010T125401Z
LAST-MODIFIED:20251010T132632Z
UID:3763-1761350400-1761436799@eventosagenda.com
SUMMARY:Inês Louro - Santa Marinha do Zêzere
DESCRIPTION:Uma novidade para vocês vamos ter uma noite maravilhosa de fados dia 25 d e outubro na churrasqueira ideal marque já a sua mesa e venha passar uma noite maravilhosa
URL:https://eventosagenda.com/event/ines-louro-santa-marinha-do-zezere/
LOCATION:Santa Marinha do Zêzere\, Santa Marinha do Zêzere\, Porto\, Portugal
CATEGORIES:Fado, Concerts & Music
ATTACH;FMTTYPE=image/jpeg:https://eventosagenda.com/wp-content/uploads/2025/10/10-25-Zezere.jpg
END:VEVENT
BEGIN:VEVENT
DTSTART;TZID=Europe/Lisbon:20251024T183000
DTEND;TZID=Europe/Lisbon:20251026T210000
DTSTAMP:20260420T213440
CREATED:20251019T110938Z
LAST-MODIFIED:20251019T111028Z
UID:3833-1761330600-1761512400@eventosagenda.com
SUMMARY:Festa da Castanha - Sernancelhe
DESCRIPTION:
URL:https://eventosagenda.com/event/festa-da-castanha-sernancelhe/
LOCATION:Sernancelhe\, Sernancelhe\, Viseu\, Portugal
CATEGORIES:Festas & Festivals,Food & Drink
ATTACH;FMTTYPE=image/jpeg:https://eventosagenda.com/wp-content/uploads/2025/10/10-24-Sernancelhe-2.jpg
END:VEVENT
BEGIN:VEVENT
DTSTART;VALUE=DATE:20251023
DTEND;VALUE=DATE:20251027
DTSTAMP:20260420T213440
CREATED:20250903T193518Z
LAST-MODIFIED:20250903T193518Z
UID:3675-1761177600-1761523199@eventosagenda.com
SUMMARY:Feira da Avenida - Lisboa
DESCRIPTION:
URL:https://eventosagenda.com/event/feira-da-avenida-lisboa-4/
LOCATION:Avenida\, Avenida\, Lisboa\, Portugal
CATEGORIES:Markets & Fairs
ATTACH;FMTTYPE=image/png:https://eventosagenda.com/wp-content/uploads/2025/09/Avenida-Fair.png
END:VEVENT
BEGIN:VEVENT
DTSTART;TZID=Europe/Lisbon:20251022T180000
DTEND;TZID=Europe/Lisbon:20251022T230000
DTSTAMP:20260420T213440
CREATED:20251019T105640Z
LAST-MODIFIED:20251019T105640Z
UID:3822-1761156000-1761174000@eventosagenda.com
SUMMARY:Currylicious Celebrating Diwali Festival of Lights
DESCRIPTION:
URL:https://eventosagenda.com/event/currylicious-celebrating-diwali-festival-of-lights/
LOCATION:Miranda do Corvo\, Miranda do Corvo\, Coimbra\, Portugal
CATEGORIES:Food & Drink
ATTACH;FMTTYPE=image/jpeg:https://eventosagenda.com/wp-content/uploads/2025/10/facebook_1760207925406_7382847142366264507.jpg
END:VEVENT
BEGIN:VEVENT
DTSTART;VALUE=DATE:20251019
DTEND;VALUE=DATE:20251020
DTSTAMP:20260420T213440
CREATED:20250930T072053Z
LAST-MODIFIED:20250930T072106Z
UID:3700-1760832000-1760918399@eventosagenda.com
SUMMARY:Passeio Micológico - Ansião
DESCRIPTION:
URL:https://eventosagenda.com/event/passeio-micologico-ansiao/
LOCATION:Ansião\, Ansião\, Leiria\, Portugal
CATEGORIES:Community,Food & Drink
ATTACH;FMTTYPE=image/jpeg:https://eventosagenda.com/wp-content/uploads/2025/09/10-19-Ansiao.jpg
END:VEVENT
BEGIN:VEVENT
DTSTART;TZID=Europe/Lisbon:20251018T200000
DTEND;TZID=Europe/Lisbon:20251018T230000
DTSTAMP:20260420T213440
CREATED:20251010T124348Z
LAST-MODIFIED:20251010T124348Z
UID:3751-1760817600-1760828400@eventosagenda.com
SUMMARY:Noire de Fados e Amizades - Venda Nova\, Tomar
DESCRIPTION:
URL:https://eventosagenda.com/event/noire-de-fados-e-amizades-venda-nova-tomar/
LOCATION:Venda Nova\, Venda Nova\, Tomar\, Leiria\, Portugal
CATEGORIES:Fado, Concerts & Music
ATTACH;FMTTYPE=image/jpeg:https://eventosagenda.com/wp-content/uploads/2025/10/10-18-Fad0.jpg
END:VEVENT
BEGIN:VEVENT
DTSTART;TZID=Europe/Lisbon:20251018T190000
DTEND;TZID=Europe/Lisbon:20251018T220000
DTSTAMP:20260420T213440
CREATED:20250930T074943Z
LAST-MODIFIED:20250930T074956Z
UID:3722-1760814000-1760824800@eventosagenda.com
SUMMARY:Autumn Botanical Dinner 2025 - Lousã
DESCRIPTION:Abraça os sabores da estação enquanto os Chefs Gino & Marit te recebem no seu mundo sensorial – uma experiência outonal efémera na Quinta do Areal\, onde cada prato conta uma história.\n\n\nPara esta edição de outubro\, o menu continua a ser guiado pelos ritmos da natureza\, pela narrativa e pela emoção. Cada prato é um convite a pausar e a conectar – com a estação\, com os outros e com a criatividade infinita que a vida inspira.\n\n\n Data: 18 de Outubro\n Hora: 19h – 22h\n Preço: 55€ (inclui jantar de 4 pratos + cocktail de boas-vindas sem álcool)\n Vinho biológico e bebidas não alcoólicas disponíveis para compra durante o jantar.\n Alojamento com pequeno-almoço disponível sob pedido.\n\n\nVem celebrar o outono connosco numa noite inesquecível de sabores\, partilha e conexão à mesa.\n\n Reserva o teu lugar no nosso site: https://quintadoareal.com/…/expe…/jantar-botanico-outono\n\nEN: Embrace the flavours of the season as Chefs Gino & Marit welcome you into their sensorial world – a fleeting autumnal experience at Quinta do Areal\, where every dish tells a story.\n\n\nFor this October edition\, the menu continues to be guided by the rhythms of nature\, storytelling and emotion. Each dish is an invitation to pause and connect – with the season\, with one another\, and with the endless creativity that life inspires.\n\n\n Date: 18 October\n Time: 7pm – 10pm\n Price: €55 (includes a four-course dinner + non-alcoholic welcome cocktail)\n A variety of organic wines and non-alcoholic drinks will be available to purchase with dinner.\n Overnight accommodation with breakfast is available on request.\n\n\nJoin us in celebrating autumn with an unforgettable evening of flavour\, connection and togetherness around the table.\n\n\n Reserve your place on our website: https://quintadoareal.com/…/exp…/autumn-botanical-dinner
URL:https://eventosagenda.com/event/autumn-botanical-dinner-2025-lousa/
LOCATION:Lousã\, Lousa\, Coimbra\, Portugal
CATEGORIES:Food & Drink
ATTACH;FMTTYPE=image/jpeg:https://eventosagenda.com/wp-content/uploads/2025/09/10-18-Dinner.jpg
END:VEVENT
BEGIN:VEVENT
DTSTART;TZID=Europe/Lisbon:20251018T100000
DTEND;TZID=Europe/Lisbon:20251019T170000
DTSTAMP:20260420T213440
CREATED:20250806T203326Z
LAST-MODIFIED:20250806T203326Z
UID:3545-1760781600-1760893200@eventosagenda.com
SUMMARY:Autumn Mediterranean Garden Fair - Feira de Jardins Mediterrânicos Outono
DESCRIPTION:
URL:https://eventosagenda.com/event/autumn-mediterranean-garden-fair-feira-de-jardins-mediterranicos-outono/
LOCATION:Lagoa\, Lagoa\, Açores\, Portugal
CATEGORIES:Lifestyle,Markets & Fairs
ATTACH;FMTTYPE=image/jpeg:https://eventosagenda.com/wp-content/uploads/2025/08/Event-image-2025-Autumn-Fair-PT.jpg
END:VEVENT
END:VCALENDAR