BEGIN:VCALENDAR
VERSION:2.0
PRODID:-// - ECPv6.15.20//NONSGML v1.0//EN
CALSCALE:GREGORIAN
METHOD:PUBLISH
X-ORIGINAL-URL:https://eventosagenda.com
X-WR-CALDESC:Events for 
REFRESH-INTERVAL;VALUE=DURATION:PT1H
X-Robots-Tag:noindex
X-PUBLISHED-TTL:PT1H
BEGIN:VTIMEZONE
TZID:Europe/Lisbon
BEGIN:DAYLIGHT
TZOFFSETFROM:+0000
TZOFFSETTO:+0100
TZNAME:WEST
DTSTART:20240331T010000
END:DAYLIGHT
BEGIN:STANDARD
TZOFFSETFROM:+0100
TZOFFSETTO:+0000
TZNAME:WET
DTSTART:20241027T010000
END:STANDARD
BEGIN:DAYLIGHT
TZOFFSETFROM:+0000
TZOFFSETTO:+0100
TZNAME:WEST
DTSTART:20250330T010000
END:DAYLIGHT
BEGIN:STANDARD
TZOFFSETFROM:+0100
TZOFFSETTO:+0000
TZNAME:WET
DTSTART:20251026T010000
END:STANDARD
BEGIN:DAYLIGHT
TZOFFSETFROM:+0000
TZOFFSETTO:+0100
TZNAME:WEST
DTSTART:20260329T010000
END:DAYLIGHT
BEGIN:STANDARD
TZOFFSETFROM:+0100
TZOFFSETTO:+0000
TZNAME:WET
DTSTART:20261025T010000
END:STANDARD
END:VTIMEZONE
BEGIN:VEVENT
DTSTART;TZID=Europe/Lisbon:20250622T083000
DTEND;TZID=Europe/Lisbon:20250622T170000
DTSTAMP:20260422T184122
CREATED:20250530T140454Z
LAST-MODIFIED:20250530T140522Z
UID:2225-1750581000-1750611600@eventosagenda.com
SUMMARY:4° Passeio de Motorizadas - Penha de França
DESCRIPTION:
URL:https://eventosagenda.com/event/4-passeio-de-motorizadas-penha-de-franca/
LOCATION:Penha de França\, Penha de França\, Serta\, Castelo Branco\, Portugal
CATEGORIES:Tours & Trips
ATTACH;FMTTYPE=image/jpeg:https://eventosagenda.com/wp-content/uploads/2025/05/facebook_1748590179809_7334118785536475152.jpg
END:VEVENT
BEGIN:VEVENT
DTSTART;TZID=Europe/Lisbon:20250622T083000
DTEND;TZID=Europe/Lisbon:20250622T153000
DTSTAMP:20260422T184122
CREATED:20250611T162000Z
LAST-MODIFIED:20250611T162000Z
UID:2621-1750581000-1750606200@eventosagenda.com
SUMMARY:17° Passeio Motas e Motorizadas
DESCRIPTION:Bakery Bar!! ️!! ️!! ️!! ️\nThe time has come to show you this beautiful poster\, and with it\, the presentation of yet another event that ADR-Associação Desportiva de Requeixo has prepared for the Request community and for all those who are passionate about 2- or 3-wheeled vehicles.\nWe await your registration\, and we’ll see you again on June 22\n\n\nPs: Don’t leave your registration to the last minute
URL:https://eventosagenda.com/event/17-passeio-motas-e-motorizadas/
LOCATION:Requeixo\, Requeixo\, Aveiro\, Portugal
CATEGORIES:Tours & Trips
ATTACH;FMTTYPE=image/jpeg:https://eventosagenda.com/wp-content/uploads/2025/06/06.22-Pateira-Fermentelos-.jpg
END:VEVENT
BEGIN:VEVENT
DTSTART;TZID=Europe/Lisbon:20250622T083000
DTEND;TZID=Europe/Lisbon:20250622T130000
DTSTAMP:20260422T184122
CREATED:20250513T202033Z
LAST-MODIFIED:20250523T174935Z
UID:1572-1750581000-1750597200@eventosagenda.com
SUMMARY:Passeio de Motorizadas - Vilar da Carga\, Serta
DESCRIPTION:
URL:https://eventosagenda.com/event/passeio-de-motorizadas-vilar-da-carga-serta/
LOCATION:Vilar da Carga\, Serta\, Vilar da Carga\, Serta\, Castelo Branco\, Portugal
CATEGORIES:Tours & Trips
ATTACH;FMTTYPE=image/jpeg:https://eventosagenda.com/wp-content/uploads/2025/05/496227904_642363708805533_3910676241546201861_n.jpg
END:VEVENT
BEGIN:VEVENT
DTSTART;TZID=Europe/Lisbon:20250622T073000
DTEND;TZID=Europe/Lisbon:20250622T073000
DTSTAMP:20260422T184122
CREATED:20250530T140148Z
LAST-MODIFIED:20250530T140203Z
UID:2222-1750577400-1750577400@eventosagenda.com
SUMMARY:4º RAID BTT Rota Ribeira das Carpalhosas - Vale da Pedra\, Leiria
DESCRIPTION:
URL:https://eventosagenda.com/event/4o-raid-btt-rota-ribeira-das-carpalhosas-vale-da-pedra-leiria/
LOCATION:Vale da Pedra\, Cartaxo\, Santarém\, Portugal
CATEGORIES:Sports & Games
ATTACH;FMTTYPE=image/jpeg:https://eventosagenda.com/wp-content/uploads/2025/05/facebook_1748603070180_7334172851669818714.jpg
END:VEVENT
BEGIN:VEVENT
DTSTART;TZID=Europe/Lisbon:20250621T213000
DTEND;TZID=Europe/Lisbon:20250621T213000
DTSTAMP:20260422T184122
CREATED:20250604T073544Z
LAST-MODIFIED:20250604T073544Z
UID:2441-1750541400-1750541400@eventosagenda.com
SUMMARY:Marchas Populares 2025 - Mira
DESCRIPTION:
URL:https://eventosagenda.com/event/marchas-populares-2025-mira/
LOCATION:Mira\, Mira\, Coimbra\, Portugal
CATEGORIES:Festas & Festivals
ATTACH;FMTTYPE=image/jpeg:https://eventosagenda.com/wp-content/uploads/2025/06/facebook_1748809954565_7335040587673189999.jpg
END:VEVENT
BEGIN:VEVENT
DTSTART;TZID=Europe/Lisbon:20250621T210000
DTEND;TZID=Europe/Lisbon:20250621T210000
DTSTAMP:20260422T184122
CREATED:20250523T112823Z
LAST-MODIFIED:20250523T112925Z
UID:1899-1750539600-1750539600@eventosagenda.com
SUMMARY:Santos Populares - Ancora
DESCRIPTION:Sebastian Feast – In Honor of St. Sebastian\n\n\n Come celebrate the Popular Saints \n\n\n Date: June 21\, 2025 (Saturday)\n Location: SIRA Park – Ancora\n\n\nProgram:\nia 21h00 – Bomb Group of Vila Praia de Ancora\n 22h00 – Animation with the Real Sound Trio\nh 11:00 pm – ARA Popular Marches\n\n\nSnacks | Pork in the Bone | Roasted Sardines\n\n\nGuaranteed to be a lot of excitement!\n\n\n Check the location through the poster’s QR Code or go directly to the link: https://maps.app.goo.gl/RL2ZeYLhTQSWYwtv5\n\n\nOrganization: Festas em Honra de S. Sebastião Âncora
URL:https://eventosagenda.com/event/santos-populares-ancora/
LOCATION:Ancora\, Ancora\, Viana do Castelo\, Portugal
CATEGORIES:Festas & Festivals
ATTACH;FMTTYPE=image/jpeg:https://eventosagenda.com/wp-content/uploads/2025/05/498181464_711632394876432_4187710294135106465_n.jpg
END:VEVENT
BEGIN:VEVENT
DTSTART;TZID=Europe/Lisbon:20250621T210000
DTEND;TZID=Europe/Lisbon:20250621T210000
DTSTAMP:20260422T184122
CREATED:20250513T202822Z
LAST-MODIFIED:20250513T202849Z
UID:1577-1750539600-1750539600@eventosagenda.com
SUMMARY:São Pedro'25 - Caíde de Rei
DESCRIPTION:BOMB CRASH – June 26\, 2025\n\n\nRegister\, join a group of friends\, your bomb squad\, or even your family and come join the Holiday Bomb Bash. São Pedro’25 – Caíde de Rei\nJOIN IS FREE AND FREE\n\n\nWe’re counting on you for a great night.
URL:https://eventosagenda.com/event/sao-pedro25-caide-de-rei/
LOCATION:Caíde de Rei\, Caíde de Rei\, Lousada\, Porto\, Portugal
CATEGORIES:Festas & Festivals
ATTACH;FMTTYPE=image/jpeg:https://eventosagenda.com/wp-content/uploads/2025/05/497588085_122159969738386364_3997495574338619169_n.jpg
END:VEVENT
BEGIN:VEVENT
DTSTART;TZID=Europe/Lisbon:20250621T200000
DTEND;TZID=Europe/Lisbon:20250621T200000
DTSTAMP:20260422T184122
CREATED:20250523T100829Z
LAST-MODIFIED:20250523T110714Z
UID:1862-1750536000-1750536000@eventosagenda.com
SUMMARY:Good Times Gathering - Soltice Sounds - São Martinho do Porto
DESCRIPTION:
URL:https://eventosagenda.com/event/good-times-gathering-soltice-sounds-sao-martinho-do-porto/
LOCATION:São Martinho do Porto\, São Martinho do Porto\, Leiria\, Portugal
CATEGORIES:Fado, Concerts & Music,Food & Drink
ATTACH;FMTTYPE=image/jpeg:https://eventosagenda.com/wp-content/uploads/2025/05/IMG-20250522-WA0006.jpg
END:VEVENT
BEGIN:VEVENT
DTSTART;TZID=Europe/Lisbon:20250621T180000
DTEND;TZID=Europe/Lisbon:20250621T180000
DTSTAMP:20260422T184122
CREATED:20250601T092501Z
LAST-MODIFIED:20250601T092501Z
UID:2289-1750528800-1750528800@eventosagenda.com
SUMMARY:Festa da Sardinha - Sipote\, Sertã
DESCRIPTION:
URL:https://eventosagenda.com/event/festa-da-sardinha-sipote-serta/
LOCATION:Sipote\, Sipote\, Sertã\, Castelo Branco\, Portugal
CATEGORIES:Food & Drink
ATTACH;FMTTYPE=image/jpeg:https://eventosagenda.com/wp-content/uploads/2025/06/facebook_1748631142313_7334290594730297485.jpg
END:VEVENT
BEGIN:VEVENT
DTSTART;TZID=Europe/Lisbon:20250621T150000
DTEND;TZID=Europe/Lisbon:20250621T220000
DTSTAMP:20260422T184122
CREATED:20250601T091234Z
LAST-MODIFIED:20250608T091027Z
UID:2278-1750518000-1750543200@eventosagenda.com
SUMMARY:São João Festa - Loivo
DESCRIPTION:
URL:https://eventosagenda.com/event/sao-joao-festa-loivo/
LOCATION:Loivo\, Loivo\, Vila Nova de Cerveira\, Viana do Castelo\, Portugal
CATEGORIES:Festas & Festivals
ATTACH;FMTTYPE=image/jpeg:https://eventosagenda.com/wp-content/uploads/2025/06/facebook_1748461897849_7333580731995661271.jpg
END:VEVENT
BEGIN:VEVENT
DTSTART;TZID=Europe/Lisbon:20250621T143000
DTEND;TZID=Europe/Lisbon:20250621T143000
DTSTAMP:20260422T184122
CREATED:20250603T142814Z
LAST-MODIFIED:20250603T142841Z
UID:2341-1750516200-1750516200@eventosagenda.com
SUMMARY:35° Rally Paper - Eixo
DESCRIPTION:
URL:https://eventosagenda.com/event/35-rally-paper-eixo/
LOCATION:Eixo\, Eixo\, Aveiro\, Portugal
CATEGORIES:Tours & Trips
ATTACH;FMTTYPE=image/jpeg:https://eventosagenda.com/wp-content/uploads/2025/06/WhatsApp-Image-2025-06-03-at-12.14.541.jpeg
END:VEVENT
BEGIN:VEVENT
DTSTART;TZID=Europe/Lisbon:20250621T140000
DTEND;TZID=Europe/Lisbon:20250622T130000
DTSTAMP:20260422T184122
CREATED:20250601T085738Z
LAST-MODIFIED:20250601T085738Z
UID:2265-1750514400-1750597200@eventosagenda.com
SUMMARY:Festas em Honra de S. Paio - Guimarei
DESCRIPTION:
URL:https://eventosagenda.com/event/festas-em-honra-de-s-paio-guimarei/
LOCATION:Guimarei\, Guimarei\, Santo Tirso\, Porto\, Portugal
CATEGORIES:Festas & Festivals
ATTACH;FMTTYPE=image/jpeg:https://eventosagenda.com/wp-content/uploads/2025/06/facebook_1748720125289_7334663816383350885.jpg
END:VEVENT
BEGIN:VEVENT
DTSTART;TZID=Europe/Lisbon:20250621T140000
DTEND;TZID=Europe/Lisbon:20250621T230000
DTSTAMP:20260422T184122
CREATED:20250608T090651Z
LAST-MODIFIED:20250608T090651Z
UID:2603-1750514400-1750546800@eventosagenda.com
SUMMARY:Arraial Azeiteiro - Gafanha da Nazaré
DESCRIPTION:
URL:https://eventosagenda.com/event/arraial-azeiteiro-gafanha-da-nazare/
LOCATION:Gafanha da Nazaré\, Gafanha da Nazaré\, Aveiro\, Portugal
CATEGORIES:Festas & Festivals
ATTACH;FMTTYPE=image/jpeg:https://eventosagenda.com/wp-content/uploads/2025/06/06.21-GdNazare.jpg
END:VEVENT
BEGIN:VEVENT
DTSTART;TZID=Europe/Lisbon:20250621T130000
DTEND;TZID=Europe/Lisbon:20250621T130000
DTSTAMP:20260422T184122
CREATED:20250604T074248Z
LAST-MODIFIED:20250604T074248Z
UID:2448-1750510800-1750510800@eventosagenda.com
SUMMARY:Miga de Peixe - Monte Gordo
DESCRIPTION:
URL:https://eventosagenda.com/event/miga-de-peixe-monte-gordo/
LOCATION:Monte Gordo\, Sarzedas\, Castelo Branco\, Portugal
CATEGORIES:Food & Drink
ATTACH;FMTTYPE=image/jpeg:https://eventosagenda.com/wp-content/uploads/2025/06/facebook_1748796341425_7334983490027747206.jpg
END:VEVENT
BEGIN:VEVENT
DTSTART;TZID=Europe/Lisbon:20250621T080000
DTEND;TZID=Europe/Lisbon:20250624T210000
DTSTAMP:20260422T184122
CREATED:20250517T095355Z
LAST-MODIFIED:20250517T095355Z
UID:1710-1750492800-1750798800@eventosagenda.com
SUMMARY:São João de Pereira - Vila de Argoncilhe
DESCRIPTION:
URL:https://eventosagenda.com/event/sao-joao-de-pereira-vila-de-argoncilhe/
LOCATION:Argoncilhe\, Vila de Argoncilhe\, Aveiro
CATEGORIES:Festas & Festivals
ATTACH;FMTTYPE=image/jpeg:https://eventosagenda.com/wp-content/uploads/2025/05/facebook_1747419393014_7329208149797987170.jpg
END:VEVENT
BEGIN:VEVENT
DTSTART;VALUE=DATE:20250621
DTEND;VALUE=DATE:20250625
DTSTAMP:20260422T184122
CREATED:20250612T155218Z
LAST-MODIFIED:20250612T155230Z
UID:2665-1750464000-1750809599@eventosagenda.com
SUMMARY:Festas em Honra do São João - São Joaninho
DESCRIPTION:
URL:https://eventosagenda.com/event/festas-em-honra-do-sao-joao-sao-joaninho/
LOCATION:São Joaninho\, São Joaninho\, Viseu\, Portugal
CATEGORIES:Festas & Festivals
ATTACH;FMTTYPE=image/jpeg:https://eventosagenda.com/wp-content/uploads/2025/06/facebook_1749673707267_7338663429087431764.jpg
END:VEVENT
BEGIN:VEVENT
DTSTART;VALUE=DATE:20250621
DTEND;VALUE=DATE:20250622
DTSTAMP:20260422T184122
CREATED:20250513T191646Z
LAST-MODIFIED:20250513T191646Z
UID:1536-1750464000-1750550399@eventosagenda.com
SUMMARY:Pé de Lama Summer Fest - Alcogulhe de Cima
DESCRIPTION:
URL:https://eventosagenda.com/event/pe-de-lama-summer-fest-alcogulhe-de-cima/
LOCATION:Alcogulhe de Cima\, Alcogulhe de Cima\, Maceira\, Leiria\, Portugal
CATEGORIES:Fado, Concerts & Music,Festas & Festivals
ATTACH;FMTTYPE=image/jpeg:https://eventosagenda.com/wp-content/uploads/2025/05/facebook_1747133426849_7328008720768463501.jpg
END:VEVENT
BEGIN:VEVENT
DTSTART;VALUE=DATE:20250621
DTEND;VALUE=DATE:20250622
DTSTAMP:20260422T184122
CREATED:20250508T111921Z
LAST-MODIFIED:20250508T112109Z
UID:1289-1750464000-1750550399@eventosagenda.com
SUMMARY:Solstício 2025 - Couca/Cerejeira
DESCRIPTION:
URL:https://eventosagenda.com/event/solsticio-2025-couca-cerejeira/
LOCATION:Praia Fluvial da Cerejeira\, Couca/ Cerejeira\, Castelo Branco\, Portugal
CATEGORIES:Markets & Fairs
ATTACH;FMTTYPE=image/jpeg:https://eventosagenda.com/wp-content/uploads/2025/05/Messenger_creation_8D00F8B0-D0BA-4291-9ED6-87F0C03D0094.jpeg
END:VEVENT
BEGIN:VEVENT
DTSTART;TZID=Europe/Lisbon:20250620T220000
DTEND;TZID=Europe/Lisbon:20250624T000000
DTSTAMP:20260422T184122
CREATED:20250528T160204Z
LAST-MODIFIED:20250528T160204Z
UID:2109-1750456800-1750723200@eventosagenda.com
SUMMARY:FICA '25 - Nelas\, Viseu
DESCRIPTION:
URL:https://eventosagenda.com/event/fica-25-nelas-viseu/
LOCATION:Nelas\, Nelas\, Viseu\, Portugal
CATEGORIES:Festas & Festivals
ATTACH;FMTTYPE=image/jpeg:https://eventosagenda.com/wp-content/uploads/2025/05/facebook_1747642732749_7330144904542811102.jpg
END:VEVENT
BEGIN:VEVENT
DTSTART;TZID=Europe/Lisbon:20250620T220000
DTEND;TZID=Europe/Lisbon:20250624T000000
DTSTAMP:20260422T184122
CREATED:20250520T113957Z
LAST-MODIFIED:20250520T113957Z
UID:1818-1750456800-1750723200@eventosagenda.com
SUMMARY:Festa São João - Canelas
DESCRIPTION:
URL:https://eventosagenda.com/event/festa-sao-joao-canelas/
LOCATION:Canelas\, Canelas\, Vila Nova de Gaia\, Porto\, Portugal
CATEGORIES:Festas & Festivals
ATTACH;FMTTYPE=image/jpeg:https://eventosagenda.com/wp-content/uploads/2025/05/facebook_1747720211602_7330469874406107054.jpg
END:VEVENT
BEGIN:VEVENT
DTSTART;TZID=Europe/Lisbon:20250620T210000
DTEND;TZID=Europe/Lisbon:20250629T170000
DTSTAMP:20260422T184122
CREATED:20250512T134709Z
LAST-MODIFIED:20250512T134728Z
UID:1407-1750453200-1751216400@eventosagenda.com
SUMMARY:Festa das Colertividades 2025 - São Paio de Oleiros
DESCRIPTION:
URL:https://eventosagenda.com/event/festa-das-colertividades-2025-sao-paio-de-oleiros/
LOCATION:São Paio de Oleiros\, Santa Maria da Feira\, Aveiro\, Portugal
CATEGORIES:Festas & Festivals
ATTACH;FMTTYPE=image/jpeg:https://eventosagenda.com/wp-content/uploads/2025/05/facebook_1746954003584_7327256165052454769.jpg
END:VEVENT
BEGIN:VEVENT
DTSTART;TZID=Europe/Lisbon:20250620T200000
DTEND;TZID=Europe/Lisbon:20250622T213000
DTSTAMP:20260422T184122
CREATED:20250512T205923Z
LAST-MODIFIED:20250512T205923Z
UID:1473-1750449600-1750627800@eventosagenda.com
SUMMARY:Festival Lagoa Bom Porto 2025 - Lagoa\, Açores
DESCRIPTION:
URL:https://eventosagenda.com/event/festival-lagoa-bom-porto-2025-lagoa-acores/
LOCATION:Lagoa\, Lagoa\, Açores\, Portugal
CATEGORIES:Festas & Festivals
ATTACH;FMTTYPE=image/jpeg:https://eventosagenda.com/wp-content/uploads/2025/05/496095294_1119965253505105_498746703713975407_n.jpg
END:VEVENT
BEGIN:VEVENT
DTSTART;TZID=Europe/Lisbon:20250620T200000
DTEND;TZID=Europe/Lisbon:20250621T223000
DTSTAMP:20260422T184122
CREATED:20250604T070837Z
LAST-MODIFIED:20250604T070903Z
UID:2415-1750449600-1750545000@eventosagenda.com
SUMMARY:Festas da Martinha - Estoril
DESCRIPTION:
URL:https://eventosagenda.com/event/festas-da-martinha-estoril/
LOCATION:Estoril\, Estoril\, Cascais\, Lisboa\, Portugal
CATEGORIES:Festas & Festivals
ATTACH;FMTTYPE=image/jpeg:https://eventosagenda.com/wp-content/uploads/2025/06/facebook_1748884780073_7335354428602315584.jpg
END:VEVENT
BEGIN:VEVENT
DTSTART;TZID=Europe/Lisbon:20250620T190000
DTEND;TZID=Europe/Lisbon:20250629T140000
DTSTAMP:20260422T184122
CREATED:20250523T172313Z
LAST-MODIFIED:20250523T172332Z
UID:1934-1750446000-1751205600@eventosagenda.com
SUMMARY:São João Festa - Tabuaço
DESCRIPTION:
URL:https://eventosagenda.com/event/sao-joao-festa-tabuaco/
LOCATION:Tabuaço\, Tabuaço\, Viseu\, Portugal
CATEGORIES:Festas & Festivals
ATTACH;FMTTYPE=image/jpeg:https://eventosagenda.com/wp-content/uploads/2025/05/facebook_1748018503967_7331721003266913421.jpg
END:VEVENT
BEGIN:VEVENT
DTSTART;TZID=Europe/Lisbon:20250620T180000
DTEND;TZID=Europe/Lisbon:20250622T233000
DTSTAMP:20260422T184122
CREATED:20250612T154651Z
LAST-MODIFIED:20250612T154651Z
UID:2661-1750442400-1750635000@eventosagenda.com
SUMMARY:Festas em Honra de Nossa Senhora da Conceição - Caranguejeira
DESCRIPTION:
URL:https://eventosagenda.com/event/festas-em-honra-de-nossa-senhora-da-conceicao-caranguejeira/
LOCATION:Caranguejeira\, Caranguejeira\, Leiria\, Portugal
CATEGORIES:Festas & Festivals
ATTACH;FMTTYPE=image/jpeg:https://eventosagenda.com/wp-content/uploads/2025/06/facebook_1749673670348_7338663274237786156.jpg
END:VEVENT
BEGIN:VEVENT
DTSTART;TZID=Europe/Lisbon:20250620T170000
DTEND;TZID=Europe/Lisbon:20250624T223000
DTSTAMP:20260422T184122
CREATED:20250528T113940Z
LAST-MODIFIED:20250528T114020Z
UID:2070-1750438800-1750804200@eventosagenda.com
SUMMARY:Raiz do Monte 2025
DESCRIPTION:
URL:https://eventosagenda.com/event/raiz-do-monte-2025/
LOCATION:Raiz do Monte\, Raiz do Monte\, Vila Real\, Portugal
CATEGORIES:Festas & Festivals
ATTACH;FMTTYPE=image/jpeg:https://eventosagenda.com/wp-content/uploads/2025/05/facebook_1748379263473_7333234138304396132.jpg
END:VEVENT
BEGIN:VEVENT
DTSTART;TZID=Europe/Lisbon:20250620T170000
DTEND;TZID=Europe/Lisbon:20250622T170000
DTSTAMP:20260422T184122
CREATED:20250621T101209Z
LAST-MODIFIED:20250621T101209Z
UID:2829-1750438800-1750611600@eventosagenda.com
SUMMARY:VI Feira Gastronómica e Desportiva do Carvoeiro
DESCRIPTION:
URL:https://eventosagenda.com/event/vi-feira-gastronomica-e-desportiva-do-carvoeiro/
LOCATION:Carvoeiro\, Carvoeiro\, Mação\, Santarém\, Portugal
CATEGORIES:Festas & Festivals
ATTACH;FMTTYPE=image/jpeg:https://eventosagenda.com/wp-content/uploads/2025/06/facebook_1750479178706_7342041821164593282.jpg
END:VEVENT
BEGIN:VEVENT
DTSTART;TZID=Europe/Lisbon:20250620T100000
DTEND;TZID=Europe/Lisbon:20250624T223000
DTSTAMP:20260422T184122
CREATED:20250601T095513Z
LAST-MODIFIED:20250601T095513Z
UID:2308-1750413600-1750804200@eventosagenda.com
SUMMARY:Festa em Honra de São João Baptista - Longos Vales
DESCRIPTION:
URL:https://eventosagenda.com/event/festa-em-honra-de-sao-joao-baptista-longos-vales/
LOCATION:Longos Vales\, Longos\, Vales\, Monção\, Viana do Castelo\, Portugal
CATEGORIES:Festas & Festivals
ATTACH;FMTTYPE=image/jpeg:https://eventosagenda.com/wp-content/uploads/2025/06/facebook_1748461084316_7333577319791136774.jpg
END:VEVENT
BEGIN:VEVENT
DTSTART;VALUE=DATE:20250620
DTEND;VALUE=DATE:20250623
DTSTAMP:20260422T184122
CREATED:20250605T114023Z
LAST-MODIFIED:20250605T114035Z
UID:2488-1750377600-1750636799@eventosagenda.com
SUMMARY:Prove Vinho & Queijo - Coimbra
DESCRIPTION:  Quem resiste à combinação de Vinho e Queijo?\nCom o propósito de promover “sabores que contam histórias” e valorizar vinhos DOC & IGP e os Queijos da Região Centro\, com especial destaque para os Queijos com DOP\, os claustros do Convento de São Francisco\, em Coimbra vão acolher a 1.ª edição do ‘PROVE Vinho & Queijo’.\nEsta mostra enogastronómica será uma celebração única dos sabores autênticos da Região Centro num ambiente animado\, descontraído e educativo que promove a degustação de produtos locais e fomenta a proximidade dos produtores com o público em geral.\n Entrada e Datas: Sexta\, 20 de junho (17h-21h) | Sábado\, 21 de junho (12h-21h) | Domingo\, 22 de junho (12h-19h)Claustros do Convento de São Francisco\, Coimbra\n A iniciativa é de acesso livre e gratuita\, mas para a degustação dos produtos é necessária a aquisição do kit ‘PROVE Vinho & Queijo’\, composto por um copo de vinho e uma tábua\, no valor de €8\,00.
URL:https://eventosagenda.com/event/prove-vinho-queijo-coimbra/
LOCATION:Coimbra\, Coimbra\, Coimbra\, Portugal
CATEGORIES:Food & Drink
ATTACH;FMTTYPE=image/jpeg:https://eventosagenda.com/wp-content/uploads/2025/06/06.20-22-Coimbra.jpg
END:VEVENT
BEGIN:VEVENT
DTSTART;VALUE=DATE:20250620
DTEND;VALUE=DATE:20250622
DTSTAMP:20260422T184122
CREATED:20250605T134520Z
LAST-MODIFIED:20250605T134527Z
UID:2568-1750377600-1750550399@eventosagenda.com
SUMMARY:Arraial dos Santos Populares - Pedreiras
DESCRIPTION:
URL:https://eventosagenda.com/event/arraial-dos-santos-populares-pedreiras/
LOCATION:Pedreiras\, Pedreiras\, Porto de Mós\, Leiria\, Portugal
CATEGORIES:Festas & Festivals
ATTACH;FMTTYPE=image/jpeg:https://eventosagenda.com/wp-content/uploads/2025/06/Pedreiras.jpg
END:VEVENT
END:VCALENDAR