BEGIN:VCALENDAR
VERSION:2.0
PRODID:-// - ECPv6.15.20//NONSGML v1.0//EN
CALSCALE:GREGORIAN
METHOD:PUBLISH
X-ORIGINAL-URL:https://eventosagenda.com
X-WR-CALDESC:Events for 
REFRESH-INTERVAL;VALUE=DURATION:PT1H
X-Robots-Tag:noindex
X-PUBLISHED-TTL:PT1H
BEGIN:VTIMEZONE
TZID:Europe/Lisbon
BEGIN:DAYLIGHT
TZOFFSETFROM:+0000
TZOFFSETTO:+0100
TZNAME:WEST
DTSTART:20240331T010000
END:DAYLIGHT
BEGIN:STANDARD
TZOFFSETFROM:+0100
TZOFFSETTO:+0000
TZNAME:WET
DTSTART:20241027T010000
END:STANDARD
BEGIN:DAYLIGHT
TZOFFSETFROM:+0000
TZOFFSETTO:+0100
TZNAME:WEST
DTSTART:20250330T010000
END:DAYLIGHT
BEGIN:STANDARD
TZOFFSETFROM:+0100
TZOFFSETTO:+0000
TZNAME:WET
DTSTART:20251026T010000
END:STANDARD
BEGIN:DAYLIGHT
TZOFFSETFROM:+0000
TZOFFSETTO:+0100
TZNAME:WEST
DTSTART:20260329T010000
END:DAYLIGHT
BEGIN:STANDARD
TZOFFSETFROM:+0100
TZOFFSETTO:+0000
TZNAME:WET
DTSTART:20261025T010000
END:STANDARD
END:VTIMEZONE
BEGIN:VEVENT
DTSTART;TZID=Europe/Lisbon:20250619T083000
DTEND;TZID=Europe/Lisbon:20250622T230000
DTSTAMP:20260422T184112
CREATED:20250523T114354Z
LAST-MODIFIED:20250523T114354Z
UID:1907-1750321800-1750633200@eventosagenda.com
SUMMARY:São Paio de Gramaços Festa 2025
DESCRIPTION:
URL:https://eventosagenda.com/event/sao-paio-de-gramacos-festa-2025/
LOCATION:São Paio de Gramaços\, São Paio de Gramaços\, Oliveira do Hospital\, Coimbra\, Portugal
CATEGORIES:Festas & Festivals
ATTACH;FMTTYPE=image/jpeg:https://eventosagenda.com/wp-content/uploads/2025/05/499832429_23929675326665641_7341640737747244060_n.jpg
END:VEVENT
BEGIN:VEVENT
DTSTART;TZID=Europe/Lisbon:20250619T080000
DTEND;TZID=Europe/Lisbon:20250630T233000
DTSTAMP:20260422T184112
CREATED:20250429T161933Z
LAST-MODIFIED:20250429T161945Z
UID:697-1750320000-1751326200@eventosagenda.com
SUMMARY:Império de São João 2025 - Largo das Pias\, Livramento
DESCRIPTION:
URL:https://eventosagenda.com/event/imperio-de-sao-joao-2025-largo-das-pias-livramento/
LOCATION:Largo das Pias\, Largo das Pias\, Livramento\, Açores\, Portugal
CATEGORIES:Festas & Festivals
ATTACH;FMTTYPE=image/jpeg:https://eventosagenda.com/wp-content/uploads/2025/04/Sao-Joao.jpg
END:VEVENT
BEGIN:VEVENT
DTSTART;TZID=Europe/Lisbon:20250619T080000
DTEND;TZID=Europe/Lisbon:20250619T080000
DTSTAMP:20260422T184112
CREATED:20250421T113321Z
LAST-MODIFIED:20250523T174917Z
UID:481-1750320000-1750320000@eventosagenda.com
SUMMARY:Passeio turistico de motas e motorizadas - Ravio
DESCRIPTION:
URL:https://eventosagenda.com/event/passeio-turistico-de-motas-e-motorizadas-ravio/
LOCATION:Ravio\, Ravio\, Águeda\, Aveiro\, Portugal
CATEGORIES:Tours & Trips
ATTACH;FMTTYPE=image/jpeg:https://eventosagenda.com/wp-content/uploads/2025/04/facebook_1745215238734_7319963256686325404.jpg
END:VEVENT
BEGIN:VEVENT
DTSTART;VALUE=DATE:20250619
DTEND;VALUE=DATE:20250623
DTSTAMP:20260422T184112
CREATED:20250516T122002Z
LAST-MODIFIED:20250516T122106Z
UID:1663-1750291200-1750636799@eventosagenda.com
SUMMARY:Festival Sabores De Perdição 2025 - Castelo Branco
DESCRIPTION:Castelo Branco\nSabores de Perdição\ncom Xutos & Pontapés\, Pedro Abrunhosa\, Slow J e Nuno Ribeiro\nA Câmara Municipal de Castelo Branco apresentou o Festival Sabores de Perdição\, que decorre nos dias 19\, 20\, 21 e 22 de junho\, no Centro Cívico da cidade.\n\n\nDurante 4 dias\, Castelo Branco transforma-se numa verdadeira celebração dos sabores tradicionais\, da cultura regional e do talento criativo que carateriza a Beira Baixa\, cruzando sabores únicos com momentos de convívio.\n\n\nLeopoldo Rodrigues\, presidente da Câmara Municipal de Castelo Branco\, frisou que o Festival Sabores de\nPerdição “é um momento em que Castelo Branco se afirma como um território rico\, autêntico e acolhedor” e “é um convite à descoberta dos produtos endógenos\, das artes e dos ofícios locais\, da gastronomia regional reinventada com criatividade e da música e animação que enriquecem o programa”.\n\n\nO recinto tem uma nova configuração e “em vez de estar concentrado numa única tenda\, há diferentes espaços com distintos objetivos” e a fonte dinâmica que está a ser construída na Devesa\, com projeções de água\, luz e som\, vai ser parte integrante do evento.\n\n\nO pórtico de entrada para o recinto está localizado em frente ao edifício da Câmara Municipal e estão presentes vários expositores.\nNa Tenda Sabores estão expositores de diversos produtos endógenos\, como o mel\, o vinho\, os licores\, os enchidos\, o queijo\, o feijão\, o pão e os frutos.\nA Tenda Saberes é ocupada por espaços dedicados ao artesanato tradicional\, aos ofícios e profissões da região\, bem como ao Bordado de Castelo Branco.\n\n\nJunto às tendas\, o espaço infantil Sabe a Brincadeira tem várias atividades para as crianças se divertirem durante o evento.\n\n\nA zona de restauração\, intitulada Sabores No Prato\, está situada em frente ao antigo quartel e é composta por 3 restaurantes; na parte superior dos bares da Devesa\, atrás do quiosque\, há uma zona Eco Lounge com tasquinhas de rua e bares.\n\n\nO evento conta com chefs de cozinha que apresentam\, de forma criativa\, pratos inspirados nos sabores da região\, com destaque para o peixe do rio\, a galinha corada\, o borrego merino da Beira Baixa e o cabrito.\n\n\nO palco Música Com Saber está junto do Centro de Cultura Contemporânea e recebe os concertos de Xutos & Pontapés (dia 19 de junho)\, Pedro Abrunhosa (dia 20 de junho)\, Slow J (dia 21 de junho) e Nuno Ribeiro (dia 22 de junho).\n\n\nTambém sobem ao palco grupos de tributos musicais a lendas internacionais\, como Stones Alive (tributo aos Rolling Stones)\, Stingers (tributo aos The Police e a Sting) e Da Boss (tributo a Bruce Springsteen).\n\n\nDestaque\, ainda\, para a participação especial dos Coros e Orquestra Sinfónica do Conservatório e da Escola Profissional do Conservatório Regional de Castelo Branco e da Sinfonietta de Castelo Branco\, com cerca de\n400 alunos em palco\, no domingo\, dia 22 de junho\n\n.
URL:https://eventosagenda.com/event/festival-sabores-de-perdicao-2025-castelo-branco/
LOCATION:Castelo Branco\, Castelo Branco\, Castelo Branco\, Portugal
CATEGORIES:Festas & Festivals
ATTACH;FMTTYPE=image/jpeg:https://eventosagenda.com/wp-content/uploads/2025/05/facebook_1747320164276_7328791954304900301.jpg
END:VEVENT
BEGIN:VEVENT
DTSTART;VALUE=DATE:20250619
DTEND;VALUE=DATE:20250623
DTSTAMP:20260422T184112
CREATED:20250421T113949Z
LAST-MODIFIED:20250612T145543Z
UID:485-1750291200-1750636799@eventosagenda.com
SUMMARY:Feira do Mundo Rural - Travassô
DESCRIPTION:
URL:https://eventosagenda.com/event/feira-do-mundo-rural-travasso/
LOCATION:Travassô\, Travassô\, Aveiro\, Portugal
CATEGORIES:Festas & Festivals,Markets & Fairs
ATTACH;FMTTYPE=image/jpeg:https://eventosagenda.com/wp-content/uploads/2025/04/Rural-World-Fair.jpg
END:VEVENT
BEGIN:VEVENT
DTSTART;VALUE=DATE:20250619
DTEND;VALUE=DATE:20250701
DTSTAMP:20260422T184112
CREATED:20250516T114603Z
LAST-MODIFIED:20250516T114603Z
UID:1636-1750291200-1751327999@eventosagenda.com
SUMMARY:São Pedro da Afurada - Vila Nova de Gaia
DESCRIPTION:
URL:https://eventosagenda.com/event/sao-pedro-da-afurada-vila-nova-de-gaia/
LOCATION:Vila Nova de Gaia\, São Pedro da Afurada\, Porto\, Portugal
CATEGORIES:Festas & Festivals
ATTACH;FMTTYPE=image/jpeg:https://eventosagenda.com/wp-content/uploads/2025/05/facebook_1747346213928_7328901214464961624.jpg
END:VEVENT
BEGIN:VEVENT
DTSTART;TZID=Europe/Lisbon:20250618T220000
DTEND;TZID=Europe/Lisbon:20250620T220000
DTSTAMP:20260422T184112
CREATED:20250603T150309Z
LAST-MODIFIED:20250603T150400Z
UID:2370-1750284000-1750456800@eventosagenda.com
SUMMARY:Festas de Santa Eufémia - Alquerubim
DESCRIPTION:
URL:https://eventosagenda.com/event/festas-de-santa-eufemia-alquerubim/
LOCATION:Alquerubim\, Alquerubim\, Aveiro\, Portugal
CATEGORIES:Festas & Festivals
ATTACH;FMTTYPE=image/jpeg:https://eventosagenda.com/wp-content/uploads/2025/06/06.18-20-Alquerubim.-Eixo.jpg
END:VEVENT
BEGIN:VEVENT
DTSTART;TZID=Europe/Lisbon:20250618T200000
DTEND;TZID=Europe/Lisbon:20250618T200000
DTSTAMP:20260422T184112
CREATED:20250517T103515Z
LAST-MODIFIED:20250517T103800Z
UID:1739-1750276800-1750276800@eventosagenda.com
SUMMARY:White Party - A magia vai acontecer - Negrais\, Sintra
DESCRIPTION:
URL:https://eventosagenda.com/event/white-party-a-magia-vai-acontecer-negrais-sintra/
LOCATION:Negrais\, Quinta monte redondo\, Rua das tomadas\, Negrais\, Sintra\, Lisboa\, Portugal
CATEGORIES:Fado, Concerts & Music,Food & Drink
ATTACH;FMTTYPE=image/jpeg:https://eventosagenda.com/wp-content/uploads/2025/05/facebook_1747401644199_7329133705874539809.jpg
END:VEVENT
BEGIN:VEVENT
DTSTART;TZID=Europe/Lisbon:20250618T190000
DTEND;TZID=Europe/Lisbon:20250623T213000
DTSTAMP:20260422T184112
CREATED:20250604T081327Z
LAST-MODIFIED:20250604T081343Z
UID:2467-1750273200-1750714200@eventosagenda.com
SUMMARY:Festa da Vila de Maceira
DESCRIPTION:
URL:https://eventosagenda.com/event/festa-da-vila-de-maceira/
LOCATION:Maceira\, Maceira\, Leiria\, Portugal
CATEGORIES:Festas & Festivals
ATTACH;FMTTYPE=image/jpeg:https://eventosagenda.com/wp-content/uploads/2025/06/facebook_1749023956432_7335938176560238567.jpg
END:VEVENT
BEGIN:VEVENT
DTSTART;TZID=Europe/Lisbon:20250618T090000
DTEND;TZID=Europe/Lisbon:20250619T220000
DTSTAMP:20260422T184112
CREATED:20250523T173154Z
LAST-MODIFIED:20250523T173154Z
UID:1942-1750237200-1750370400@eventosagenda.com
SUMMARY:Festa em Honra do Santissimo Sacramento - Orbacém
DESCRIPTION:
URL:https://eventosagenda.com/event/festa-em-honra-do-santissimo-sacramento-orbacem/
LOCATION:Orbacém\, Orbacém\, Caminha\, Viana do Castelo\, Portugal
CATEGORIES:Festas & Festivals
ATTACH;FMTTYPE=image/jpeg:https://eventosagenda.com/wp-content/uploads/2025/05/facebook_1748002664930_7331654569528174834.jpg
END:VEVENT
BEGIN:VEVENT
DTSTART;VALUE=DATE:20250618
DTEND;VALUE=DATE:20250623
DTSTAMP:20260422T184112
CREATED:20250601T094816Z
LAST-MODIFIED:20250601T094816Z
UID:2304-1750204800-1750636799@eventosagenda.com
SUMMARY:Festa do Corpo de Deus - A-dos-Negros\, Obidos
DESCRIPTION:
URL:https://eventosagenda.com/event/festa-do-corpo-de-deus-a-dos-negros-obidos/
LOCATION:A-dos-Negros\, A-dos-Negros\, Obidos\, Leiria\, Portugal
CATEGORIES:Festas & Festivals
ATTACH;FMTTYPE=image/jpeg:https://eventosagenda.com/wp-content/uploads/2025/06/facebook_1748684709126_7334515270228567553.jpg
END:VEVENT
BEGIN:VEVENT
DTSTART;VALUE=DATE:20250618
DTEND;VALUE=DATE:20250623
DTSTAMP:20260422T184112
CREATED:20250517T100631Z
LAST-MODIFIED:20250517T100631Z
UID:1723-1750204800-1750636799@eventosagenda.com
SUMMARY:Feira da Vinha e do Vinho - Anadia
DESCRIPTION:
URL:https://eventosagenda.com/event/feira-da-vinha-e-do-vinho-anadia/
LOCATION:Anadia\, Anadia\, Aveiro\, Portugal
CATEGORIES:Festas & Festivals
ATTACH;FMTTYPE=image/jpeg:https://eventosagenda.com/wp-content/uploads/2025/05/facebook_1747463417685_7329392802653580586.jpg
END:VEVENT
BEGIN:VEVENT
DTSTART;VALUE=DATE:20250618
DTEND;VALUE=DATE:20250623
DTSTAMP:20260422T184112
CREATED:20250513T184252Z
LAST-MODIFIED:20250513T184252Z
UID:1503-1750204800-1750636799@eventosagenda.com
SUMMARY:Feir Ourem '25
DESCRIPTION:For tickets – https://www.bol.pt/Comprar/Cartoes/5721-8358-0-passe_geral_feirourem_25-municipio_de_ourem/
URL:https://eventosagenda.com/event/feir-ourem-25/
LOCATION:Ourém\, Ourém\, Santarém\, Portugal
CATEGORIES:Festas & Festivals
ATTACH;FMTTYPE=image/jpeg:https://eventosagenda.com/wp-content/uploads/2025/05/facebook_1747160008873_7328120213858513574.jpg
END:VEVENT
BEGIN:VEVENT
DTSTART;VALUE=DATE:20250617
DTEND;VALUE=DATE:20250623
DTSTAMP:20260422T184112
CREATED:20250527T124911Z
LAST-MODIFIED:20250527T124951Z
UID:1967-1750118400-1750636799@eventosagenda.com
SUMMARY:Corpo de Deus 2025 - Paços de Ferreira
DESCRIPTION:
URL:https://eventosagenda.com/event/corpo-de-deus-2025-pacos-de-ferreira/
LOCATION:Paços de Ferreira\, Paços de Ferreira\, Porto\, Portugal
CATEGORIES:Festas & Festivals
ATTACH;FMTTYPE=image/jpeg:https://eventosagenda.com/wp-content/uploads/2025/05/facebook_1748342605959_7333080385548294325.jpg
END:VEVENT
BEGIN:VEVENT
DTSTART;TZID=Europe/Lisbon:20250615T160000
DTEND;TZID=Europe/Lisbon:20250615T160000
DTSTAMP:20260422T184112
CREATED:20250530T134231Z
LAST-MODIFIED:20250530T134247Z
UID:2204-1750003200-1750003200@eventosagenda.com
SUMMARY:Leilão com Sardinhada - Soutos\, Caranguejeira
DESCRIPTION:Sunday\, June 15\n16h\nBehind the Souto chapel\n\n\nCome along and bring a friend
URL:https://eventosagenda.com/event/leilao-com-sardinhada-soutos-caranguejeira/
LOCATION:Soutos Caranguejeira\, Soutos Caranguejeira\, Leiria\, Portugal
CATEGORIES:Food & Drink
ATTACH;FMTTYPE=image/jpeg:https://eventosagenda.com/wp-content/uploads/2025/05/facebook_1748604064456_7334177021965223861.jpg
END:VEVENT
BEGIN:VEVENT
DTSTART;TZID=Europe/Lisbon:20250615T083000
DTEND;TZID=Europe/Lisbon:20250615T140000
DTSTAMP:20260422T184112
CREATED:20250528T111437Z
LAST-MODIFIED:20250528T111450Z
UID:2048-1749976200-1749996000@eventosagenda.com
SUMMARY:1° Passeio das Maias - Castro Daire
DESCRIPTION:
URL:https://eventosagenda.com/event/1-passeio-das-maias-castro-daire/
LOCATION:Castro Daire\, Castro Daire\, Viseu\, Portugal
CATEGORIES:Tours & Trips
ATTACH;FMTTYPE=image/jpeg:https://eventosagenda.com/wp-content/uploads/2025/05/facebook_1748363081666_7333166266885563933.jpg
END:VEVENT
BEGIN:VEVENT
DTSTART;TZID=Europe/Lisbon:20250615T080000
DTEND;TZID=Europe/Lisbon:20250615T180000
DTSTAMP:20260422T184112
CREATED:20250528T110544Z
LAST-MODIFIED:20250528T110544Z
UID:2035-1749974400-1750010400@eventosagenda.com
SUMMARY:Mercado da Aldeia da Orca
DESCRIPTION:
URL:https://eventosagenda.com/event/mercado-da-aldeia-da-orca/
LOCATION:Orca\, Orca\, Castelo Branco\, 6230-512\, Portugal
CATEGORIES:Markets & Fairs
ATTACH;FMTTYPE=image/jpeg:https://eventosagenda.com/wp-content/uploads/2025/05/facebook_1748362917585_7333165578681186547.jpg
END:VEVENT
BEGIN:VEVENT
DTSTART;TZID=Europe/Lisbon:20250615T080000
DTEND;TZID=Europe/Lisbon:20250615T130000
DTSTAMP:20260422T184112
CREATED:20250421T111938Z
LAST-MODIFIED:20250523T174909Z
UID:474-1749974400-1749992400@eventosagenda.com
SUMMARY:Passeio da Motinhas - Grupo Desportivo e Cultural de Vila Meã
DESCRIPTION:
URL:https://eventosagenda.com/event/passeio-da-motinhas-grupo-desportivo-e-cultural-de-vila-mea/
LOCATION:Vila Meã\, Vila Meã\, Porto\, Portugal
CATEGORIES:Tours & Trips
ATTACH;FMTTYPE=image/jpeg:https://eventosagenda.com/wp-content/uploads/2025/04/facebook_1745229566916_7320023353436323082.jpg
END:VEVENT
BEGIN:VEVENT
DTSTART;TZID=Europe/Lisbon:20250614T213000
DTEND;TZID=Europe/Lisbon:20250614T213000
DTSTAMP:20260422T184112
CREATED:20250604T073432Z
LAST-MODIFIED:20250604T073432Z
UID:2437-1749936600-1749936600@eventosagenda.com
SUMMARY:Marchas Popluares 2025 - Praia de Mira
DESCRIPTION:
URL:https://eventosagenda.com/event/marchas-popluares-2025-praia-de-mira/
LOCATION:Praia de Mira\, Praia de Mira\, Coimbra\, Portugal
CATEGORIES:Festas & Festivals
ATTACH;FMTTYPE=image/jpeg:https://eventosagenda.com/wp-content/uploads/2025/06/facebook_1748809954565_7335040587673189999.jpg
END:VEVENT
BEGIN:VEVENT
DTSTART;TZID=Europe/Lisbon:20250614T213000
DTEND;TZID=Europe/Lisbon:20250614T213000
DTSTAMP:20260422T184112
CREATED:20250523T111733Z
LAST-MODIFIED:20250523T111745Z
UID:1892-1749936600-1749936600@eventosagenda.com
SUMMARY:66° Festival de Folclore
DESCRIPTION:
URL:https://eventosagenda.com/event/66-festival-de-folclore/
LOCATION:São Martinho do Campo\, São Martinho do Campo\, Porto\, Portugal
CATEGORIES:Fado, Concerts & Music
ATTACH;FMTTYPE=image/jpeg:https://eventosagenda.com/wp-content/uploads/2025/05/14-June.jpg
END:VEVENT
BEGIN:VEVENT
DTSTART;TZID=Europe/Lisbon:20250614T210000
DTEND;TZID=Europe/Lisbon:20250617T233000
DTSTAMP:20260422T184112
CREATED:20250528T113013Z
LAST-MODIFIED:20250528T113013Z
UID:2062-1749934800-1750203000@eventosagenda.com
SUMMARY:Romaria Senhor da Pedra - Gulpilhares
DESCRIPTION:
URL:https://eventosagenda.com/event/romaria-senhor-da-pedra-gulpilhares/
LOCATION:Gulpilhares\, Gulpilhares\, Vila Nova de Gaia\, Porto\, Portugal
CATEGORIES:Festas & Festivals
ATTACH;FMTTYPE=image/jpeg:https://eventosagenda.com/wp-content/uploads/2025/05/facebook_1748039160842_7331807644480340810.jpg
END:VEVENT
BEGIN:VEVENT
DTSTART;TZID=Europe/Lisbon:20250614T180000
DTEND;TZID=Europe/Lisbon:20250614T213000
DTSTAMP:20260422T184112
CREATED:20250601T083836Z
LAST-MODIFIED:20250601T083855Z
UID:2252-1749924000-1749936600@eventosagenda.com
SUMMARY:45° Festival de Folclore - Pontével
DESCRIPTION:
URL:https://eventosagenda.com/event/45-festival-de-folclore-pontevel/
LOCATION:Pontével\, Pontével\, Santarém\, Portugal
CATEGORIES:Fado, Concerts & Music
ATTACH;FMTTYPE=image/jpeg:https://eventosagenda.com/wp-content/uploads/2025/06/facebook_1748720445985_7334665161480218023.jpg
END:VEVENT
BEGIN:VEVENT
DTSTART;TZID=Europe/Lisbon:20250614T170000
DTEND;TZID=Europe/Lisbon:20250614T170000
DTSTAMP:20260422T184112
CREATED:20250601T083447Z
LAST-MODIFIED:20250601T083447Z
UID:2248-1749920400-1749920400@eventosagenda.com
SUMMARY:Arraial Santo António - Ramalde
DESCRIPTION:
URL:https://eventosagenda.com/event/arraial-santo-antonio-ramalde/
LOCATION:Ramalde\, Ramalde\, Porto\, Portugal
CATEGORIES:Festas & Festivals
ATTACH;FMTTYPE=image/jpeg:https://eventosagenda.com/wp-content/uploads/2025/06/facebook_1748720143232_7334663891639787269.jpg
END:VEVENT
BEGIN:VEVENT
DTSTART;TZID=Europe/Lisbon:20250614T160000
DTEND;TZID=Europe/Lisbon:20250614T230000
DTSTAMP:20260422T184112
CREATED:20250518T094554Z
LAST-MODIFIED:20250520T114427Z
UID:1759-1749916800-1749942000@eventosagenda.com
SUMMARY:Santos Populares em Vilarelho - Santo António
DESCRIPTION:
URL:https://eventosagenda.com/event/santos-popluares-em-vilarelho-santo-antonio/
LOCATION:Vilarelho\, Adro da Igreja Velha\, Vilarelho\, Alto Minho\, Portugal
CATEGORIES:Festas & Festivals
ATTACH;FMTTYPE=image/jpeg:https://eventosagenda.com/wp-content/uploads/2025/05/facebook_1747401294439_7329132238870975737.jpg
END:VEVENT
BEGIN:VEVENT
DTSTART;TZID=Europe/Lisbon:20250614T113000
DTEND;TZID=Europe/Lisbon:20250614T113000
DTSTAMP:20260422T184112
CREATED:20250513T204034Z
LAST-MODIFIED:20250513T204052Z
UID:1585-1749900600-1749900600@eventosagenda.com
SUMMARY:Convívio de Idosos - Freguesia da Sertã
DESCRIPTION:
URL:https://eventosagenda.com/event/convivio-de-idosos-freguesia-da-serta/
LOCATION:Sertã\, Sertã\, Castelo Branco\, Portugal
CATEGORIES:Community
ATTACH;FMTTYPE=image/jpeg:https://eventosagenda.com/wp-content/uploads/2025/05/facebook_1746709227719_7326229500661381205.jpg
END:VEVENT
BEGIN:VEVENT
DTSTART;TZID=Europe/Lisbon:20250614T110000
DTEND;TZID=Europe/Lisbon:20250614T170000
DTSTAMP:20260422T184112
CREATED:20250518T094946Z
LAST-MODIFIED:20250523T174901Z
UID:1763-1749898800-1749920400@eventosagenda.com
SUMMARY:Moto-Churrasco - Group Motard de Canelas
DESCRIPTION:
URL:https://eventosagenda.com/event/moto-churrasco-group-motard-de-canelas/
LOCATION:Canelas\, Canelas\, Vila Nova de Gaia\, Porto\, Portugal
CATEGORIES:Tours & Trips
ATTACH;FMTTYPE=image/jpeg:https://eventosagenda.com/wp-content/uploads/2025/05/facebook_1747401207068_7329131872410360512.jpg
END:VEVENT
BEGIN:VEVENT
DTSTART;TZID=Europe/Lisbon:20250614T090000
DTEND;TZID=Europe/Lisbon:20250622T160000
DTSTAMP:20260422T184112
CREATED:20250603T151247Z
LAST-MODIFIED:20250603T151247Z
UID:2378-1749891600-1750608000@eventosagenda.com
SUMMARY:Festas em Honra de Nossa Senorha da Vida - Granja do Ulmeiro
DESCRIPTION:
URL:https://eventosagenda.com/event/festas-em-honra-de-nossa-senorha-da-vida-granja-do-ulmeiro/
LOCATION:Granja do Ulmeiro\, Granja do Ulmeiro\, Coimbra\, Portugal
CATEGORIES:Festas & Festivals
ATTACH;FMTTYPE=image/jpeg:https://eventosagenda.com/wp-content/uploads/2025/06/facebook_1748884897930_7335354922928720566.jpg
END:VEVENT
BEGIN:VEVENT
DTSTART;TZID=Europe/Lisbon:20250614T090000
DTEND;TZID=Europe/Lisbon:20250616T233000
DTSTAMP:20260422T184112
CREATED:20250604T074656Z
LAST-MODIFIED:20250604T074718Z
UID:2451-1749891600-1750116600@eventosagenda.com
SUMMARY:Festa em honra de Santo António - Oliveirinha
DESCRIPTION:
URL:https://eventosagenda.com/event/festa-em-honra-de-santo-antonio-oliveirinha/
LOCATION:Oliveirinha\, Oliveirinha\, Aveiro\, Portugal
CATEGORIES:Festas & Festivals
ATTACH;FMTTYPE=image/jpeg:https://eventosagenda.com/wp-content/uploads/2025/06/06.14-16-Oliverinha.jpeg
END:VEVENT
BEGIN:VEVENT
DTSTART;TZID=Europe/Lisbon:20250614T080000
DTEND;TZID=Europe/Lisbon:20250623T200000
DTSTAMP:20260422T184112
CREATED:20250429T215016Z
LAST-MODIFIED:20250429T215109Z
UID:727-1749888000-1750708800@eventosagenda.com
SUMMARY:Império do Corpo de Deus - Fajã de Cima\, Ponta Delgada
DESCRIPTION:
URL:https://eventosagenda.com/event/imperio-do-corpo-de-deus-faja-de-cima-ponta-delgada/
LOCATION:Fajã de Cima\, Fajã de Cima\, Ponta Delgada\, Açores\, Portugal
CATEGORIES:Festas & Festivals
ATTACH;FMTTYPE=image/jpeg:https://eventosagenda.com/wp-content/uploads/2025/04/facebook_1745796349987_7322400613936860623.jpg
END:VEVENT
BEGIN:VEVENT
DTSTART;VALUE=DATE:20250614
DTEND;VALUE=DATE:20250616
DTSTAMP:20260422T184112
CREATED:20250502T182648Z
LAST-MODIFIED:20250502T182705Z
UID:976-1749859200-1750031999@eventosagenda.com
SUMMARY:Festa Santo António - Freixo de Espada À Cinta
DESCRIPTION:Está na hora de revelar quem vai pôr Freixo de Espada à Cinta a mexer nas 𝐅𝐞𝐬𝐭𝐚𝐬 𝐝𝐞 𝐒𝐚𝐧𝐭𝐨 𝐀𝐧𝐭𝐨́𝐧𝐢𝐨 𝟐𝟎𝟐𝟓!\n\n\nPreparados? Então aqui vai…\n\n\n 𝟏𝟒 𝐞 𝟏𝟓 𝐝𝐞 𝐣𝐮𝐧𝐡𝐨 𝐝𝐞 𝟐𝟎𝟐𝟓\n 𝐅𝐫𝐞𝐢𝐱𝐨 𝐝𝐞 𝐄𝐬𝐩𝐚𝐝𝐚 𝐚̀ 𝐂𝐢𝐧𝐭𝐚\n\n\n 𝐒𝐚́𝐛𝐚𝐝𝐨\, 𝟏𝟒 𝐝𝐞 𝐣𝐮𝐧𝐡𝐨\n A noite arranca em grande com os 𝐀𝐫𝐤𝐚𝐝𝐢𝐚 !\n\n\n Depois\, sobem a palco os 𝐒𝐢𝐠𝐚 𝐚 𝐅𝐚𝐫𝐫𝐚\, com muita música popular e boa disposição.\n E para fechar a noite\, os 𝐀𝐫𝐤𝐚𝐝𝐢𝐚 voltam a palco para mais um momento cheio de ritmo e energia!\n\n\n 𝐃𝐨𝐦𝐢𝐧𝐠𝐨\, 𝟏𝟓 𝐝𝐞 𝐣𝐮𝐧𝐡𝐨\n A festa continua com a atuação especial do nosso conterrâneo 𝐑𝐮𝐢 𝐌𝐨𝐧𝐭𝐞𝐢𝐫𝐨!\n\n\nDois dias de festa\, tradição\, boa música e muita alegria — não vais querer perder!\n\n\n\nIt’s time to reveal who’s going to get Sword Freix to the Belt moving at the San Antonio Festivities 2025!\n\n\nAre you ready? So here it goes….\n\n\n June 14 & 15\, 2025\n Strap Sword Fringe\n\n\n Saturday\, June 14th\n The night kicks off in a big way with Arkadia!\n\n\n Later\, follow the stage\, with lots of popular music and good mood.\n And to close the night\, Arkadia returns to the stage for another moment full of rhythm and energy!\n\n\n Sunday\, June 15th\n The party continues with the special performance from our countryman Rui Monteiro!\n\n\nTwo days of party\, tradition\, good music and lots of joy – you don’t want to miss it!
URL:https://eventosagenda.com/event/festa-santo-antonio-freixo-de-espada-a-cinta/
LOCATION:Freixo de Espada À Cinta\, Freixo de Espada À Cinta\, Bragança\, Portugal
CATEGORIES:Festas & Festivals
ATTACH;FMTTYPE=image/jpeg:https://eventosagenda.com/wp-content/uploads/2025/05/Freixo-de-Espada-a-Cinta.jpg
END:VEVENT
END:VCALENDAR