BEGIN:VCALENDAR
VERSION:2.0
PRODID:-// - ECPv6.15.20//NONSGML v1.0//EN
CALSCALE:GREGORIAN
METHOD:PUBLISH
X-ORIGINAL-URL:https://eventosagenda.com
X-WR-CALDESC:Events for 
REFRESH-INTERVAL;VALUE=DURATION:PT1H
X-Robots-Tag:noindex
X-PUBLISHED-TTL:PT1H
BEGIN:VTIMEZONE
TZID:Europe/Lisbon
BEGIN:DAYLIGHT
TZOFFSETFROM:+0000
TZOFFSETTO:+0100
TZNAME:WEST
DTSTART:20240331T010000
END:DAYLIGHT
BEGIN:STANDARD
TZOFFSETFROM:+0100
TZOFFSETTO:+0000
TZNAME:WET
DTSTART:20241027T010000
END:STANDARD
BEGIN:DAYLIGHT
TZOFFSETFROM:+0000
TZOFFSETTO:+0100
TZNAME:WEST
DTSTART:20250330T010000
END:DAYLIGHT
BEGIN:STANDARD
TZOFFSETFROM:+0100
TZOFFSETTO:+0000
TZNAME:WET
DTSTART:20251026T010000
END:STANDARD
BEGIN:DAYLIGHT
TZOFFSETFROM:+0000
TZOFFSETTO:+0100
TZNAME:WEST
DTSTART:20260329T010000
END:DAYLIGHT
BEGIN:STANDARD
TZOFFSETFROM:+0100
TZOFFSETTO:+0000
TZNAME:WET
DTSTART:20261025T010000
END:STANDARD
END:VTIMEZONE
BEGIN:VEVENT
DTSTART;VALUE=DATE:20250702
DTEND;VALUE=DATE:20250707
DTSTAMP:20260422T115202
CREATED:20250430T100547Z
LAST-MODIFIED:20250430T100547Z
UID:793-1751414400-1751846399@eventosagenda.com
SUMMARY:Feira Mostra Do Concelho De Mação 2025
DESCRIPTION:MACION COUNCIL SHOW FAIR 2025\nRegistration is now open!\n\n\nThe 30th Mation Council Showcase Fair will take place July 2-6\, 2025.\nRegistrations are open for Exhibitors (Stands).\nArtisans can participate at the individual level or institutions for publicity and promotion of handicraft\, exhibitors of traditional gastronomic products (confectionery\, bakery\, etc. )\, associations\, entities of social importance and economic activities\, giving priority to exhibitors of the Council of Mation. Exhibitors from outside the Council may be accepted\, according to the criteria of the Organization\, when possible.\n\n\nSIGN UPS:\nRegistrations must be completed through the Registration Sheet accompanying this regulation by June 6\, 2025 and submitted\n– via mail to\n30th Show Fair\nCity Hall of Macion\nPadre António Pereira Street in Figueiredo\n6120 – 750 Sale\n– by email for fair. mostra@cm-macao.pt (files up to 9MB)\n– or delivered by hand to the Administrative Services of the City Council of Mação.\nIn case of resignation\, the Mação Municipal Council must be informed by June 21.\n\n\nRules and Registration Sheet available at the reception of the City Hall\, or here:\nhttps://www.cm-macao.pt/index.php/regulamentos…
URL:https://eventosagenda.com/event/feira-mostra-do-concelho-de-macao-2025/
LOCATION:Câmara Municipal de Mação\, Rua Padre António Pereira de Figueiredo\, Mação\, Santarém\, 6120 - 750\, Portugal
CATEGORIES:Festas & Festivals,Markets & Fairs
ATTACH;FMTTYPE=image/jpeg:https://eventosagenda.com/wp-content/uploads/2025/04/Macao.jpg
END:VEVENT
BEGIN:VEVENT
DTSTART;TZID=Europe/Lisbon:20250702T000000
DTEND;TZID=Europe/Lisbon:20250702T000000
DTSTAMP:20260422T115202
CREATED:20250702T145600Z
LAST-MODIFIED:20250702T145645Z
UID:3025-1751414400-1751414400@eventosagenda.com
SUMMARY:111º Aniversário do Concelho - Castanheira de Pera
DESCRIPTION:
URL:https://eventosagenda.com/event/111o-aniversario-do-concelho-castanheira-de-pera/
LOCATION:Santarém
CATEGORIES:Festas & Festivals
ATTACH;FMTTYPE=image/jpeg:https://eventosagenda.com/wp-content/uploads/2025/07/facebook_1751465877963_7346180337806410297.jpg
END:VEVENT
BEGIN:VEVENT
DTSTART;TZID=Europe/Lisbon:20250629T150000
DTEND;TZID=Europe/Lisbon:20250629T150000
DTSTAMP:20260422T115202
CREATED:20250528T112418Z
LAST-MODIFIED:20250528T112626Z
UID:2056-1751209200-1751209200@eventosagenda.com
SUMMARY:Folk Club - Barril de Alva\, Arganil
DESCRIPTION:
URL:https://eventosagenda.com/event/folk-club-barril-de-alva/
LOCATION:Barril de Alva\, Barril de Alva\, Arganil\, Coimbra\, Portugal
CATEGORIES:Fado, Concerts & Music
ATTACH;FMTTYPE=image/jpeg:https://eventosagenda.com/wp-content/uploads/2025/05/facebook_1748209582959_7332522446647277974.jpg
END:VEVENT
BEGIN:VEVENT
DTSTART;TZID=Europe/Lisbon:20250629T120000
DTEND;TZID=Europe/Lisbon:20250629T120000
DTSTAMP:20260422T115202
CREATED:20250507T210106Z
LAST-MODIFIED:20250507T210341Z
UID:1230-1751198400-1751198400@eventosagenda.com
SUMMARY:Concerto de Aniversário da Metropolitana - Orquestra Sinfónica Metropolitana - Lisboa
DESCRIPTION:Joana Carneiro e a Metropolitana reencontram-se em dia de festa. Juntos interpretam uma suíte orquestral em que os nomes dos planetas se apresentam como mensageiros astrais. O livro pioneiro de Alan Leo The Art of Synthesis inspirou assim Gustav Holst\, que em 1916 se recreou em torno da ideia de que os planetas do sistema solar influenciam traços da personalidade humana. No encerramento deste programa\, e na vez d’O Místico (Neptuno)\, é dado lugar ao planeta Terra. O poema sinfónico Terramoto de Lisboa\, de Armando José Fernandes\, evoca a tragédia de 1755.\n\nAniversário da MetropolitanaOrquestra Sinfónica Metropolitana\nG. Holst Os PlanetasArmando José Fernandes Terramoto de Lisboa\nJoana Carneiro Maestrina\n\nTwo concerts to mark the Anniversary of the Metropolitan. In the first\, the Orchestras of the Metropolitan Professional School act. In the second\, Joana Carneiro and Metropolitana meet again on a feast day: the Metropolitan Symphony Orchestra plays an orchestral suite in which the names of the planets present themselves as astral messengers. Alan Leo’s Pioneering Book The Art of Synthesis it inspired Gustav Holst who\, in 1916\, recreated himself around the idea that the planets of the solar system influence human personality traits. At the close of this program\, and instead d’The Mystic (Neptune)\, is given place to planet Earth. The symphonic poem Lisbon Earthquakearmando Jose Fernandes evokes the tragedy of 1755.
URL:https://eventosagenda.com/event/concerto-de-aniversario-da-metropolitana-orquestra-sinfonica-metropolitana-lisboa/
LOCATION:São Luiz Teatro Municipal\, R. António Maria Cardoso\, 38\, Lisboa\, Lisboa\, 1200-027\, Portugal
CATEGORIES:Fado, Concerts & Music
ATTACH;FMTTYPE=image/jpeg:https://eventosagenda.com/wp-content/uploads/2025/05/484920512_1052136886944237_6880174492299799064_n.jpg
END:VEVENT
BEGIN:VEVENT
DTSTART;TZID=Europe/Lisbon:20250629T110000
DTEND;TZID=Europe/Lisbon:20250629T160000
DTSTAMP:20260422T115202
CREATED:20250415T081410Z
LAST-MODIFIED:20250619T073448Z
UID:318-1751194800-1751212800@eventosagenda.com
SUMMARY:Relva Market / Mercado de Relva
DESCRIPTION:
URL:https://eventosagenda.com/event/relva-market-mercado-de-relva-3/
LOCATION:Relva\, Relva\, Monsanto\, Castelo Branco\, Portugal
CATEGORIES:Markets & Fairs
ATTACH;FMTTYPE=image/jpeg:https://eventosagenda.com/wp-content/uploads/2025/04/facebook_1750181167902_7340791873256335255.jpg
END:VEVENT
BEGIN:VEVENT
DTSTART;TZID=Europe/Lisbon:20250629T090000
DTEND;TZID=Europe/Lisbon:20250629T230000
DTSTAMP:20260422T115202
CREATED:20250619T082215Z
LAST-MODIFIED:20250619T082259Z
UID:2725-1751187600-1751238000@eventosagenda.com
SUMMARY:Festas de São Pedro 2025 - São Pedro Dias\, Lavegadas
DESCRIPTION:St. Peter’s Day is coming… and our party too! \n\n\nThere will be music\, dancing\, good food and\, most of all\, the spirit of togetherness that makes this party so special.\n\n\nA tradition we are trying to bring back\, year after year\, with all the affection and dedication.\nIt’s in the little big traditions that the best memories are made — and we want you to be a part of them.\n\n\nLet’s celebrate together the joy of popular holidays\, surrounded by those we love most.\n\n\nTogether we bring the party to life. Together we keep tradition alive! \n\n\n\n\n\nSão Pedro Dias\, Wash\, Vila Nova de Poiares\n June 29\, 11 p.m.\n Free admission
URL:https://eventosagenda.com/event/festas-de-sao-pedro-2025-sao-pedro-dias-lavegadas/
LOCATION:São Pedro Dias\, Lavegadas\, Vila Nova de Poiares\, Coimbra\, Portugal
CATEGORIES:Festas & Festivals
ATTACH;FMTTYPE=image/jpeg:https://eventosagenda.com/wp-content/uploads/2025/06/facebook_1750178153245_7340779228868409905.jpg
END:VEVENT
BEGIN:VEVENT
DTSTART;TZID=Europe/Lisbon:20250628T170000
DTEND;TZID=Europe/Lisbon:20250628T170000
DTSTAMP:20260422T115202
CREATED:20250605T133958Z
LAST-MODIFIED:20250605T133958Z
UID:2565-1751130000-1751130000@eventosagenda.com
SUMMARY:Arraial dos 7 - Pedrógão Grande
DESCRIPTION:Imagina um arraial de família e amigos\, onde a música não pára e a animação é contagiante… É o ARRAIAL DOS 7!\nOrganizado pela brass band São 7\, mas eu n’bebo\, acontece em Pedrógão Grande\, com a nossa gente\, comida e bebida e um ambiente que mistura tradição com uma boa dose de loucura.Tem música ao vivo\, danças improvisadas e aquele espírito de festa popular! O Jardim da Devesa vira palco para uma noite inesquecível\, cheia de gargalhadas\, amigos e histórias para contar no dia seguinte (se a memória permitir).Marca no calendário\, junta os amigos e vem sentir o verdadeiro Arraial dos 7!
URL:https://eventosagenda.com/event/arraial-dos-7-pedrogao-grande/
LOCATION:Pedrógão Grande\, Pedrógão Grande\, Leiria\, Portugal
CATEGORIES:Fado, Concerts & Music
ATTACH;FMTTYPE=image/jpeg:https://eventosagenda.com/wp-content/uploads/2025/06/Pedrogao.jpg
END:VEVENT
BEGIN:VEVENT
DTSTART;TZID=Europe/Lisbon:20250628T170000
DTEND;TZID=Europe/Lisbon:20250628T170000
DTSTAMP:20260422T115202
CREATED:20250605T131448Z
LAST-MODIFIED:20250605T131706Z
UID:2543-1751130000-1751130000@eventosagenda.com
SUMMARY:Festa do Patacão 2025
DESCRIPTION:FESTA DO PATACÃO 2025 \nJá cheira a Santos Populares em Montes da Senhora!\nDia 28 de Junho\, a partir das 17h\, no Largo do Patacão\, vem celebrar o São João connosco!\n\n\n No prato: Sardinhas\, febras e entremeada\n No copo: Sangria\, vinho\, sidra e cerveja\n Na animação: Trio Jorge Gonçalves & Rancho dos Montes da Senhora\n\n\nTraz os amigos\, o apetite e a boa disposição!\n\n\n\n\n\n PATACÃO PARTY 2025 \nIt already smells like Popular Saints in Montes da Senhora!\nJune 28\, from 5pm\, at Largo do Patacão\, come celebrate Saint John with us!\n\n\n On the plate: Sardines\, fevers and entremeada\n In the glass: Sangria\, wine\, cider and beer\n In the animation: Trio Jorge Gonçalves & Rancho dos Montes da Senhora\n\n\nBring your friends\, your appetite and good mood!
URL:https://eventosagenda.com/event/festa-do-patacao-2025/
LOCATION:Montes da Senhora\, Montes da Senhora\, Castelo Branco\, 6150-128\, Portugal
CATEGORIES:Food & Drink
ATTACH;FMTTYPE=image/jpeg:https://eventosagenda.com/wp-content/uploads/2025/06/Montes-da-Senhora.jpg
END:VEVENT
BEGIN:VEVENT
DTSTART;TZID=Europe/Lisbon:20250628T160000
DTEND;TZID=Europe/Lisbon:20250628T160000
DTSTAMP:20260422T115202
CREATED:20250604T072335Z
LAST-MODIFIED:20250604T072335Z
UID:2424-1751126400-1751126400@eventosagenda.com
SUMMARY:Santos Popluares - Louriçal Do Campo
DESCRIPTION:We now take a break from the artists’ dissemination to say that the Popular Saints are coming! \n\n\nNext June 28\, at 4 pm\, join us at the Largo da Party to celebrate in style our Popular Saints! \n\n\nWe will have the traditional São João bonfire\, tasty roasted sardines\, fresh drinks\, good mood and\, of course\, lots of music to liven up the afternoon and night! \n\n\nBring your family\, your friends\, and your holiday spirit – the party promises!\nDon’t miss out!
URL:https://eventosagenda.com/event/santos-popluares-lourical-do-campo/
LOCATION:Louriçal Do Campo\, Louriçal Do Campo\, Castelo Branco\, Portugal
CATEGORIES:Festas & Festivals
ATTACH;FMTTYPE=image/jpeg:https://eventosagenda.com/wp-content/uploads/2025/06/503786689_122156744228527649_2244697702471789931_n.jpg
END:VEVENT
BEGIN:VEVENT
DTSTART;TZID=Europe/Lisbon:20250628T100000
DTEND;TZID=Europe/Lisbon:20250628T140000
DTSTAMP:20260422T115202
CREATED:20250527T131328Z
LAST-MODIFIED:20250527T131437Z
UID:1986-1751104800-1751119200@eventosagenda.com
SUMMARY:Summer Food & Craft Fair
DESCRIPTION:
URL:https://eventosagenda.com/event/summer-food-craft-fair-2/
LOCATION:Alvaiázere\, Alvaiázere\, Leiria\, Portugal
CATEGORIES:Markets & Fairs
ATTACH;FMTTYPE=image/jpeg:https://eventosagenda.com/wp-content/uploads/2025/05/494064914_122159815454575290_2046756939255816068_n.jpg
END:VEVENT
BEGIN:VEVENT
DTSTART;TZID=Europe/Lisbon:20250628T093000
DTEND;TZID=Europe/Lisbon:20250630T190000
DTSTAMP:20260422T115202
CREATED:20250620T110037Z
LAST-MODIFIED:20250620T110037Z
UID:2760-1751103000-1751310000@eventosagenda.com
SUMMARY:Viver Oiã 2025
DESCRIPTION:
URL:https://eventosagenda.com/event/viver-oia-2025/
LOCATION:Oiã\, Oiã\, Oliveira do Bairro\, Aveiro\, Portugal
CATEGORIES:Festas & Festivals
ATTACH;FMTTYPE=image/jpeg:https://eventosagenda.com/wp-content/uploads/2025/06/06.-28-30-Oia.jpg
END:VEVENT
BEGIN:VEVENT
DTSTART;TZID=Europe/Lisbon:20250628T073000
DTEND;TZID=Europe/Lisbon:20250629T073000
DTSTAMP:20260422T115202
CREATED:20250527T125443Z
LAST-MODIFIED:20250527T130024Z
UID:1971-1751095800-1751182200@eventosagenda.com
SUMMARY:Festa de Verão 2025 - Vale da Mua
DESCRIPTION:PARTIES AND ACTIVITIES OF THE ASSOCIATIONS 2025  IV\n\n\n– MUA VALLEY SUMMER PARTY – 28 & 29 June 2025- Mua Valley – Envendos\nOrg : Mua Valley Social & Cultural Centre\n\n\nInfo on the poster!
URL:https://eventosagenda.com/event/festa-de-verao-2025-vale-da-mua/
LOCATION:Vale de Mua\, Vale de Mua\, Peral\, Castelo Branco\, Portugal
CATEGORIES:Festas & Festivals,Sports & Games
ATTACH;FMTTYPE=image/jpeg:https://eventosagenda.com/wp-content/uploads/2025/05/facebook_1748342183329_7333078612908658670.jpg
END:VEVENT
BEGIN:VEVENT
DTSTART;VALUE=DATE:20250628
DTEND;VALUE=DATE:20250707
DTSTAMP:20260422T115202
CREATED:20250514T194742Z
LAST-MODIFIED:20250514T194755Z
UID:1600-1751068800-1751846399@eventosagenda.com
SUMMARY:40 Feira de São Pedro Macedo de Cavaleiros 2025
DESCRIPTION:
URL:https://eventosagenda.com/event/40-feira-de-sao-pedro-macedo-de-cavaleiros-2025/
LOCATION:Macedo de Cavaleiros\, Macedo de Cavaleiros\, Bragança\, Portugal
CATEGORIES:Festas & Festivals
ATTACH;FMTTYPE=image/jpeg:https://eventosagenda.com/wp-content/uploads/2025/05/facebook_1747169646676_7328160637733951630.jpg
END:VEVENT
BEGIN:VEVENT
DTSTART;VALUE=DATE:20250628
DTEND;VALUE=DATE:20250630
DTSTAMP:20260422T115202
CREATED:20250512T205235Z
LAST-MODIFIED:20250512T205256Z
UID:1469-1751068800-1751241599@eventosagenda.com
SUMMARY:Rampa Monte do Faro - Valença
DESCRIPTION:
URL:https://eventosagenda.com/event/rampa-monte-do-faro-valenca/
LOCATION:Valença\, Valença\, Viana do Castelo\, Portugal
CATEGORIES:Sports & Games
ATTACH;FMTTYPE=image/jpeg:https://eventosagenda.com/wp-content/uploads/2025/05/495651650_706218918751113_7299254718961461768_n.jpg
END:VEVENT
BEGIN:VEVENT
DTSTART;VALUE=DATE:20250628
DTEND;VALUE=DATE:20250630
DTSTAMP:20260422T115202
CREATED:20250510T162958Z
LAST-MODIFIED:20250510T162958Z
UID:1382-1751068800-1751241599@eventosagenda.com
SUMMARY:Abundance Festival - Posmorto\, Caldas de Sangemil
DESCRIPTION:
URL:https://eventosagenda.com/event/abundance-festival-posmorto-caldas-de-sangemil/
LOCATION:Caldas de Sangemil\, Caldas de Sangemil\, Viseu\, Portugal
CATEGORIES:Festas & Festivals
ATTACH;FMTTYPE=image/jpeg:https://eventosagenda.com/wp-content/uploads/2025/05/facebook_1746734322406_7326334755406288988.jpg
END:VEVENT
BEGIN:VEVENT
DTSTART;VALUE=DATE:20250628
DTEND;VALUE=DATE:20250629
DTSTAMP:20260422T115202
CREATED:20250530T123833Z
LAST-MODIFIED:20250604T072145Z
UID:2150-1751068800-1751155199@eventosagenda.com
SUMMARY:Carocha Fest 90 Anos - Leiria
DESCRIPTION:The Garden of Almuinha Grande\, in Leiria\, hosts the largest national gathering of Carochas in celebration of 90 years of this iconic model. On June 28\, bring your family and spend a day full of stories\, culture and automotive excitement.  Admission for visitors is free and the program brings together several activities for all ages.  If you have a Carocha\, register your car and receive an exclusive kit: https://bit.ly/carocha-fest-90-anos
URL:https://eventosagenda.com/event/carocha-fest-90-anos-leiria/
LOCATION:Leiria\, Leiria\, Leiria\, Portugal
CATEGORIES:Festas & Festivals
ATTACH;FMTTYPE=image/jpeg:https://eventosagenda.com/wp-content/uploads/2025/05/facebook_1748603708447_7334175528756083491.jpg
END:VEVENT
BEGIN:VEVENT
DTSTART;TZID=Europe/Lisbon:20250627T223000
DTEND;TZID=Europe/Lisbon:20250629T235900
DTSTAMP:20260422T115202
CREATED:20250620T142009Z
LAST-MODIFIED:20250620T142032Z
UID:2800-1751063400-1751241540@eventosagenda.com
SUMMARY:Festas S. Pedro - Valongo do Vouga
DESCRIPTION:
URL:https://eventosagenda.com/event/festas-s-pedro-valongo-do-vouga/
LOCATION:Valongo do Vouga\, Valongo do Vouga\, Aveiro\, Portugal
CATEGORIES:Festas & Festivals
ATTACH;FMTTYPE=image/jpeg:https://eventosagenda.com/wp-content/uploads/2025/06/facebook_1750076810606_7340354167035207528.jpg
END:VEVENT
BEGIN:VEVENT
DTSTART;TZID=Europe/Lisbon:20250627T220000
DTEND;TZID=Europe/Lisbon:20250629T150000
DTSTAMP:20260422T115202
CREATED:20250620T111630Z
LAST-MODIFIED:20250620T111630Z
UID:2778-1751061600-1751209200@eventosagenda.com
SUMMARY:Festa de Lourosa de Cima 2025
DESCRIPTION:
URL:https://eventosagenda.com/event/festa-de-lourosa-de-cima-2025/
LOCATION:Lourosa de Cima\, Lourosa de Cima\, Viseu\, Portugal
CATEGORIES:Festas & Festivals
ATTACH;FMTTYPE=image/jpeg:https://eventosagenda.com/wp-content/uploads/2025/06/facebook_1749382707174_7337442886234153794.jpg
END:VEVENT
BEGIN:VEVENT
DTSTART;TZID=Europe/Lisbon:20250627T213000
DTEND;TZID=Europe/Lisbon:20250629T190000
DTSTAMP:20260422T115202
CREATED:20250530T135906Z
LAST-MODIFIED:20250530T135906Z
UID:2220-1751059800-1751223600@eventosagenda.com
SUMMARY:Almeida Equestre - Picadeiro d'El Rey\, Almeida
DESCRIPTION:
URL:https://eventosagenda.com/event/almeida-equestre-picadeiro-del-rey-almeida-2/
LOCATION:Picadeiro d’El Rey\, Almeida\, Picadeiro d'El Rey\, Almeida\, Guarda\, Portugal
CATEGORIES:Festas & Festivals,Sports & Games
ATTACH;FMTTYPE=image/jpeg:https://eventosagenda.com/wp-content/uploads/2025/05/facebook_1748603561732_7334174913390223850.jpg
END:VEVENT
BEGIN:VEVENT
DTSTART;TZID=Europe/Lisbon:20250627T210000
DTEND;TZID=Europe/Lisbon:20250629T160000
DTSTAMP:20260422T115202
CREATED:20250608T091300Z
LAST-MODIFIED:20250608T091409Z
UID:2610-1751058000-1751212800@eventosagenda.com
SUMMARY:Festa de Verão - Eixo e Eirol
DESCRIPTION:
URL:https://eventosagenda.com/event/festa-de-verao-eixo-e-eirol/
LOCATION:Eixo e Eirol\, Eixo e Eirol\, Aveiro\, Portugal
CATEGORIES:Festas & Festivals
ATTACH;FMTTYPE=image/jpeg:https://eventosagenda.com/wp-content/uploads/2025/06/06.27-29-Eixo-Park.jpg
END:VEVENT
BEGIN:VEVENT
DTSTART;TZID=Europe/Lisbon:20250627T200000
DTEND;TZID=Europe/Lisbon:20250629T220000
DTSTAMP:20260422T115202
CREATED:20250502T112713Z
LAST-MODIFIED:20250502T112729Z
UID:928-1751054400-1751234400@eventosagenda.com
SUMMARY:Festas de São Pedro - Felgueiras
DESCRIPTION:São Pedro 2025\n\n\nNininho Vaz Maia\, Calema e João Pedro Pais são cabeças de cartaz das Festas de São Pedro 2025 em Felgueiras\n\n\nFelgueiras já começou a aquecer os motores para as tão aguardadas Festas de São Pedro\, e o cartaz promete atrair milhares de visitantes. A Câmara Municipal revelou esta quarta-feira os nomes dos artistas que irão subir ao palco e animar as noites mais emblemáticas do concelho: Nininho Vaz Maia\, Calema e João Pedro Pais são os cabeças de cartaz da edição de 2025.\nCom estilos distintos\, mas igualmente populares\, os três nomes prometem concertos inesquecíveis.\nNininho Vaz Maia\, conhecido pelo seu timbre único e fusão de ritmos urbanos com influências ciganas e flamengas\, é um fenómeno nacional e promete um espetáculo carregado de emoção e energia.\nOs Calema\, dupla de irmãos santomenses que conquistou o público português com sucessos como “A Nossa Vez” e “Te Amo”\, trarão a sua sonoridade envolvente e internacional ao palco do São Pedro de Felgueiras.\nJá João Pedro Pais\, um dos mais consagrados nomes da música portuguesa\, trará a Felgueiras os seus temas intemporais e a intensidade que lhe é característica\, numa noite que se antevê de grande emoção.\nAs atuações estão inseridas no programa oficial das Festas de São Pedro 2025\, que continuam a afirmar-se como uma das maiores celebrações do concelho e da região\, combinando tradição\, cultura\, animação popular e grandes espetáculos de 27 a 29 de junho.\n\n\n\n\n\nSt. Peter’s 2025\n\n\nNininho Vaz Maia\, Calema and João Pedro Pais are the poster heads of the Festivities of São Pedro 2025 in Felgueiras\n\n\nFelgueiras have already begun to warm up the engines for the long-awaited São Pedro Festivities\, and the banner promises to attract thousands of visitors. The City Council revealed this Wednesday the names of the artists who will take the stage and animate the council’s most emblematic nights: Nininho Vaz Maia\, Calema and João Pedro Pais are the headliners of the 2025 edition.\nWith different styles\, but equally popular\, the three names promise unforgettable concerts.\nNininho Vaz Maia\, known for its unique bell and fusion of urban rhythms with Gypsy and Flamengo influences\, is a national phenomenon and promises a spectacle packed with emotion and energy.\nThe Calema\, a pair of Santomanses brothers that conquered the Portuguese audience with hits like “A Nossa Vez” and “Te Amo”\, will bring their engaging and international sound to the stage of São Pedro de Felgueiras.\nAlready João Pedro Pais\, one of the most cherished names in Portuguese music\, will bring to Felgueiras his timeless themes and the intensity that is characteristic to him\, in a night ahead of great emotion.\nThe performances are included in the official program of the São Peter Festivities 2025\, which continue to establish itself as one of the biggest celebrations of the council and the region\, combining tradition\, culture\, popular animation and great shows from June 27 to 29.
URL:https://eventosagenda.com/event/festas-de-sao-pedro-felgueiras/
LOCATION:Felgueiras\, Felgueiras\, Porto\, Portugal
CATEGORIES:Festas & Festivals
ATTACH;FMTTYPE=image/jpeg:https://eventosagenda.com/wp-content/uploads/2025/05/facebook_1746172710449_7323979184130015556.jpg
END:VEVENT
BEGIN:VEVENT
DTSTART;TZID=Europe/Lisbon:20250627T200000
DTEND;TZID=Europe/Lisbon:20250628T223000
DTSTAMP:20260422T115202
CREATED:20250604T071012Z
LAST-MODIFIED:20250604T071012Z
UID:2419-1751054400-1751149800@eventosagenda.com
SUMMARY:Festas da Martinha - Estoril
DESCRIPTION:
URL:https://eventosagenda.com/event/festas-da-martinha-estoril-2/
LOCATION:Estoril\, Estoril\, Cascais\, Lisboa\, Portugal
CATEGORIES:Festas & Festivals
ATTACH;FMTTYPE=image/jpeg:https://eventosagenda.com/wp-content/uploads/2025/06/facebook_1748884780073_7335354428602315584.jpg
END:VEVENT
BEGIN:VEVENT
DTSTART;TZID=Europe/Lisbon:20250627T193000
DTEND;TZID=Europe/Lisbon:20250629T233000
DTSTAMP:20260422T115202
CREATED:20250611T162617Z
LAST-MODIFIED:20250611T162617Z
UID:2629-1751052600-1751239800@eventosagenda.com
SUMMARY:Festival Sabores e Tradições da Maia
DESCRIPTION:
URL:https://eventosagenda.com/event/festival-sabores-e-tradicoes-da-maia/
LOCATION:Maia\, Maia\, Porto\, Portugal
CATEGORIES:Festas & Festivals
ATTACH;FMTTYPE=image/jpeg:https://eventosagenda.com/wp-content/uploads/2025/06/facebook_1749479259483_7337847855967527371.jpg
END:VEVENT
BEGIN:VEVENT
DTSTART;TZID=Europe/Lisbon:20250627T190000
DTEND;TZID=Europe/Lisbon:20250630T230000
DTSTAMP:20260422T115202
CREATED:20250620T145454Z
LAST-MODIFIED:20250620T145454Z
UID:2823-1751050800-1751324400@eventosagenda.com
SUMMARY:Festas São Pedro e da Vila - Pero Pinheiro
DESCRIPTION:
URL:https://eventosagenda.com/event/festas-sao-pedro-e-da-vila-pero-pinheiro/
LOCATION:Pero Pinheiro\, Pero Pinheiro\, Sintra\, Lisboa\, Portugal
CATEGORIES:Festas & Festivals
ATTACH;FMTTYPE=image/jpeg:https://eventosagenda.com/wp-content/uploads/2025/06/facebook_1749747969098_7338974905783783597.jpg
END:VEVENT
BEGIN:VEVENT
DTSTART;TZID=Europe/Lisbon:20250627T190000
DTEND;TZID=Europe/Lisbon:20250629T220000
DTSTAMP:20260422T115202
CREATED:20250619T080328Z
LAST-MODIFIED:20250619T080328Z
UID:2717-1751050800-1751234400@eventosagenda.com
SUMMARY:Festas em Honra S. Pedro e Rainha St.a Isabel - Além da Ponte
DESCRIPTION:
URL:https://eventosagenda.com/event/festas-em-honra-s-pedro-e-rainha-st-a-isabel-alem-da-ponte/
LOCATION:Além da Ponte\, Além da Ponte\, Ansião\, Leiria\, Portugal
CATEGORIES:Festas & Festivals
ATTACH;FMTTYPE=image/jpeg:https://eventosagenda.com/wp-content/uploads/2025/06/facebook_1750312271516_7341341761672593304.jpg
END:VEVENT
BEGIN:VEVENT
DTSTART;TZID=Europe/Lisbon:20250627T170000
DTEND;TZID=Europe/Lisbon:20250629T200000
DTSTAMP:20260422T115202
CREATED:20250621T103602Z
LAST-MODIFIED:20250621T103631Z
UID:2850-1751043600-1751227200@eventosagenda.com
SUMMARY:Grandiosos Festejos em Honra São Pedro - Chaveira\, Mação
DESCRIPTION:
URL:https://eventosagenda.com/event/grandiosos-festejos-em-honra-sao-pedro-chaveira-e-chaveirinha/
LOCATION:Chaveira e Chaveirinha\, Chaveira\, Mação\, Santarém\, Portugal
CATEGORIES:Festas & Festivals
ATTACH;FMTTYPE=image/jpeg:https://eventosagenda.com/wp-content/uploads/2025/06/facebook_1750187266487_7340817452575492185.jpg
END:VEVENT
BEGIN:VEVENT
DTSTART;TZID=Europe/Lisbon:20250627T140000
DTEND;TZID=Europe/Lisbon:20250629T120000
DTSTAMP:20260422T115202
CREATED:20250619T070707Z
LAST-MODIFIED:20250619T070707Z
UID:2675-1751032800-1751198400@eventosagenda.com
SUMMARY:Campeonatos Nacionals - Ciclismo de Estrada - Alvaiázere
DESCRIPTION:Alvaiázere hosts the 2025 Edition of the National Road Cycling Championships\n\n\nOn June 27\, from 14:00\, our council hosts the time-clocks of the 2025\, National Road Cycling Championships\, a great national relay test that will bring to our council the best athletes of the modality.\n With live television transmission on RTP\n\n\nCome out and support the athletes!\n\n\n Read the full story http://bit.ly/4k2phWr
URL:https://eventosagenda.com/event/campeonatos-nacionals-ciclismo-de-estrada-alvaiazere/
LOCATION:Alvaiázere\, Alvaiázere\, Leiria\, Portugal
CATEGORIES:Sports & Games
ATTACH;FMTTYPE=image/jpeg:https://eventosagenda.com/wp-content/uploads/2025/06/493908210_1140334994795639_5783367403356487662_n.jpg
END:VEVENT
BEGIN:VEVENT
DTSTART;TZID=Europe/Lisbon:20250627T090000
DTEND;TZID=Europe/Lisbon:20250629T220000
DTSTAMP:20260422T115202
CREATED:20250619T080620Z
LAST-MODIFIED:20250619T080657Z
UID:2721-1751014800-1751234400@eventosagenda.com
SUMMARY:Festas em Honra de São Pedro - São Pedro da Torre
DESCRIPTION:
URL:https://eventosagenda.com/event/festas-em-honra-de-sao-pedro-sao-pedro-da-torre/
LOCATION:São Pedro da Torre\, São Pedro da Torre\, Valença\, Viana do Castelo\, Portugal
CATEGORIES:Festas & Festivals
ATTACH;FMTTYPE=image/jpeg:https://eventosagenda.com/wp-content/uploads/2025/06/facebook_1750197290486_7340859496277658698.jpg
END:VEVENT
BEGIN:VEVENT
DTSTART;VALUE=DATE:20250627
DTEND;VALUE=DATE:20250630
DTSTAMP:20260422T115202
CREATED:20250507T204038Z
LAST-MODIFIED:20250507T204050Z
UID:1220-1750982400-1751241599@eventosagenda.com
SUMMARY:Santos Populares de Alcobaça 2025
DESCRIPTION:SANTOS POPULARES DE ALCOBAÇA’ 25 \n⠀⠀⠀⠀⠀⠀⠀⠀⠀⠀\n 27 | 28 | 29 de JUNHO \n⠀⠀⠀⠀⠀⠀⠀⠀⠀⠀\nRelembramos as datas para os Santos Populares 2025 em Alcobaça \n⠀⠀⠀⠀⠀⠀⠀⠀⠀⠀\nAponte na sua agenda e mantenha-se atento às novidades que vamos começar a divulgar\n\n\n\nPOPULAR SAINTS OF CABAÇA’ 25 \n⠀⠀⠀⠀⠀⠀⠀⠀⠀⠀\n 27 | 28 | 29 JUNE \n⠀⠀⠀⠀⠀⠀⠀⠀⠀⠀\nWe remind you of the dates for the Popular Saints 2025 in Alcobaça \n⠀⠀⠀⠀⠀⠀⠀⠀⠀⠀\nMark your calendar and pay attention to the news we will start to publish
URL:https://eventosagenda.com/event/santos-populares-de-alcobaca-2025/
LOCATION:Alcobaça\, Alcobaça\, Leiria\, Portugal
CATEGORIES:Festas & Festivals
ATTACH;FMTTYPE=image/jpeg:https://eventosagenda.com/wp-content/uploads/2025/05/Alcobaca.jpg
END:VEVENT
BEGIN:VEVENT
DTSTART;VALUE=DATE:20250627
DTEND;VALUE=DATE:20250630
DTSTAMP:20260422T115202
CREATED:20250504T104653Z
LAST-MODIFIED:20250504T112130Z
UID:1013-1750982400-1751241599@eventosagenda.com
SUMMARY:Glu Glu Festival de Vinho 2025 - Coimbra
DESCRIPTION:
URL:https://eventosagenda.com/event/glu-glu-festival-de-vinho-2025-coimbra/
LOCATION:Jardim da Sereia\, Coimbra\, Coimbra\, Portugal
CATEGORIES:Festas & Festivals,Food & Drink
ATTACH;FMTTYPE=image/jpeg:https://eventosagenda.com/wp-content/uploads/2025/05/facebook_1746343215697_7324694334973977303.jpg
END:VEVENT
END:VCALENDAR