BEGIN:VCALENDAR
VERSION:2.0
PRODID:-// - ECPv6.15.20//NONSGML v1.0//EN
CALSCALE:GREGORIAN
METHOD:PUBLISH
X-ORIGINAL-URL:https://eventosagenda.com
X-WR-CALDESC:Events for 
REFRESH-INTERVAL;VALUE=DURATION:PT1H
X-Robots-Tag:noindex
X-PUBLISHED-TTL:PT1H
BEGIN:VTIMEZONE
TZID:Europe/Lisbon
BEGIN:DAYLIGHT
TZOFFSETFROM:+0000
TZOFFSETTO:+0100
TZNAME:WEST
DTSTART:20250330T010000
END:DAYLIGHT
BEGIN:STANDARD
TZOFFSETFROM:+0100
TZOFFSETTO:+0000
TZNAME:WET
DTSTART:20251026T010000
END:STANDARD
BEGIN:DAYLIGHT
TZOFFSETFROM:+0000
TZOFFSETTO:+0100
TZNAME:WEST
DTSTART:20260329T010000
END:DAYLIGHT
BEGIN:STANDARD
TZOFFSETFROM:+0100
TZOFFSETTO:+0000
TZNAME:WET
DTSTART:20261025T010000
END:STANDARD
BEGIN:DAYLIGHT
TZOFFSETFROM:+0000
TZOFFSETTO:+0100
TZNAME:WEST
DTSTART:20270328T010000
END:DAYLIGHT
BEGIN:STANDARD
TZOFFSETFROM:+0100
TZOFFSETTO:+0000
TZNAME:WET
DTSTART:20271031T010000
END:STANDARD
END:VTIMEZONE
BEGIN:VEVENT
DTSTART;VALUE=DATE:20260430
DTEND;VALUE=DATE:20260525
DTSTAMP:20260425T140752
CREATED:20251203T134711Z
LAST-MODIFIED:20251203T134711Z
UID:4245-1777507200-1779667199@eventosagenda.com
SUMMARY:Festa da Flor - Madeira
DESCRIPTION:
URL:https://eventosagenda.com/event/festa-da-flor-madeira/
LOCATION:Madeira\, Madeira\, Madeira
CATEGORIES:Festas & Festivals
ATTACH;FMTTYPE=image/png:https://eventosagenda.com/wp-content/uploads/2025/12/04-30-Madeira.png
END:VEVENT
BEGIN:VEVENT
DTSTART;TZID=Europe/Lisbon:20260430T080000
DTEND;TZID=Europe/Lisbon:20260503T200000
DTSTAMP:20260425T140752
CREATED:20260425T072837Z
LAST-MODIFIED:20260425T072837Z
UID:5160-1777536000-1777838400@eventosagenda.com
SUMMARY:Festa das Cruzes 2026 - Serzedelo
DESCRIPTION:
URL:https://eventosagenda.com/event/festa-das-cruzes-2026-serzedelo/
LOCATION:Serzedo\, Vila Nova de Gaia\, Serzedo\, Vila Nova de Gaia\, Porto\, Portugal
CATEGORIES:Festas & Festivals
ATTACH;FMTTYPE=image/jpeg:https://eventosagenda.com/wp-content/uploads/2026/04/04-30-Serzedelo.jpg
END:VEVENT
BEGIN:VEVENT
DTSTART;TZID=Europe/Lisbon:20260430T180000
DTEND;TZID=Europe/Lisbon:20260503T233000
DTSTAMP:20260425T140752
CREATED:20260418T072753Z
LAST-MODIFIED:20260418T073324Z
UID:5117-1777572000-1777851000@eventosagenda.com
SUMMARY:Festas de Santa Luzia - Lajeosa
DESCRIPTION:Já estão à venda! \n\n\nAs pulseiras gerais para as Festas de Santa Luzia já se encontram disponíveis! \n\n\nGaranta já a sua e prepare-se para dias cheios de música\, tradição e muita animação!\n\n\n Pode adquirir a sua junto dos Mordomos\n Não deixe para a última hora\n Junte os amigos e venha viver a festa!
URL:https://eventosagenda.com/event/festas-de-santa-luzia-lajeosa/
LOCATION:Lajeosa\, Lajeosa\, Oliveira do Hospital\, Coimbra\, Portugal
CATEGORIES:Festas & Festivals
ATTACH;FMTTYPE=image/jpeg:https://eventosagenda.com/wp-content/uploads/2026/04/04-30-Oliveira-do-Hospital.jpg
END:VEVENT
BEGIN:VEVENT
DTSTART;TZID=Europe/Lisbon:20260430T180000
DTEND;TZID=Europe/Lisbon:20260503T233000
DTSTAMP:20260425T140752
CREATED:20260425T061934Z
LAST-MODIFIED:20260425T061948Z
UID:5122-1777572000-1777851000@eventosagenda.com
SUMMARY:Festas em honra de Santo António - Póvoa do Forno
DESCRIPTION:
URL:https://eventosagenda.com/event/festas-em-honra-de-santo-antonio-povoa-do-forno/
LOCATION:Póvoa do Forno\, Póvoa do Forno\, Troviscal\, Castelo Branco\, Portugal
CATEGORIES:Festas & Festivals
ATTACH;FMTTYPE=image/jpeg:https://eventosagenda.com/wp-content/uploads/2026/04/04-30-Troviscal.jpg
END:VEVENT
BEGIN:VEVENT
DTSTART;TZID=Europe/Lisbon:20260430T203000
DTEND;TZID=Europe/Lisbon:20260503T163000
DTSTAMP:20260425T140752
CREATED:20260317T084321Z
LAST-MODIFIED:20260317T084321Z
UID:4906-1777581000-1777825800@eventosagenda.com
SUMMARY:Festas em honra da Nossa Senhora do Bom Sucesso - Torreira
DESCRIPTION:
URL:https://eventosagenda.com/event/festas-em-honra-da-nossa-senhora-do-bom-sucesso-torreira/
LOCATION:Torreira\, Torreira\, Aveiro\, Portugal
CATEGORIES:Festas & Festivals
ATTACH;FMTTYPE=image/jpeg:https://eventosagenda.com/wp-content/uploads/2026/03/04-30-Torreira.jpg
END:VEVENT
BEGIN:VEVENT
DTSTART;VALUE=DATE:20260501
DTEND;VALUE=DATE:20260504
DTSTAMP:20260425T140752
CREATED:20260121T101438Z
LAST-MODIFIED:20260121T101438Z
UID:4704-1777593600-1777852799@eventosagenda.com
SUMMARY:Festival do Borrego - Orca
DESCRIPTION:It’s official! \nOrca Village will host the 1st edition of the Lamb Festival – Flavours of Gardunha!\n\n\nStay tuned\, soon we will reveal all the news\, schedule and much more!\nMark your calendars now: May 1\, 2\, and 3\, 2026!\n\n\nOrca will be the stage for the best flavours in our region
URL:https://eventosagenda.com/event/festival-do-borrego-orca/
LOCATION:Orca\, Orca\, Castelo Branco\, 6230-512\, Portugal
CATEGORIES:Festas & Festivals,Food & Drink
ATTACH;FMTTYPE=image/jpeg:https://eventosagenda.com/wp-content/uploads/2026/01/05-01-Orca.jpg
END:VEVENT
BEGIN:VEVENT
DTSTART;VALUE=DATE:20260501
DTEND;VALUE=DATE:20260504
DTSTAMP:20260425T140752
CREATED:20260415T075155Z
LAST-MODIFIED:20260415T075523Z
UID:5038-1777593600-1777852799@eventosagenda.com
SUMMARY:IV Feira Mostra de Caprinicultura - Peral
DESCRIPTION:𝗜𝗩 𝗙𝗲𝗶𝗿𝗮 𝗠𝗼𝘀𝘁𝗿𝗮 𝗱𝗲 𝗖𝗮𝗽𝗿𝗶𝗻𝗶𝗰𝘂𝗹𝘁𝘂𝗿𝗮\n\n\nDias 𝟭\, 𝟮 e 𝟯 𝗱𝗲 𝗺𝗮𝗶𝗼 a𝗙𝗲𝗶𝗿𝗮 𝗠𝗼𝘀𝘁𝗿𝗮 𝗱𝗲 𝗖𝗮𝗽𝗿𝗶𝗻𝗶𝗰𝘂𝗹𝘁𝘂𝗿𝗮 está de regresso ao recinto de festas do 𝗣𝗲𝗿𝗮𝗹!\n\n\nEm 2026 o ponto alto das celebrações será a atuação de 𝗧𝗶𝗮𝗴𝗼 𝗦𝗶𝗹𝘃𝗮\, no sábado! O programa completo será anunciado em breve nos canais oficias do Município\, fique atento!\n\n\n\n05 01 Peral
URL:https://eventosagenda.com/event/iv-feira-mostra-de-caprinicultura-peral/
LOCATION:Peral\, Peral\, Proença-A-Nova\, Castelo Branco\, Portugal
CATEGORIES:Festas & Festivals
ATTACH;FMTTYPE=image/jpeg:https://eventosagenda.com/wp-content/uploads/2026/04/05-01-Peral.jpg
END:VEVENT
BEGIN:VEVENT
DTSTART;TZID=Europe/Lisbon:20260501T090000
DTEND;TZID=Europe/Lisbon:20260503T200000
DTSTAMP:20260425T140752
CREATED:20260418T071229Z
LAST-MODIFIED:20260418T071229Z
UID:5102-1777626000-1777838400@eventosagenda.com
SUMMARY:Festividades em Honra de S. Sebastião e Nossa Senhora - Vile\, Caminha
DESCRIPTION:
URL:https://eventosagenda.com/event/festividades-em-honra-de-s-sebastiao-e-nossa-senhora-vile-caminha/
LOCATION:Vile\, Caminha\, Viana do Castelo\, Portugal
CATEGORIES:Festas & Festivals
ATTACH;FMTTYPE=image/jpeg:https://eventosagenda.com/wp-content/uploads/2026/04/05-01-Vile.jpg
END:VEVENT
BEGIN:VEVENT
DTSTART;TZID=Europe/Lisbon:20260501T160000
DTEND;TZID=Europe/Lisbon:20260503T180000
DTSTAMP:20260425T140752
CREATED:20260418T071843Z
LAST-MODIFIED:20260418T071843Z
UID:5109-1777651200-1777831200@eventosagenda.com
SUMMARY:Festa da Flor - Outeiro Grande
DESCRIPTION:
URL:https://eventosagenda.com/event/festa-da-flor-outeiro-grande/
LOCATION:Outeiro Grande\, Outeiro Grande\, Torres Novas\, Santarém\, Portugal
CATEGORIES:Festas & Festivals
ATTACH;FMTTYPE=image/jpeg:https://eventosagenda.com/wp-content/uploads/2026/04/05-01-Outeiro-Grande.jpg
END:VEVENT
BEGIN:VEVENT
DTSTART;TZID=Europe/Lisbon:20260501T173000
DTEND;TZID=Europe/Lisbon:20260503T180000
DTSTAMP:20260425T140752
CREATED:20260320T083331Z
LAST-MODIFIED:20260320T083331Z
UID:4925-1777656600-1777831200@eventosagenda.com
SUMMARY:Festa em Honra de Nossa Senhora do Ó - Corvite
DESCRIPTION:
URL:https://eventosagenda.com/event/festa-em-honra-de-nossa-senhora-do-o-corvite/
LOCATION:Corvite\, Corvite\, Guimarães\, Braga\, Portugal
CATEGORIES:Festas & Festivals
ATTACH;FMTTYPE=image/jpeg:https://eventosagenda.com/wp-content/uploads/2026/03/05-01-Gorvite.jpg
END:VEVENT
BEGIN:VEVENT
DTSTART;TZID=Europe/Lisbon:20260502T170000
DTEND;TZID=Europe/Lisbon:20260502T210000
DTSTAMP:20260425T140752
CREATED:20260425T062643Z
LAST-MODIFIED:20260425T062643Z
UID:5130-1777741200-1777755600@eventosagenda.com
SUMMARY:Fado à Porta - Paranhos\, Porto
DESCRIPTION:FADO AT THE DOOR – Feel the Fado close to you!\nHave you imagined an afternoon where Fado goes straight into the heart of the parish? \nThe Parish Council of Paranhos invites the community to live a unique moment\, full of tradition and good company!\n\n\nLet yourself be enveloped by the guitars\, voices and soul of Fado without leaving home… or almost to !
URL:https://eventosagenda.com/event/fado-a-porta-paranhos-porto/
LOCATION:Paranhos\, Paranhos\, Porto\, Portugal
CATEGORIES:Fado, Concerts & Music
ATTACH;FMTTYPE=image/jpeg:https://eventosagenda.com/wp-content/uploads/2026/04/05-02-Porto.jpg
END:VEVENT
BEGIN:VEVENT
DTSTART;TZID=Europe/Lisbon:20260502T190000
DTEND;TZID=Europe/Lisbon:20260503T190000
DTSTAMP:20260425T140752
CREATED:20260418T072332Z
LAST-MODIFIED:20260418T072332Z
UID:5113-1777748400-1777834800@eventosagenda.com
SUMMARY:Festa em Honra de Santa Catarina - Santa Catarina da Serra
DESCRIPTION:Guardem na agenda\, Festa de Santa Catarina organizada pelos jovens de 1976\, em Santa Catarina da Serra\, dias 2 e 3 de maio
URL:https://eventosagenda.com/event/festa-em-honra-de-santa-catarina-santa-catarina-da-serra/
LOCATION:Santa Catarina da Serra\, Santa Catarina da Serra\, Leiria\, Portugal
CATEGORIES:Festas & Festivals
ATTACH;FMTTYPE=image/jpeg:https://eventosagenda.com/wp-content/uploads/2026/04/05-02-Santa-Catarina-da-Serra.jpg
END:VEVENT
BEGIN:VEVENT
DTSTART;TZID=Europe/Lisbon:20260502T213000
DTEND;TZID=Europe/Lisbon:20260510T170000
DTSTAMP:20260425T140752
CREATED:20260417T073450Z
LAST-MODIFIED:20260417T073450Z
UID:5074-1777757400-1778432400@eventosagenda.com
SUMMARY:A Romaria do Concelho em Honra de São Torcato - Cabaços
DESCRIPTION:
URL:https://eventosagenda.com/event/a-romaria-do-concelho-em-honra-de-sao-torcato-cabacos/
LOCATION:Cabaços\, Cabaços\, Moimenta da Beira\, Viseu\, Portugal
CATEGORIES:Festas & Festivals
ATTACH;FMTTYPE=image/jpeg:https://eventosagenda.com/wp-content/uploads/2026/04/05-02-Cabacos.jpg
END:VEVENT
BEGIN:VEVENT
DTSTART;TZID=Europe/Lisbon:20260503T080000
DTEND;TZID=Europe/Lisbon:20260503T170000
DTSTAMP:20260425T140752
CREATED:20260425T120341Z
LAST-MODIFIED:20260425T120341Z
UID:5167-1777795200-1777827600@eventosagenda.com
SUMMARY:Passeio TT\, Terras de Dom Pedro - Vila de Lalim
DESCRIPTION:This is an off-road event scheduled for May 3\, 2026\, catering to 4×4 vehicles\, motorbikes\, and quads. The day begins early with breakfast and registration\, followed by a guided tour through the local terrain. The program includes a mid-morning snack\, a traditional spit-roasted pork lunch\, and an afternoon session on an obstacle track. Participants also have access to hot showers at the end of the day.
URL:https://eventosagenda.com/event/passeio-tt-terras-de-dom-pedro-vila-de-lalim/
LOCATION:Vila de Lalim\, Vila de Lalim\, Lamego\, Viseu\, Portugal
CATEGORIES:Tours & Trips
ATTACH;FMTTYPE=image/jpeg:https://eventosagenda.com/wp-content/uploads/2026/04/05-03-Vila-de-Lalim.jpg
END:VEVENT
BEGIN:VEVENT
DTSTART;TZID=Europe/Lisbon:20260503T110000
DTEND;TZID=Europe/Lisbon:20260503T170000
DTSTAMP:20260425T140752
CREATED:20260418T065935Z
LAST-MODIFIED:20260418T065935Z
UID:5093-1777806000-1777827600@eventosagenda.com
SUMMARY:Campeonato de Portugal de Carrinhos de Rolamentos e Trikes - Proença-a-Nova
DESCRIPTION:
URL:https://eventosagenda.com/event/campeonato-de-portugal-de-carrinhos-de-rolamentos-e-trikes-proenca-a-nova/
LOCATION:Proença-a-Nova\, Proença-a-Nova\, Castelo Branco\, Portugal
CATEGORIES:Sports & Games
ATTACH;FMTTYPE=image/jpeg:https://eventosagenda.com/wp-content/uploads/2026/04/05-03-Proenca.jpg
END:VEVENT
BEGIN:VEVENT
DTSTART;VALUE=DATE:20260507
DTEND;VALUE=DATE:20260511
DTSTAMP:20260425T140752
CREATED:20251130T105716Z
LAST-MODIFIED:20251130T110121Z
UID:4128-1778112000-1778457599@eventosagenda.com
SUMMARY:WRC Rally Portugal 2026
DESCRIPTION:
URL:https://eventosagenda.com/event/wrc-rally-portugal-2026/
LOCATION:Porto\, Porto\, Porto\, Portugal
CATEGORIES:Sports & Games
ATTACH;FMTTYPE=image/jpeg:https://eventosagenda.com/wp-content/uploads/2025/04/rp2025-rally_portugal.jpg
END:VEVENT
BEGIN:VEVENT
DTSTART;TZID=Europe/Lisbon:20260507T203000
DTEND;TZID=Europe/Lisbon:20260511T233000
DTSTAMP:20260425T140752
CREATED:20260417T075037Z
LAST-MODIFIED:20260417T075053Z
UID:5082-1778185800-1778542200@eventosagenda.com
SUMMARY:Festa em Honra de Santo Estêvão - Ribeira de Baixo
DESCRIPTION:
URL:https://eventosagenda.com/event/festa-em-honra-de-santo-estevao-ribeira-de-baixo/
LOCATION:Ribeira de Baixo\, Ribeira de Baixo\, Leiria\, Portugal
CATEGORIES:Festas & Festivals
ATTACH;FMTTYPE=image/jpeg:https://eventosagenda.com/wp-content/uploads/2026/04/05-07-Ribeira-de-Baixo.jpg
END:VEVENT
BEGIN:VEVENT
DTSTART;VALUE=DATE:20260508
DTEND;VALUE=DATE:20260510
DTSTAMP:20260425T140752
CREATED:20260425T120548Z
LAST-MODIFIED:20260425T120611Z
UID:5171-1778198400-1778371199@eventosagenda.com
SUMMARY:VIII Festival das Migas - Vale das Mós
DESCRIPTION:This food festival celebrates a traditional Portuguese dish called migas and takes place over two days\, May 8 and May 9\, 2026. Visitors can enjoy migas served with pork ribs or roasted chicken while listening to live musical performances by Zé Pedro Sousa\, Vânia Mariza\, and Al Dhalvs. It is a community-focused event supported by the local municipality to showcase regional gastronomy and entertainment.
URL:https://eventosagenda.com/event/viii-festival-das-migas-vale-das-mos/
LOCATION:Vale das Mós\, Vale das Mós\, Abrantes\, Santarém\, Portugal
CATEGORIES:Festas & Festivals
ATTACH;FMTTYPE=image/jpeg:https://eventosagenda.com/wp-content/uploads/2026/04/05-08-Vale-das-Mos.jpg
END:VEVENT
BEGIN:VEVENT
DTSTART;VALUE=DATE:20260508
DTEND;VALUE=DATE:20260511
DTSTAMP:20260425T140752
CREATED:20260320T085511Z
LAST-MODIFIED:20260320T085552Z
UID:4946-1778198400-1778457599@eventosagenda.com
SUMMARY:Grandiosos Festejos em Honra de São Pedro - Escalos de Cima
DESCRIPTION:
URL:https://eventosagenda.com/event/grandiosos-festejos-em-honra-de-sao-pedro-escalos-de-cima/
LOCATION:Escalos de Cima\, Escalos de Cima\, Lousa\, Coimbra\, Portugal
CATEGORIES:Festas & Festivals
ATTACH;FMTTYPE=image/jpeg:https://eventosagenda.com/wp-content/uploads/2026/03/05-08-Escalos-de-Cima.jpg
END:VEVENT
BEGIN:VEVENT
DTSTART;TZID=Europe/Lisbon:20260508T180000
DTEND;TZID=Europe/Lisbon:20260510T143000
DTSTAMP:20260425T140752
CREATED:20260425T063824Z
LAST-MODIFIED:20260425T063837Z
UID:5137-1778263200-1778423400@eventosagenda.com
SUMMARY:34ª Edição Festival Favas à nossa moda - Mira
DESCRIPTION:
URL:https://eventosagenda.com/event/34a-edicao-festival-favas-a-nossa-moda-mira/
LOCATION:Mira\, Mira\, Coimbra\, Portugal
CATEGORIES:Festas & Festivals,Food & Drink
ATTACH;FMTTYPE=image/jpeg:https://eventosagenda.com/wp-content/uploads/2026/04/05-08-Mira.jpg
END:VEVENT
BEGIN:VEVENT
DTSTART;TZID=Europe/Lisbon:20260508T180000
DTEND;TZID=Europe/Lisbon:20260523T170000
DTSTAMP:20260425T140752
CREATED:20260425T073529Z
LAST-MODIFIED:20260425T073713Z
UID:5163-1778263200-1779555600@eventosagenda.com
SUMMARY:Exposição de pintura "Pessoas e Lugares" - Caldas da Rainha
DESCRIPTION:Andreia Domingos develops her work from photographic references\, primarily exploring realistic painting and drawing. The human body emerges as a central element\, serving as a starting point for a visual investigation into presence\, shadow\, and memory. \nWorking mainly in acrylic\, on a small to medium scale\, her works reveal meticulous attention to detail. \nIn the exhibition “Pessoas e Lugares\,” on display at the Art4family Gallery\, she presents a selection of realistic paintings inspired by people and spaces from her daily life\, bringing together different series: \nCaldas Late Night – based on photograps from the 2025 edition of the event;\nPeniche – a series dedicated to landscapes\, particularly the sea\, where the human presence continues to subtly mark the compositions;\nMemórias – a set of works based on childhood photographs\, seeking to rescue and give new life to personal memories;\nCorpo e Sombra – figurative paintings in black and white\, centered on the body\, the silhouette\, and light and shadow\, exploring the fluidity of the image. \nOpening: May 8th\, from 6 PM to 8:30 PM\nLocation: Art4family Gallery\, Rua Raúl Proença\, nº 71\, 2500-248 Caldas da Rainha\nOpen to the public: May 8th to 23rd\, free admission\nOpening Hours: Monday – 3 PM – 7 PM\nTuesday to Friday: 10 AM – 1 PM / 2 PM – 7 PM\nSaturday: 10 AM – 2 PM\nSunday and Holidays: Closed \nAn exhibition that invites contemplation and a connection between sight\, memory\, and experience.
URL:https://eventosagenda.com/event/exposicao-de-pintura-pessoas-e-lugares-caldas-da-rainha/
LOCATION:Caldas da Rainha\, Landal\, Caldas da Rainha\, Leiria\, Portugal
CATEGORIES:Arts & Culture
ATTACH;FMTTYPE=image/jpeg:https://eventosagenda.com/wp-content/uploads/2026/04/05-08-Caldas.jpg
END:VEVENT
BEGIN:VEVENT
DTSTART;TZID=Europe/Lisbon:20260509T090000
DTEND;TZID=Europe/Lisbon:20260510T180000
DTSTAMP:20260425T140752
CREATED:20260425T121440Z
LAST-MODIFIED:20260425T122801Z
UID:5179-1778317200-1778436000@eventosagenda.com
SUMMARY:Festa em Honra de Nossa Senhora de Fátima - Arões São Romão
DESCRIPTION:This religious celebration takes place over the weekend of May 9 and 10\, 2026\, at the Capela de Oleiros. The event begins on Saturday morning with a traditional drumming group (Zés P’reiras) marching through the parish. Sunday’s program is packed with variety\, starting with a community walk through local trails\, followed by a performance from a folk dancing group (Rancho Folclórico de Paços). The festivities conclude with a solemn Mass and a religious procession through the local streets\, starting and ending at the chapel.
URL:https://eventosagenda.com/event/festa-em-honra-de-nossa-senhora-de-fatima-aroes-sao-romao/
LOCATION:Arões São Romão\, Arões São Romão\, Fafe\, Braga\, Portugal
CATEGORIES:Festas & Festivals
ATTACH;FMTTYPE=image/jpeg:https://eventosagenda.com/wp-content/uploads/2026/04/05-10-Capela-de-Oleiros.jpg
END:VEVENT
BEGIN:VEVENT
DTSTART;TZID=Europe/Lisbon:20260509T150000
DTEND;TZID=Europe/Lisbon:20260510T220000
DTSTAMP:20260425T140752
CREATED:20260425T120917Z
LAST-MODIFIED:20260425T121058Z
UID:5175-1778338800-1778450400@eventosagenda.com
SUMMARY:Festa em Honra de Nossa Senhora da Ribeira - Covais
DESCRIPTION:This traditional religious festival honors Our Lady of the Ribeira and spans two days\, May 9 and 10\, 2026. The celebration combines community socializing with religious devotion\, featuring a communal meal of spit-roasted pork on Saturday followed by a karaoke party. Sunday is dedicated to more formal traditions\, including a 21-gun salute\, a pilgrimage from the Church of Pinheiro da Bemposta to the local chapel\, and live musical performances by Banda Tema and Irmãos Coragem to close the festivities.
URL:https://eventosagenda.com/event/festa-em-honra-de-nossa-senhora-da-ribeira-covais/
LOCATION:Covais\, Covais\, Oliveira de Azeméis\, Aveiro\, Portugal
CATEGORIES:Festas & Festivals
ATTACH;FMTTYPE=image/jpeg:https://eventosagenda.com/wp-content/uploads/2026/04/05-09-Covais.jpg
END:VEVENT
BEGIN:VEVENT
DTSTART;TZID=Europe/Lisbon:20260509T210000
DTEND;TZID=Europe/Lisbon:20260509T230000
DTSTAMP:20260425T140752
CREATED:20260417T075546Z
LAST-MODIFIED:20260417T075600Z
UID:5086-1778360400-1778367600@eventosagenda.com
SUMMARY:Raquel Maria em concerto - Louriçal do Campo
DESCRIPTION:
URL:https://eventosagenda.com/event/raquel-maria-em-concerto-lourical-do-campo/
LOCATION:Louriçal Do Campo\, Louriçal Do Campo\, Castelo Branco\, Portugal
CATEGORIES:Fado, Concerts & Music
ATTACH;FMTTYPE=image/jpeg:https://eventosagenda.com/wp-content/uploads/2026/04/05-09-Lourical-do-Campo.jpg
END:VEVENT
BEGIN:VEVENT
DTSTART;TZID=Europe/Lisbon:20260510T090000
DTEND;TZID=Europe/Lisbon:20260510T170000
DTSTAMP:20260425T140752
CREATED:20260425T123048Z
LAST-MODIFIED:20260425T123048Z
UID:5183-1778403600-1778432400@eventosagenda.com
SUMMARY:Costeleta de Novilho - Pereiro de Palhacana
DESCRIPTION:This community lunch event features veal chops as the main dish and is scheduled for May 10\, 2026. The gathering starts at 1:00 PM\, but there is an earlier activity for those interested: a community walk beginning at 9:00 AM. The full meal menu includes the veal chop served with fries and rice\, along with juices\, wine\, dessert\, and coffee.
URL:https://eventosagenda.com/event/costeleta-de-novilho-pereiro-de-palhacana/
LOCATION:Pereiro de Palhacana\, Pereiro de Palhacana\, Alenquer\, Lisboa\, Portugal
CATEGORIES:Food & Drink,Tours & Trips
ATTACH;FMTTYPE=image/jpeg:https://eventosagenda.com/wp-content/uploads/2026/04/05-10-Palhacana.jpg
END:VEVENT
BEGIN:VEVENT
DTSTART;TZID=Europe/Lisbon:20260514T143000
DTEND;TZID=Europe/Lisbon:20260517T180000
DTSTAMP:20260425T140752
CREATED:20260320T084001Z
LAST-MODIFIED:20260320T084044Z
UID:4933-1778769000-1779040800@eventosagenda.com
SUMMARY:Festas em Honra de Nossa Senhora da Tocha - Santo Adrião
DESCRIPTION:
URL:https://eventosagenda.com/event/festas-em-honra-de-nossa-senhora-da-tocha-santo-adriao/
LOCATION:Santo Adrião de Vizela\, Vizela\, Braga\, Portugal
CATEGORIES:Festas & Festivals
ATTACH;FMTTYPE=image/jpeg:https://eventosagenda.com/wp-content/uploads/2026/03/05-14-St-Adriao-Vizela.jpg
END:VEVENT
BEGIN:VEVENT
DTSTART;TZID=Europe/Lisbon:20260514T203000
DTEND;TZID=Europe/Lisbon:20260517T233000
DTSTAMP:20260425T140752
CREATED:20260416T123534Z
LAST-MODIFIED:20260416T123548Z
UID:5059-1778790600-1779060600@eventosagenda.com
SUMMARY:Festas de São Gonçalo 2026 - Cabanas\, Palmela
DESCRIPTION:
URL:https://eventosagenda.com/event/festas-de-sao-goncalo-2026-cabanas-palmela/
LOCATION:Cabanas\, Cabanas\, Palmela\, Lisboa\, Portugal
CATEGORIES:Festas & Festivals
ATTACH;FMTTYPE=image/jpeg:https://eventosagenda.com/wp-content/uploads/2026/04/05-14-Cabanas.jpg
END:VEVENT
BEGIN:VEVENT
DTSTART;TZID=Europe/Lisbon:20260515T070000
DTEND;TZID=Europe/Lisbon:20260517T200000
DTSTAMP:20260425T140752
CREATED:20260418T071517Z
LAST-MODIFIED:20260418T073429Z
UID:5105-1778828400-1779048000@eventosagenda.com
SUMMARY:Festas em Honra de Nossa Senhora de Fátima e Senhor dos Aflitos - Fontoura
DESCRIPTION:De 15 a 17 de Maio o ponto de encontro é no Largo da Igreja!\nJunta-te a nós e vem divertir-te numa das primeiras festas do ano.\nContamos contigo \n\n\nAté breve
URL:https://eventosagenda.com/event/festas-em-honra-de-nossa-senhora-de-fatima-e-senhor-dos-aflitos-fontoura/
LOCATION:Fontoura\, Fontoura\, Viana do Castelo\, Portugal
CATEGORIES:Festas & Festivals
ATTACH;FMTTYPE=image/jpeg:https://eventosagenda.com/wp-content/uploads/2026/04/05-15-Fontoura.jpg
END:VEVENT
BEGIN:VEVENT
DTSTART;TZID=Europe/Lisbon:20260515T080000
DTEND;TZID=Europe/Lisbon:20260518T220000
DTSTAMP:20260425T140752
CREATED:20260425T071442Z
LAST-MODIFIED:20260425T071442Z
UID:5153-1778832000-1779141600@eventosagenda.com
SUMMARY:Festas de Nossa Senhora de Fátima - Bagunte
DESCRIPTION:
URL:https://eventosagenda.com/event/festas-de-nossa-senhora-de-fatima-bagunte/
LOCATION:Bagunte\, Bagunte\, Vila do Conde\, Porto\, Portugal
CATEGORIES:Festas & Festivals
ATTACH;FMTTYPE=image/jpeg:https://eventosagenda.com/wp-content/uploads/2026/04/676991665_122187359120598021_2136137904645444019_n.jpg
END:VEVENT
BEGIN:VEVENT
DTSTART;TZID=Europe/Lisbon:20260515T110000
DTEND;TZID=Europe/Lisbon:20260517T160000
DTSTAMP:20260425T140752
CREATED:20260425T062401Z
LAST-MODIFIED:20260425T062401Z
UID:5126-1778842800-1779033600@eventosagenda.com
SUMMARY:XX Feira dos Grelos - Carapelhos
DESCRIPTION:
URL:https://eventosagenda.com/event/xx-feira-dos-grelos-carapelhos/
LOCATION:Carapelhos\, Carapelhos\, Mira\, Coimbra\, Portugal
CATEGORIES:Festas & Festivals
ATTACH;FMTTYPE=image/jpeg:https://eventosagenda.com/wp-content/uploads/2026/04/05-15-Carapelhos.jpg
END:VEVENT
END:VCALENDAR