BEGIN:VCALENDAR
VERSION:2.0
PRODID:-// - ECPv6.15.20//NONSGML v1.0//EN
CALSCALE:GREGORIAN
METHOD:PUBLISH
X-ORIGINAL-URL:https://eventosagenda.com
X-WR-CALDESC:Events for 
REFRESH-INTERVAL;VALUE=DURATION:PT1H
X-Robots-Tag:noindex
X-PUBLISHED-TTL:PT1H
BEGIN:VTIMEZONE
TZID:Europe/Lisbon
BEGIN:DAYLIGHT
TZOFFSETFROM:+0000
TZOFFSETTO:+0100
TZNAME:WEST
DTSTART:20240331T010000
END:DAYLIGHT
BEGIN:STANDARD
TZOFFSETFROM:+0100
TZOFFSETTO:+0000
TZNAME:WET
DTSTART:20241027T010000
END:STANDARD
BEGIN:DAYLIGHT
TZOFFSETFROM:+0000
TZOFFSETTO:+0100
TZNAME:WEST
DTSTART:20250330T010000
END:DAYLIGHT
BEGIN:STANDARD
TZOFFSETFROM:+0100
TZOFFSETTO:+0000
TZNAME:WET
DTSTART:20251026T010000
END:STANDARD
BEGIN:DAYLIGHT
TZOFFSETFROM:+0000
TZOFFSETTO:+0100
TZNAME:WEST
DTSTART:20260329T010000
END:DAYLIGHT
BEGIN:STANDARD
TZOFFSETFROM:+0100
TZOFFSETTO:+0000
TZNAME:WET
DTSTART:20261025T010000
END:STANDARD
END:VTIMEZONE
BEGIN:VEVENT
DTSTART;VALUE=DATE:20250606
DTEND;VALUE=DATE:20250616
DTSTAMP:20260422T191328
CREATED:20250530T131135Z
LAST-MODIFIED:20250530T131605Z
UID:2181-1749168000-1750031999@eventosagenda.com
SUMMARY:Festa em Honra do Divino Espírito Santo - Eiras
DESCRIPTION:
URL:https://eventosagenda.com/event/festa-em-honra-do-divino-espirito-santo-eiras/
LOCATION:Eiras\, Eiras\, Coimbra\, Portugal
CATEGORIES:Festas & Festivals
ATTACH;FMTTYPE=image/jpeg:https://eventosagenda.com/wp-content/uploads/2025/05/499928761_696612106449173_1643084778288383281_n.jpg
END:VEVENT
BEGIN:VEVENT
DTSTART;VALUE=DATE:20250606
DTEND;VALUE=DATE:20250616
DTSTAMP:20260422T191328
CREATED:20250603T134739Z
LAST-MODIFIED:20250603T134739Z
UID:2321-1749168000-1750031999@eventosagenda.com
SUMMARY:Festas Estarreja 2025
DESCRIPTION:
URL:https://eventosagenda.com/event/festas-estarreja-2025/
LOCATION:Estarreja\, Estarreja\, Aveiro\, Portugal
CATEGORIES:Festas & Festivals
ATTACH;FMTTYPE=image/jpeg:https://eventosagenda.com/wp-content/uploads/2025/06/06.06-15-Estarreja.jpeg
END:VEVENT
BEGIN:VEVENT
DTSTART;TZID=Europe/Lisbon:20250606T080000
DTEND;TZID=Europe/Lisbon:20250608T200000
DTSTAMP:20260422T191328
CREATED:20250520T121612Z
LAST-MODIFIED:20250520T121631Z
UID:1843-1749196800-1749412800@eventosagenda.com
SUMMARY:Moreira do Lima Festa 2025 - Ponte de Lima
DESCRIPTION:
URL:https://eventosagenda.com/event/moreira-do-lima-festa-2025-ponte-de-lima/
LOCATION:Moreira do Lima\, Ponte de LIma\, Viana do Castelo\, Portugal
CATEGORIES:Festas & Festivals
ATTACH;FMTTYPE=image/jpeg:https://eventosagenda.com/wp-content/uploads/2025/05/facebook_1747737089163_7330540664027749972.jpg
END:VEVENT
BEGIN:VEVENT
DTSTART;TZID=Europe/Lisbon:20250606T080000
DTEND;TZID=Europe/Lisbon:20250608T233000
DTSTAMP:20260422T191328
CREATED:20250507T213935Z
LAST-MODIFIED:20250507T213935Z
UID:1244-1749196800-1749425400@eventosagenda.com
SUMMARY:Festas em honra de Nossa Senhora de Fátima - Vale da Pedra
DESCRIPTION:  \nFesta em Honra de Nossa Senhora de Fátima ♥︎\nEste ano a festa de Vale da pedra irá se realizar dia 6 \, 7 e 8 de Junho e espero imenso que apareçam e que venham ajudar a nossa Terra a manter se com vida.\n\n\nFeast in Honor of Our Lady of Fatima ♥︎\nThis year the Stone Valley Festival will be held on June 6th\, 7th and 8th and I hope that you will come and help our Earth stay alive.
URL:https://eventosagenda.com/event/festas-em-honra-de-nossa-senhora-de-fatima-vale-da-pedra/
LOCATION:Vale da Pedra\, Cartaxo\, Santarém\, Portugal
CATEGORIES:Festas & Festivals
ATTACH;FMTTYPE=image/jpeg:https://eventosagenda.com/wp-content/uploads/2025/05/Vale-da-Pedra.jpg
END:VEVENT
BEGIN:VEVENT
DTSTART;TZID=Europe/Lisbon:20250606T080000
DTEND;TZID=Europe/Lisbon:20250609T000000
DTSTAMP:20260422T191328
CREATED:20250512T172530Z
LAST-MODIFIED:20250512T172613Z
UID:1443-1749196800-1749427200@eventosagenda.com
SUMMARY:Divino Espirito Santo 2025 - Vila Maior\, Santa Maria da Feira
DESCRIPTION:
URL:https://eventosagenda.com/event/divino-espirito-santo-2025-vila-maior-santa-maria-da-feira/
LOCATION:Vila Maior\, Vila Maior\, Santa Maria da Feira\, Aveiro\, Portugal
CATEGORIES:Festas & Festivals
ATTACH;FMTTYPE=image/jpeg:https://eventosagenda.com/wp-content/uploads/2025/05/facebook_1746970230285_7327324224765792160.jpg
END:VEVENT
BEGIN:VEVENT
DTSTART;TZID=Europe/Lisbon:20250606T080000
DTEND;TZID=Europe/Lisbon:20250609T213000
DTSTAMP:20260422T191328
CREATED:20250514T200743Z
LAST-MODIFIED:20250514T200743Z
UID:1613-1749196800-1749504600@eventosagenda.com
SUMMARY:Grandiosas Festas em honra de Nossa Senhora do Alívio - Perosinho
DESCRIPTION:
URL:https://eventosagenda.com/event/grandiosas-festas-em-honra-de-nossa-senhora-do-alivio-perosinho/
LOCATION:Perosinho\, Perosinho\, Vila Nova de Gaia\, Porto\, Portugal
CATEGORIES:Festas & Festivals
ATTACH;FMTTYPE=image/jpeg:https://eventosagenda.com/wp-content/uploads/2025/05/facebook_1747252959639_7328510077628320737.jpg
END:VEVENT
BEGIN:VEVENT
DTSTART;TZID=Europe/Lisbon:20250606T080000
DTEND;TZID=Europe/Lisbon:20250609T233000
DTSTAMP:20260422T191328
CREATED:20250601T094012Z
LAST-MODIFIED:20250601T094126Z
UID:2300-1749196800-1749511800@eventosagenda.com
SUMMARY:Festa em Honra Nossa Senhora das Febres - Esmoriz
DESCRIPTION:
URL:https://eventosagenda.com/event/festa-em-honra-nossa-senhora-das-febres-esmoriz/
LOCATION:Esmoriz\, Esmoriz\, Ovar\, Aveiro\, Portugal
CATEGORIES:Festas & Festivals
ATTACH;FMTTYPE=image/jpeg:https://eventosagenda.com/wp-content/uploads/2025/06/facebook_1748684462191_7334514234507575176.jpg
END:VEVENT
BEGIN:VEVENT
DTSTART;TZID=Europe/Lisbon:20250606T160000
DTEND;TZID=Europe/Lisbon:20250608T210000
DTSTAMP:20260422T191328
CREATED:20250430T091621Z
LAST-MODIFIED:20250430T091621Z
UID:764-1749225600-1749416400@eventosagenda.com
SUMMARY:Pedra do Altar Festa 2025
DESCRIPTION:
URL:https://eventosagenda.com/event/pedra-do-altar-festa-2025/
LOCATION:Pedra do Altar\, Proença-a-Nova\, Castelo Branco\, Portugal
CATEGORIES:Festas & Festivals
ATTACH;FMTTYPE=image/jpeg:https://eventosagenda.com/wp-content/uploads/2025/04/facebook_1745971845075_7323136693686957843.jpg
END:VEVENT
BEGIN:VEVENT
DTSTART;TZID=Europe/Lisbon:20250606T180000
DTEND;TZID=Europe/Lisbon:20250608T153000
DTSTAMP:20260422T191328
CREATED:20250605T201923Z
LAST-MODIFIED:20250605T201936Z
UID:2572-1749232800-1749396600@eventosagenda.com
SUMMARY:Convívio Tradicional de Paus 2025 - Paus\, Alquerubim
DESCRIPTION:
URL:https://eventosagenda.com/event/convivio-tradicional-de-paus-2025-paus-alquerubim/
LOCATION:Paus\, Paus\, Alquerubim\, Aveiro\, Portugal
CATEGORIES:Festas & Festivals
ATTACH;FMTTYPE=image/jpeg:https://eventosagenda.com/wp-content/uploads/2025/06/06.06-08-Paus-Alquerubim.jpg
END:VEVENT
BEGIN:VEVENT
DTSTART;TZID=Europe/Lisbon:20250606T180000
DTEND;TZID=Europe/Lisbon:20250608T190000
DTSTAMP:20260422T191328
CREATED:20250530T132033Z
LAST-MODIFIED:20250530T132145Z
UID:2185-1749232800-1749409200@eventosagenda.com
SUMMARY:Festa da Cereja - Alcongosta
DESCRIPTION:Cherry Festival is coming back to Alcongosta! \n June 6-8\, 2025\n\n\nThree days full of colour\, flavour and a lot of excitement to celebrate the best that the earth gives us: the Cherry of Fundão!\n\n\nLive music\, street entertainment\, theatre\, shows\, unmissable concerts and of course… A lot of cherries!\nThere is also a children’s space\, tasks\, sale of local products and the already traditional Cherry Train\, which walks among the beautiful cereals of the Gardunha Serra.\n\n\n Main gigs:\nJune 6 – Funnel & Bee (10:30pm)\nJune 7 – Virgin Suta (10:30pm)\n\n\nIf you’re looking for a different weekend\, with good music\, good food and good mood\, there’s only one destination: Alcongosta!\nTag your friends and join the party!
URL:https://eventosagenda.com/event/festa-da-cereja-alcongosta/
LOCATION:Alcongosta\, Alcongosta\, Fundão\, Castelo Branco\, Portugal
CATEGORIES:Festas & Festivals,Food & Drink
ATTACH;FMTTYPE=image/jpeg:https://eventosagenda.com/wp-content/uploads/2025/05/facebook_1748452635111_7333541881257400855.jpg
END:VEVENT
BEGIN:VEVENT
DTSTART;TZID=Europe/Lisbon:20250606T180000
DTEND;TZID=Europe/Lisbon:20250608T210000
DTSTAMP:20260422T191328
CREATED:20250530T124820Z
LAST-MODIFIED:20250530T124820Z
UID:2159-1749232800-1749416400@eventosagenda.com
SUMMARY:Feira de Inspiracao Renascentista - Vila Viçosa
DESCRIPTION:IV FAIR OF RENAISSANCE INSPIRATION ENT VILLA VICOSA \n June 6th to 8th!\n Various historical experiences we have for you!\nAn event you don’t want to miss!
URL:https://eventosagenda.com/event/feira-de-inspiracao-renascentista-vila-vicosa/
LOCATION:Vila Viçosa\, Vila Viçosa\, Evora\, Portugal
CATEGORIES:Festas & Festivals
ATTACH;FMTTYPE=image/jpeg:https://eventosagenda.com/wp-content/uploads/2025/05/facebook_1748553643631_7333965541697633792.jpg
END:VEVENT
BEGIN:VEVENT
DTSTART;TZID=Europe/Lisbon:20250606T180000
DTEND;TZID=Europe/Lisbon:20250610T160000
DTSTAMP:20260422T191328
CREATED:20250530T132651Z
LAST-MODIFIED:20250530T132651Z
UID:2189-1749232800-1749571200@eventosagenda.com
SUMMARY:Festa Anual 2025 Casal dos Ramos - Cela Alcobaça
DESCRIPTION:
URL:https://eventosagenda.com/event/festa-anual-2025-casal-dos-ramos-cela-alcobaca/
LOCATION:Cela Alcobaça\, Cela\, Alcobaça\, Leiria
CATEGORIES:Festas & Festivals
ATTACH;FMTTYPE=image/jpeg:https://eventosagenda.com/wp-content/uploads/2025/05/facebook_1748461310792_7333578269704297686.jpg
END:VEVENT
BEGIN:VEVENT
DTSTART;TZID=Europe/Lisbon:20250606T190000
DTEND;TZID=Europe/Lisbon:20250607T000000
DTSTAMP:20260422T191328
CREATED:20250518T101009Z
LAST-MODIFIED:20250518T101136Z
UID:1782-1749236400-1749254400@eventosagenda.com
SUMMARY:Santos Populares dos Bombeiros de Barcarena
DESCRIPTION:
URL:https://eventosagenda.com/event/santos-populares-dos-bombeiros-de-barcarena/
LOCATION:Barcarena\, Barcarena\, Lisboa\, Portugal
CATEGORIES:Festas & Festivals
ATTACH;FMTTYPE=image/jpeg:https://eventosagenda.com/wp-content/uploads/2025/05/facebook_1747418687773_7329205191803805275-1.jpg
END:VEVENT
BEGIN:VEVENT
DTSTART;TZID=Europe/Lisbon:20250606T200000
DTEND;TZID=Europe/Lisbon:20250609T233000
DTSTAMP:20260422T191328
CREATED:20250512T204430Z
LAST-MODIFIED:20250512T210507Z
UID:1461-1749240000-1749511800@eventosagenda.com
SUMMARY:Império do Pentecostes - Atalhada\, Açores
DESCRIPTION:
URL:https://eventosagenda.com/event/imperio-do-pentecostes-atalhada/
LOCATION:Atalhada\, Atalhada\, Lagoa\, Açores\, Portugal
CATEGORIES:Festas & Festivals
ATTACH;FMTTYPE=image/jpeg:https://eventosagenda.com/wp-content/uploads/2025/05/facebook_1747073801549_7327758634133496154.jpg
END:VEVENT
BEGIN:VEVENT
DTSTART;TZID=Europe/Lisbon:20250606T200000
DTEND;TZID=Europe/Lisbon:20250609T233000
DTSTAMP:20260422T191328
CREATED:20250523T171716Z
LAST-MODIFIED:20250523T171716Z
UID:1930-1749240000-1749511800@eventosagenda.com
SUMMARY:Festival da Cerveja - Bombarral
DESCRIPTION:
URL:https://eventosagenda.com/event/festival-da-cerveja-bombarral/
LOCATION:Bombarral\, Bombarral\, Leiria\, Portugal
CATEGORIES:Festas & Festivals,Food & Drink
ATTACH;FMTTYPE=image/jpeg:https://eventosagenda.com/wp-content/uploads/2025/05/facebook_1748018544631_7331721173820498033.jpg
END:VEVENT
BEGIN:VEVENT
DTSTART;TZID=Europe/Lisbon:20250606T200000
DTEND;TZID=Europe/Lisbon:20250610T213000
DTSTAMP:20260422T191328
CREATED:20250513T190401Z
LAST-MODIFIED:20250513T190422Z
UID:1525-1749240000-1749591000@eventosagenda.com
SUMMARY:Festival de Verao 2025 - Rio Meão
DESCRIPTION:
URL:https://eventosagenda.com/event/festival-de-verao-2025-rio-meao/
LOCATION:Rio Meão\, Rio Meão\, Aveiro\, Portugal
CATEGORIES:Festas & Festivals
ATTACH;FMTTYPE=image/jpeg:https://eventosagenda.com/wp-content/uploads/2025/05/facebook_1747087268252_7327815117580125757.jpg
END:VEVENT
BEGIN:VEVENT
DTSTART;TZID=Europe/Lisbon:20250606T200000
DTEND;TZID=Europe/Lisbon:20250621T233000
DTSTAMP:20260422T191328
CREATED:20250516T125850Z
LAST-MODIFIED:20250516T130031Z
UID:1705-1749240000-1750548600@eventosagenda.com
SUMMARY:Noites Quentes - Moreira em Festa 2025
DESCRIPTION:HOT NIGHTS 2025\nFrom June 6th\, Moreira is in Party with Hot Nights 2025!\nJoin us at Vieira de Carvalho Elementary and Secondary School and come celebrate the arrival of summer with music\, animation and many snacks prepared by the collectives of Vila de Moreira.\n\n\nWe’re counting on you! Admission is free!\n\n\nProgram:\n\n\nJUNE 6 – LATINA SOUL DUO\nJUNE 7 – PAULO COSTA | TELMO F\nJUNE 9 – CHARISMA\n\n\nJUNE 18 – IMPACT DUO | PAULO RIBEIRO\nJUNE 20 – PHILIP BAPTISTA | QUINITO\nJUNE 21 – DJ ZÉ PAULO | RICARDO GOMES
URL:https://eventosagenda.com/event/noites-quentes-moreira-em-festa-2025/
LOCATION:Moreira\, Moreira\, Maia\, Porto\, Portugal
CATEGORIES:Festas & Festivals
ATTACH;FMTTYPE=image/jpeg:https://eventosagenda.com/wp-content/uploads/2025/05/facebook_1747319417542_7328788822276815972.jpg
END:VEVENT
BEGIN:VEVENT
DTSTART;TZID=Europe/Lisbon:20250606T203000
DTEND;TZID=Europe/Lisbon:20250608T150000
DTSTAMP:20260422T191328
CREATED:20250512T133849Z
LAST-MODIFIED:20250512T133902Z
UID:1398-1749241800-1749394800@eventosagenda.com
SUMMARY:Sebolido em Festa 2025
DESCRIPTION:
URL:https://eventosagenda.com/event/sebolido-em-festa-2025/
LOCATION:Sebolido\, Sebolido\, Porto\, Portugal
CATEGORIES:Festas & Festivals
ATTACH;FMTTYPE=image/jpeg:https://eventosagenda.com/wp-content/uploads/2025/05/facebook_1747032591662_7327585787338922060.jpg
END:VEVENT
BEGIN:VEVENT
DTSTART;TZID=Europe/Lisbon:20250606T203000
DTEND;TZID=Europe/Lisbon:20250608T220000
DTSTAMP:20260422T191328
CREATED:20250513T185252Z
LAST-MODIFIED:20250513T185324Z
UID:1515-1749241800-1749420000@eventosagenda.com
SUMMARY:Vilar de Nantes Festa 2025
DESCRIPTION:
URL:https://eventosagenda.com/event/vilar-de-nantes-festa-2025/
LOCATION:Vilar de Nantes\, Vilar de Nantes\, Vila Real\, Portugal
CATEGORIES:Festas & Festivals
ATTACH;FMTTYPE=image/jpeg:https://eventosagenda.com/wp-content/uploads/2025/05/facebook_1747158964708_7328115834314179294.jpg
END:VEVENT
BEGIN:VEVENT
DTSTART;TZID=Europe/Lisbon:20250606T210000
DTEND;TZID=Europe/Lisbon:20250608T150000
DTSTAMP:20260422T191328
CREATED:20250530T135415Z
LAST-MODIFIED:20250530T135415Z
UID:2212-1749243600-1749394800@eventosagenda.com
SUMMARY:Festival da Truta\, da Super Carne e do Folclore - Destriz
DESCRIPTION:
URL:https://eventosagenda.com/event/festival-da-truta-da-super-carne-e-do-folclore-destriz/
LOCATION:Destriz\, Destriz\, Oliveira de Frades\, Viseu\, Portugal
CATEGORIES:Festas & Festivals
ATTACH;FMTTYPE=image/jpeg:https://eventosagenda.com/wp-content/uploads/2025/05/facebook_1748603586124_7334175015695400648.jpg
END:VEVENT
BEGIN:VEVENT
DTSTART;TZID=Europe/Lisbon:20250606T210000
DTEND;TZID=Europe/Lisbon:20250608T200000
DTSTAMP:20260422T191328
CREATED:20250528T113353Z
LAST-MODIFIED:20250528T113408Z
UID:2066-1749243600-1749412800@eventosagenda.com
SUMMARY:Festa do Divino Espirito Santo - Lagoa
DESCRIPTION:It is with a heart filled with pride that we present to you our official poster! Fruit of our labor and your precious help \n\n\nIt was a year of hard work (which will continue in the coming weeks)\, but also a lot of joy!\nLooking forward to the big weekend\, we can only be thankful! \n\n\nIt’s a party for everyone and for everyone! We count on you there\, it couldn’t be any other way \n\n\nSee you soon \n\n\nMay the Divine Holy Spirit be with you always \n\n\nA hug\,\nFrom your Committee of the Divine Holy Ghost Festival of the Lake 2025
URL:https://eventosagenda.com/event/festa-do-divino-espirito-santo-lagoa/
LOCATION:Lagoa\, Lagoa\, Açores\, Portugal
CATEGORIES:Festas & Festivals
ATTACH;FMTTYPE=image/jpeg:https://eventosagenda.com/wp-content/uploads/2025/05/facebook_1748330209457_7333028390850524305.jpg
END:VEVENT
BEGIN:VEVENT
DTSTART;TZID=Europe/Lisbon:20250606T210000
DTEND;TZID=Europe/Lisbon:20250608T200000
DTSTAMP:20260422T191328
CREATED:20250530T140830Z
LAST-MODIFIED:20250530T140849Z
UID:2229-1749243600-1749412800@eventosagenda.com
SUMMARY:Festas em Honra de Nossa Senhora de Fátima e Santo António - Moreira do Rei
DESCRIPTION:
URL:https://eventosagenda.com/event/festas-em-hponra-de-nossa-senhora-de-fatima-e-santo-antonio-moreira-do-rei/
LOCATION:Moreira do Rei\, Moreira do Rei\, Fafe\, Braga\, Portugal
CATEGORIES:Festas & Festivals
ATTACH;FMTTYPE=image/jpeg:https://eventosagenda.com/wp-content/uploads/2025/05/facebook_1748588850075_7334113208225173515.jpg
END:VEVENT
BEGIN:VEVENT
DTSTART;TZID=Europe/Lisbon:20250606T210000
DTEND;TZID=Europe/Lisbon:20250609T233000
DTSTAMP:20260422T191328
CREATED:20250512T133147Z
LAST-MODIFIED:20250512T133219Z
UID:1391-1749243600-1749511800@eventosagenda.com
SUMMARY:Festa em Honra de São Gonçalo - Macieira (Lousada)
DESCRIPTION:
URL:https://eventosagenda.com/event/festa-em-honra-de-sao-goncalo-macieira-lousada/
LOCATION:Macieira (Lousada)\, Macieira (Lousada)\, Porto\, Portugal
CATEGORIES:Festas & Festivals
ATTACH;FMTTYPE=image/jpeg:https://eventosagenda.com/wp-content/uploads/2025/05/facebook_1747005787716_7327473363441708903.jpg
END:VEVENT
BEGIN:VEVENT
DTSTART;TZID=Europe/Lisbon:20250606T220000
DTEND;TZID=Europe/Lisbon:20250609T000000
DTSTAMP:20260422T191328
CREATED:20250527T133836Z
LAST-MODIFIED:20250527T133851Z
UID:2000-1749247200-1749427200@eventosagenda.com
SUMMARY:Festas em Honra do Divino Espírito Santo e Nossa Senhora do Ouvido - Paradela do Vouga
DESCRIPTION:
URL:https://eventosagenda.com/event/festas-em-honra-do-divino-espirito-santo-e-nossa-senhora-do-ouvido-paradela-do-vouga/
LOCATION:Paradela\, Paradela do Vouga\, Aveiro\, Portugal
CATEGORIES:Festas & Festivals
ATTACH;FMTTYPE=image/jpeg:https://eventosagenda.com/wp-content/uploads/2025/05/facebook_1748168804581_7332351409730235013.jpg
END:VEVENT
BEGIN:VEVENT
DTSTART;TZID=Europe/Lisbon:20250606T220000
DTEND;TZID=Europe/Lisbon:20250609T200000
DTSTAMP:20260422T191328
CREATED:20250512T171512Z
LAST-MODIFIED:20250512T171528Z
UID:1435-1749247200-1749499200@eventosagenda.com
SUMMARY:Grandiosas Festas em Honra São Gonçalo - Beiriz\, Póvoa de Varzim
DESCRIPTION:
URL:https://eventosagenda.com/event/grandiosas-festas-em-honra-sao-goncalo-beiriz-povoa-de-varzim/
LOCATION:Beiriz\, Póvoa de Varzim\, Beiriz\, Póvoa de Varzim\, Porto\, Portugal
CATEGORIES:Festas & Festivals
ATTACH;FMTTYPE=image/jpeg:https://eventosagenda.com/wp-content/uploads/2025/05/488221080_1082079767284762_3315906285323770683_n.jpg
END:VEVENT
BEGIN:VEVENT
DTSTART;TZID=Europe/Lisbon:20250606T220000
DTEND;TZID=Europe/Lisbon:20250609T233000
DTSTAMP:20260422T191328
CREATED:20250504T114338Z
LAST-MODIFIED:20250504T114352Z
UID:1041-1749247200-1749511800@eventosagenda.com
SUMMARY:Festa em honra de Nossa Senhora da Ajuda - Guilhovai
DESCRIPTION:
URL:https://eventosagenda.com/event/festa-em-honra-de-nossa-senhora-da-ajuda-guilhovai/
LOCATION:Guilhovai\, Ovar\, Aveiro\, Portugal
CATEGORIES:Festas & Festivals
ATTACH;FMTTYPE=image/jpeg:https://eventosagenda.com/wp-content/uploads/2025/05/facebook_1746343301657_7324694695514507765.jpg
END:VEVENT
BEGIN:VEVENT
DTSTART;TZID=Europe/Lisbon:20250606T220000
DTEND;TZID=Europe/Lisbon:20250610T220000
DTSTAMP:20260422T191328
CREATED:20250603T150846Z
LAST-MODIFIED:20250603T150903Z
UID:2374-1749247200-1749592800@eventosagenda.com
SUMMARY:Art & Music Festival - Tondela
DESCRIPTION:
URL:https://eventosagenda.com/event/art-music-festival-tondela/
LOCATION:Tondela\, Tondela\, Viseu\, Portugal
CATEGORIES:Festas & Festivals
ATTACH;FMTTYPE=image/jpeg:https://eventosagenda.com/wp-content/uploads/2025/06/facebook_1748801353592_7335004512578229151.jpg
END:VEVENT
BEGIN:VEVENT
DTSTART;VALUE=DATE:20250607
DTEND;VALUE=DATE:20250610
DTSTAMP:20260422T191328
CREATED:20250508T112512Z
LAST-MODIFIED:20250508T112512Z
UID:1293-1749254400-1749513599@eventosagenda.com
SUMMARY:Festas De São Gonçalo - Covelo-Gondomar
DESCRIPTION:
URL:https://eventosagenda.com/event/festas-de-sao-goncalo-covelo-gondomar/
LOCATION:Covelo-Gondomar\, Covelo-Gondomar\, Porto\, Portugal
CATEGORIES:Festas & Festivals
ATTACH;FMTTYPE=image/jpeg:https://eventosagenda.com/wp-content/uploads/2025/05/facebook_1746688338018_7326141882908002397.jpg
END:VEVENT
BEGIN:VEVENT
DTSTART;VALUE=DATE:20250607
DTEND;VALUE=DATE:20250611
DTSTAMP:20260422T191328
CREATED:20250604T083619Z
LAST-MODIFIED:20250604T083619Z
UID:2485-1749254400-1749599999@eventosagenda.com
SUMMARY:Festa Arte Nova - Aveiro
DESCRIPTION:
URL:https://eventosagenda.com/event/festa-arte-nova-aveiro/
LOCATION:Aveiro\, Avenida Nossa Senhora da Alegria\, Aveiro\, Aveiro\, Portugal
CATEGORIES:Arts & Culture
ATTACH;FMTTYPE=image/jpeg:https://eventosagenda.com/wp-content/uploads/2025/06/06.07-10-Aveiro.jpeg
END:VEVENT
BEGIN:VEVENT
DTSTART;VALUE=DATE:20250607
DTEND;VALUE=DATE:20250616
DTSTAMP:20260422T191328
CREATED:20250420T182319Z
LAST-MODIFIED:20250420T182319Z
UID:471-1749254400-1750031999@eventosagenda.com
SUMMARY:Festa em Honra de Santo António - Silva Escura\, Maia
DESCRIPTION:
URL:https://eventosagenda.com/event/festa-em-honra-de-santo-antonio-silva-escura-maia/
LOCATION:Silva Escura\, Silva Escura\, Maia\, Porto\, Portugal
CATEGORIES:Festas & Festivals
ATTACH;FMTTYPE=image/jpeg:https://eventosagenda.com/wp-content/uploads/2025/04/facebook_1745098427927_7319473316651552904.jpg
END:VEVENT
END:VCALENDAR