BEGIN:VCALENDAR
VERSION:2.0
PRODID:-// - ECPv6.15.20//NONSGML v1.0//EN
CALSCALE:GREGORIAN
METHOD:PUBLISH
X-ORIGINAL-URL:https://eventosagenda.com
X-WR-CALDESC:Events for 
REFRESH-INTERVAL;VALUE=DURATION:PT1H
X-Robots-Tag:noindex
X-PUBLISHED-TTL:PT1H
BEGIN:VTIMEZONE
TZID:Europe/Lisbon
BEGIN:DAYLIGHT
TZOFFSETFROM:+0000
TZOFFSETTO:+0100
TZNAME:WEST
DTSTART:20240331T010000
END:DAYLIGHT
BEGIN:STANDARD
TZOFFSETFROM:+0100
TZOFFSETTO:+0000
TZNAME:WET
DTSTART:20241027T010000
END:STANDARD
BEGIN:DAYLIGHT
TZOFFSETFROM:+0000
TZOFFSETTO:+0100
TZNAME:WEST
DTSTART:20250330T010000
END:DAYLIGHT
BEGIN:STANDARD
TZOFFSETFROM:+0100
TZOFFSETTO:+0000
TZNAME:WET
DTSTART:20251026T010000
END:STANDARD
BEGIN:DAYLIGHT
TZOFFSETFROM:+0000
TZOFFSETTO:+0100
TZNAME:WEST
DTSTART:20260329T010000
END:DAYLIGHT
BEGIN:STANDARD
TZOFFSETFROM:+0100
TZOFFSETTO:+0000
TZNAME:WET
DTSTART:20261025T010000
END:STANDARD
END:VTIMEZONE
BEGIN:VEVENT
DTSTART;VALUE=DATE:20250510
DTEND;VALUE=DATE:20250511
DTSTAMP:20260424T095620
CREATED:20250429T165408Z
LAST-MODIFIED:20250429T165427Z
UID:718-1746835200-1746921599@eventosagenda.com
SUMMARY:Remember Green Hill - Murteira\, Cadaval
DESCRIPTION:10 Maio Murteira Cadaval\nRemember Green Hill\n\n\nCasão do Rancho – Associação Murteirense CDSS
URL:https://eventosagenda.com/event/remember-green-hill-murteira-cadaval/
LOCATION:Murteira\, Cadaval\, Murteira\, Cadaval\, Lisboa\, Portugal
CATEGORIES:Festas & Festivals
ATTACH;FMTTYPE=image/jpeg:https://eventosagenda.com/wp-content/uploads/2025/04/facebook_1745907990657_7322868868846091177.jpg
END:VEVENT
BEGIN:VEVENT
DTSTART;VALUE=DATE:20250510
DTEND;VALUE=DATE:20250512
DTSTAMP:20260424T095620
CREATED:20250415T074957Z
LAST-MODIFIED:20250415T075408Z
UID:306-1746835200-1747007999@eventosagenda.com
SUMMARY:XIX Edição Sopas Tradicionais
DESCRIPTION:
URL:https://eventosagenda.com/event/xix-edicao-sopas-tradicionais/
LOCATION:Proença-A-Velha\, Proença-A-Velha\, Idanha-A-Nova\, Castelo Branco\, Portugal
CATEGORIES:Festas & Festivals,Food & Drink
ATTACH;FMTTYPE=image/jpeg:https://eventosagenda.com/wp-content/uploads/2025/04/Sopas-Tradicionais.jpg
END:VEVENT
BEGIN:VEVENT
DTSTART;VALUE=DATE:20250510
DTEND;VALUE=DATE:20250512
DTSTAMP:20260424T095620
CREATED:20250418T091244Z
LAST-MODIFIED:20250418T091244Z
UID:412-1746835200-1747007999@eventosagenda.com
SUMMARY:Festa em honra de Santa Bárbara - Vila Nova\, Ventosa
DESCRIPTION:
URL:https://eventosagenda.com/event/festa-em-honra-de-santa-barbara-vila-nova-ventosa/
LOCATION:Vila Nova\, Vila Nova\, Ventosa\, Vouzela\, Viseu\, Portugal
CATEGORIES:Festas & Festivals
ATTACH;FMTTYPE=image/jpeg:https://eventosagenda.com/wp-content/uploads/2025/04/Vila-Nova.jpg
END:VEVENT
BEGIN:VEVENT
DTSTART;TZID=Europe/Lisbon:20250510T080000
DTEND;TZID=Europe/Lisbon:20250518T233000
DTSTAMP:20260424T095620
CREATED:20250504T111552Z
LAST-MODIFIED:20250513T211639Z
UID:1029-1746864000-1747611000@eventosagenda.com
SUMMARY:Festa en Honra de Nossa Senhora do Rosário - Prazins\, Santa Eufémia
DESCRIPTION:Feast in Honor of Our Lady of the Rosary \n\n\n Prazins Saint Eufemia – Guimarães\n May 10-18\n\n\nI can already smell a party in Prazins Santa Eufémia! \nYou are all invited to celebrate with us this very special tradition in honor of Our Lady of the Rosary.\n\n\nThe programme is packed with moments for the whole family:\n Return to the parish with the Bombos Teixeira Lopes\nChildren’s entertainment\, zumba\, processions and religious celebrations\n Concerts with 4MENS\, MANINHO and HELDER BATISTA\n Fireworks and animation sessions with DJs Pedro Conde and Tio Nando\n\n\n The opening of the festivities will be on May 14th with the traditional lighting.\n Religious ceremonies take place from May 15 to 18\, with the grand procession on Sunday afternoon.\n\n\nDon’t miss out!\nCome celebrate with us this party that belongs to everyone! \nShare and Invite Family and Friends!
URL:https://eventosagenda.com/event/festa-en-honra-de-nossa-senhora-do-rosario-prazins-santa-eufemia/
LOCATION:Prazins Santa Eufémia\, Guimarães\, Braga\, Portugal
CATEGORIES:Festas & Festivals
ATTACH;FMTTYPE=image/jpeg:https://eventosagenda.com/wp-content/uploads/2025/05/facebook_1746330361505_7324640420583385401.jpg
END:VEVENT
BEGIN:VEVENT
DTSTART;TZID=Europe/Lisbon:20250510T090000
DTEND;TZID=Europe/Lisbon:20250511T180000
DTSTAMP:20260424T095620
CREATED:20250507T185912Z
LAST-MODIFIED:20250507T185924Z
UID:1203-1746867600-1746986400@eventosagenda.com
SUMMARY:Sopas Tradicionais Encontro de Acordeonistas e Concertinas - Proença-a-Velha
DESCRIPTION:IVAL TRADITIONAL SOUP FESTIVAL\n Old-fashioned Preence\n May 10 & 11\n\n\nThis weekend\, head to Proença-Velha\, at the Idanha-a-Nova council\, to taste tradition and live unique moments.\n\n\nOn his 19th. The edition\, the Festival of Traditional Soups\, is a real anthem to the finest gastronomy. Here you serve memories by the spoon\, in soups made with ancient flavors and authentic ingredients.\n\n\nAlong with good food\, there will be music:\n 10th May – Claudia Martins & Naughty Minhotos\n 11 May – Junior Delfin & Ympério Show\n\n\nAnd because popular culture is for everyone\, there will also be the traditional Meeting of Accordionists and Concertinas – sounds that warm us up like a good soup at the end of the afternoon.
URL:https://eventosagenda.com/event/sopas-tradicionais-encontro-de-acordeonistas-e-concertinas-proenca-a-velha/
LOCATION:Proença-A-Velha\, Proença-A-Velha\, Idanha-A-Nova\, Castelo Branco\, Portugal
CATEGORIES:Festas & Festivals,Food & Drink
ATTACH;FMTTYPE=image/jpeg:https://eventosagenda.com/wp-content/uploads/2025/05/Sopas.jpg
END:VEVENT
BEGIN:VEVENT
DTSTART;TZID=Europe/Lisbon:20250510T090000
DTEND;TZID=Europe/Lisbon:20250511T190000
DTSTAMP:20260424T095620
CREATED:20250503T110828Z
LAST-MODIFIED:20250503T110841Z
UID:1004-1746867600-1746990000@eventosagenda.com
SUMMARY:Festa em Honra de São Miguel Arcanjo - Urrô (Arouca)
DESCRIPTION:
URL:https://eventosagenda.com/event/festa-em-honra-de-sao-miguel-arcanjo-urro-arouca/
LOCATION:Urrô\, Penafiel\, Aveiro\, Portugal
CATEGORIES:Festas & Festivals
ATTACH;FMTTYPE=image/jpeg:https://eventosagenda.com/wp-content/uploads/2025/05/facebook_1746212954269_7324147978947858702.jpg
END:VEVENT
BEGIN:VEVENT
DTSTART;TZID=Europe/Lisbon:20250510T110000
DTEND;TZID=Europe/Lisbon:20250510T150000
DTSTAMP:20260424T095620
CREATED:20250406T124723Z
LAST-MODIFIED:20250406T124723Z
UID:155-1746874800-1746889200@eventosagenda.com
SUMMARY:Mercado da Quinta - Plant Fair
DESCRIPTION:
URL:https://eventosagenda.com/event/mercado-da-quinta-plant-fair/
LOCATION:Alpedrinha\, Alpedrinha\, Castelo Branco\, Portugal
CATEGORIES:Markets & Fairs
ATTACH;FMTTYPE=image/jpeg:https://eventosagenda.com/wp-content/uploads/2025/04/Plant-Fair.jpg
END:VEVENT
BEGIN:VEVENT
DTSTART;TZID=Europe/Lisbon:20250510T160000
DTEND;TZID=Europe/Lisbon:20250511T130000
DTSTAMP:20260424T095620
CREATED:20250429T164855Z
LAST-MODIFIED:20250429T164928Z
UID:714-1746892800-1746968400@eventosagenda.com
SUMMARY:Festa da Francesinha - Salão Paroquial da Reguenga
DESCRIPTION:O Salão Paroquial da Reguenga vai acolher a Festa da Francesinha nos dias 10 e 11 de maio.\n\n\nA cantora Marta Miranda é a grande atração da festa na noite de sábado.\n\n\nGaranta a sua reserva!
URL:https://eventosagenda.com/event/festa-da-francesinha-salao-paroquial-da-reguenga/
LOCATION:Salão Paroquial da Reguenga\, Salão Paroquial da Reguenga\, Porto\, Portugal
CATEGORIES:Festas & Festivals,Food & Drink
ATTACH;FMTTYPE=image/jpeg:https://eventosagenda.com/wp-content/uploads/2025/04/facebook_1745709253462_7322035304637855736.jpg
END:VEVENT
BEGIN:VEVENT
DTSTART;TZID=Europe/Lisbon:20250510T200000
DTEND;TZID=Europe/Lisbon:20250511T020000
DTSTAMP:20260424T095620
CREATED:20250430T095349Z
LAST-MODIFIED:20250430T095400Z
UID:785-1746907200-1746928800@eventosagenda.com
SUMMARY:Noite de Fados do Rancho Folclórico da Malveira
DESCRIPTION:|| Noite de Fados do Rancho Folclórico da Malveira ||\n\n\nO parque 2 do Quartel dos Bombeiros Voluntários da Malveira vai receber no dia 10 de maio às 20 horas\, por indisponibilidade do Pavilhão Multiusos da Malveira e a pedido do Rancho Folclórico da Malveira\, a noite de Fados.\n\n\nContamos Consigo para que conte sempre Connosco.\n\n\n\n\n\n|| Malveira Folk Ranch Fairy Night ||\n\n\nPark 2 of the Malveira Volunteer Fire Station will receive on May 10 at 8 pm\, due to unavailability of the Malveir Multipurpose Pavilion and at the request of the Malveera Folk Ranch\, the Night of Fairies.\n\n\nWe count on you so you always count on us.
URL:https://eventosagenda.com/event/noite-de-fados-do-rancho-folclorico-da-malveira/
LOCATION:Malveira\, Mafra\, Lisboa\, Portugal
CATEGORIES:Fado, Concerts & Music
ATTACH;FMTTYPE=image/jpeg:https://eventosagenda.com/wp-content/uploads/2025/04/Noite-de-Fados.jpg
END:VEVENT
BEGIN:VEVENT
DTSTART;TZID=Europe/Lisbon:20250511T080000
DTEND;TZID=Europe/Lisbon:20250511T170000
DTSTAMP:20260424T095620
CREATED:20250414T121601Z
LAST-MODIFIED:20250414T121601Z
UID:258-1746950400-1746982800@eventosagenda.com
SUMMARY:Festa das Rosas - Vila Franca do Lima
DESCRIPTION:11 May \nFesta das Rosas\nVILA FRANCA DO LIMA \nDeparting from the points of origin by large tourist coach towards Viana do Castelo. Stop for a brief free breakfast. Enjoy the beauty of Viana do Castelo\, visiting Monte Sta Luzia\, where the landscape combines with the grandeur of the Sanctuary\, inspired by the Sacré-Cœur Basilica. Lunch at a restaurant included. \nContinue to Vila Franca do Lima to admire the beauty of the Festa das Rosas. The Festa das Rosas de Vila Franca\, in Viana do Castelo\, has been celebrated for 399 years. \nAt a scheduled time\, return to the points of origin. \n \nINCLUDES: \nTravel by large tourist coach – Itinerary and visits as per programme – Lunch – Guide accompaniment – Travel assistance insurance – VAT \n  \n \nPrices per person based on a minimum of 36 participants. The trip will follow the Portuguese Health Authority (DGS) guidelines. The agency reserves the right to adjust the itinerary and the order of visits. \nNot included: Entry to monuments\, personal expenses\, documentation\, meals not mentioned in the programme\, drinks with meals. \nRequired documentation: Identity Card or Citizen Card. \nIn compliance with Decree-Law 144/2015\, conflict resolution information is available through the Lisbon Consumer Conflict Arbitration Centre.\nPortuguese Tourism registration number: 1003.
URL:https://eventosagenda.com/event/festa-das-rosas-vila-franca-do-lima/
LOCATION:Vila Franca do Lima\, Vila Franca do Lima\, Alto Minho\, Viana do Castelo\, Portugal
CATEGORIES:Tours & Trips
ATTACH;FMTTYPE=image/jpeg:https://eventosagenda.com/wp-content/uploads/2025/04/Festa-das-Rosas.jpg
END:VEVENT
BEGIN:VEVENT
DTSTART;TZID=Europe/Lisbon:20250511T080000
DTEND;TZID=Europe/Lisbon:20250511T170000
DTSTAMP:20260424T095620
CREATED:20250416T070443Z
LAST-MODIFIED:20250416T180932Z
UID:365-1746950400-1746982800@eventosagenda.com
SUMMARY:Passeir Motorizadas Clássicas - Herdade
DESCRIPTION:
URL:https://eventosagenda.com/event/passeir-motorizadas-classicas-herdade/
LOCATION:Herdade\, Herdade\, Alvito da Beira\, Castelo Branco\, Portugal
CATEGORIES:Sports & Games
ATTACH;FMTTYPE=image/jpeg:https://eventosagenda.com/wp-content/uploads/2025/04/Herdade.jpg
END:VEVENT
BEGIN:VEVENT
DTSTART;TZID=Europe/Lisbon:20250511T090000
DTEND;TZID=Europe/Lisbon:20250511T090000
DTSTAMP:20260424T095620
CREATED:20250505T170545Z
LAST-MODIFIED:20250505T170559Z
UID:1106-1746954000-1746954000@eventosagenda.com
SUMMARY:Rota das Leiteiras - Alcains
DESCRIPTION:
URL:https://eventosagenda.com/event/rota-das-leiteiras-alcains/
LOCATION:Alcains\, Alcains\, Castelo Branco\, Portugal
CATEGORIES:Sports & Games
ATTACH;FMTTYPE=image/jpeg:https://eventosagenda.com/wp-content/uploads/2025/05/facebook_1746278830136_7324424282357189474.jpg
END:VEVENT
BEGIN:VEVENT
DTSTART;TZID=Europe/Lisbon:20250511T110000
DTEND;TZID=Europe/Lisbon:20250511T170000
DTSTAMP:20260424T095620
CREATED:20250421T120105Z
LAST-MODIFIED:20250421T120127Z
UID:497-1746961200-1746982800@eventosagenda.com
SUMMARY:Mega Concentração Concertinas - Grupo de Música Popular Amigos da Gaita
DESCRIPTION:
URL:https://eventosagenda.com/event/mega-concentracao-concertinas-grupo-de-musica-popular-amigos-da-gaita/
LOCATION:Ansião\, Ansião\, Leiria\, Portugal
CATEGORIES:Fado, Concerts & Music
ATTACH;FMTTYPE=image/jpeg:https://eventosagenda.com/wp-content/uploads/2025/04/facebook_1745214102815_7319958492295348854.jpg
END:VEVENT
BEGIN:VEVENT
DTSTART;TZID=Europe/Lisbon:20250511T120000
DTEND;TZID=Europe/Lisbon:20250511T170000
DTSTAMP:20260424T095620
CREATED:20250425T124541Z
LAST-MODIFIED:20250425T124549Z
UID:598-1746964800-1746982800@eventosagenda.com
SUMMARY:I Festival das Sopas - Sipote 2025
DESCRIPTION:
URL:https://eventosagenda.com/event/i-festival-das-sopas-sipote-2025/
LOCATION:Sipote\, Sipote\, Sertã\, Castelo Branco\, Portugal
CATEGORIES:Food & Drink
ATTACH;FMTTYPE=image/jpeg:https://eventosagenda.com/wp-content/uploads/2025/04/facebook_1745471706927_7321038962253291044.jpg
END:VEVENT
BEGIN:VEVENT
DTSTART;TZID=Europe/Lisbon:20250511T130000
DTEND;TZID=Europe/Lisbon:20250511T170000
DTSTAMP:20260424T095620
CREATED:20250429T162547Z
LAST-MODIFIED:20250429T162547Z
UID:702-1746968400-1746982800@eventosagenda.com
SUMMARY:Cozido a Portuguesa -
DESCRIPTION:
URL:https://eventosagenda.com/event/cozido-a-portuguesa/
LOCATION:Ortiga\, Ortiga\, Mation\, Santarém\, Portugal
CATEGORIES:Food & Drink
ATTACH;FMTTYPE=image/jpeg:https://eventosagenda.com/wp-content/uploads/2025/04/facebook_1745936174303_7322987079627349852.jpg
END:VEVENT
BEGIN:VEVENT
DTSTART;TZID=Europe/Lisbon:20250511T143000
DTEND;TZID=Europe/Lisbon:20250511T170000
DTSTAMP:20260424T095620
CREATED:20250502T120341Z
LAST-MODIFIED:20250502T120405Z
UID:952-1746973800-1746982800@eventosagenda.com
SUMMARY:Color Run - Caminhada Colorida - Seixo de Gatões
DESCRIPTION:
URL:https://eventosagenda.com/event/color-run-caminhada-colorida-seixo-de-gatoes/
LOCATION:Seixo de Gatões\, Seixo de Gatões\, Coimbra\, Portugal
CATEGORIES:Sports & Games
ATTACH;FMTTYPE=image/jpeg:https://eventosagenda.com/wp-content/uploads/2025/05/facebook_1746086476741_7323617493740768397.jpg
END:VEVENT
BEGIN:VEVENT
DTSTART;TZID=Europe/Lisbon:20250511T150000
DTEND;TZID=Europe/Lisbon:20250511T150000
DTSTAMP:20260424T095620
CREATED:20250508T080813Z
LAST-MODIFIED:20250508T080833Z
UID:1281-1746975600-1746975600@eventosagenda.com
SUMMARY:Leilão - Livração\, Marco de Canaveses
DESCRIPTION:
URL:https://eventosagenda.com/event/leilao-livracao-marco-de-canaveses/
LOCATION:Largo da Livração\, Marco de Canaveses\, Porto\, Portugal
CATEGORIES:Markets & Fairs
ATTACH;FMTTYPE=image/jpeg:https://eventosagenda.com/wp-content/uploads/2025/05/facebook_1746673682269_7326080412237113997.jpg
END:VEVENT
BEGIN:VEVENT
DTSTART;TZID=Europe/Lisbon:20250511T150000
DTEND;TZID=Europe/Lisbon:20250511T170000
DTSTAMP:20260424T095620
CREATED:20250502T115832Z
LAST-MODIFIED:20250502T115850Z
UID:948-1746975600-1746982800@eventosagenda.com
SUMMARY:Festival de Folclore - Senhora da Hora
DESCRIPTION:On May 11\, come join us at our Folklore Festival included in the Festivities of Our Lady of the Hour.\n\n\nFrom 3pm\, at the Seven Bicas Park
URL:https://eventosagenda.com/event/festival-de-folclore-senhora-da-hora/
LOCATION:Senhora da Hora\, Parque das Sete Bicas\, Senhora da Hora\, Porto\, Portugal
CATEGORIES:Fado, Concerts & Music,Festas & Festivals
ATTACH;FMTTYPE=image/jpeg:https://eventosagenda.com/wp-content/uploads/2025/05/facebook_1746099256364_7323671095367693768.jpg
END:VEVENT
BEGIN:VEVENT
DTSTART;TZID=Europe/Lisbon:20250511T170000
DTEND;TZID=Europe/Lisbon:20250511T170000
DTSTAMP:20260424T095620
CREATED:20250502T114524Z
LAST-MODIFIED:20250502T114553Z
UID:939-1746982800-1746982800@eventosagenda.com
SUMMARY:Corrida do Tomate - Salvaterra de Magos
DESCRIPTION:A emblemática Corrida do Tomate\, um dos eventos taurinos mais aguardados da região\, volta a realizar-se no próximo dia 11 de maio\, às 17h00\, em Salvaterra de Magos\, com uma edição especial marcada pela homenagem a José da Costa\, figura incontornável do setor agrícola local e grande impulsionador desta iniciativa. \nReconhecido como um dos mais respeitados agricultores da região\, José da Costa será recordado e homenageado numa cerimónia que antecederá o início da corrida\, numa justa distinção pelo seu contributo inestimável para a promoção da cultura e das tradições ribatejanas. \nA edição deste ano promete manter o elevado nível competitivo\, com um atrativo Concurso de Ganadarias que contará com seis prestigiadas divisas: Prudêncio\, Vale do Sorraia\, Ribeiro Telles\, Conde de Murça\, Manuel Veiga e Foro do Almeida. \nO cartel está igualmente recheado de talento\, com a presença dos cavaleiros Marcos Bastinhas\, João Ribeiro Telles e Francisco Palha\, figuras de destaque da tauromaquia nacional\, e dos valorosos grupos de forcados Amadores de Coruche e Amadores de Alcochete\, garantindo uma tarde de grandes emoções na arena. \nThe emblematic Tomato Race\, one of the most awaited taurine events in the region\, will be held again next day 11 May at 17:00in Salvaterra de Magos\, with a special edition marked by tribute to Jose da Costa\, unavoidable figure of the local agricultural sector and great driver of this initiative. \nRecognized as one of the most respected farmers in the region\, Jose da Costa will be remembered and honored in a ceremony that will precede the start of the race\, in a just distinction for his invaluable contribution to the promotion of Ribatejo culture and traditions. \nThis year’s edition promises to maintain the high competitive level\, with a attractive Competition of Ganadarias which will feature six prestigious currencies: Prudentio\, Vale do Sorraia\, Ribeiro Telles\, Conde de Murca\, Manuel Veiga and Foro do Almeida. \nThe cartel is also full of talent\, with the presence of the knights Marcos Bastinhas\, Joao Ribeiro Telles and Francisco Palha\, prominent figures of the national bullfighting\, and of the valiant groups of pitchforks Amateurs of Coruche and Amateurs of Alcochete\, ensuring an afternoon of great emotions in the arena.
URL:https://eventosagenda.com/event/corrida-do-tomate-salvaterra-de-magos/
LOCATION:Salvaterra de Magos\, Salvaterra de Magos\, Santarém\, Portugal
CATEGORIES:Festas & Festivals,Sports & Games
ATTACH;FMTTYPE=image/jpeg:https://eventosagenda.com/wp-content/uploads/2025/05/facebook_1746101254361_7323679475571762284.jpg
END:VEVENT
BEGIN:VEVENT
DTSTART;TZID=Europe/Lisbon:20250512T000000
DTEND;TZID=Europe/Lisbon:20250512T000000
DTSTAMP:20260424T095620
CREATED:20250512T132432Z
LAST-MODIFIED:20250512T132511Z
UID:1388-1747008000-1747008000@eventosagenda.com
SUMMARY:Romaria em honra de São Torcato - Cabaços
DESCRIPTION:
URL:https://eventosagenda.com/event/romaria-em-honra-de-sao-torcato-cabacos/
LOCATION:Castelo Branco
CATEGORIES:Festas & Festivals
ATTACH;FMTTYPE=image/jpeg:https://eventosagenda.com/wp-content/uploads/2025/05/facebook_1747032572725_7327585707914482459.jpg
END:VEVENT
BEGIN:VEVENT
DTSTART;VALUE=DATE:20250512
DTEND;VALUE=DATE:20250513
DTSTAMP:20260424T095620
CREATED:20250512T211515Z
LAST-MODIFIED:20250512T211515Z
UID:1486-1747008000-1747094399@eventosagenda.com
SUMMARY:Festas da Cidade 2025 - São Pedro do Sul
DESCRIPTION:
URL:https://eventosagenda.com/event/festas-da-cidade-2025-sao-pedro-do-sul/
LOCATION:Sao Pedro do Sul\, São Pedro do Sul\, Viseu\, Portugal
CATEGORIES:Festas & Festivals
ATTACH;FMTTYPE=image/jpeg:https://eventosagenda.com/wp-content/uploads/2025/05/facebook_1747073963385_7327759312925303026.jpg
END:VEVENT
BEGIN:VEVENT
DTSTART;TZID=Europe/Lisbon:20250513T180000
DTEND;TZID=Europe/Lisbon:20250513T180000
DTSTAMP:20260424T095620
CREATED:20250513T185752Z
LAST-MODIFIED:20250513T185812Z
UID:1519-1747159200-1747159200@eventosagenda.com
SUMMARY:Beira Grande Festa 2025
DESCRIPTION:
URL:https://eventosagenda.com/event/beira-grande-festa-2025/
LOCATION:Beira Grande\, Beira Grande\, Bragança\, Portugal
CATEGORIES:Festas & Festivals
ATTACH;FMTTYPE=image/jpeg:https://eventosagenda.com/wp-content/uploads/2025/05/facebook_1747086789184_7327813108224745639.jpg
END:VEVENT
BEGIN:VEVENT
DTSTART;VALUE=DATE:20250515
DTEND;VALUE=DATE:20250519
DTSTAMP:20260424T095620
CREATED:20250411T080210Z
LAST-MODIFIED:20250507T220300Z
UID:238-1747267200-1747612799@eventosagenda.com
SUMMARY:Vodafone Rally de Portugal 2025
DESCRIPTION:
URL:https://eventosagenda.com/event/vodafone-rally-de-portugal-2025/
LOCATION:Coimbra\, Coimbra\, Coimbra\, Portugal
CATEGORIES:Sports & Games
ATTACH;FMTTYPE=image/jpeg:https://eventosagenda.com/wp-content/uploads/2025/04/rp2025-rally_portugal.jpg
END:VEVENT
BEGIN:VEVENT
DTSTART;VALUE=DATE:20250515
DTEND;VALUE=DATE:20250519
DTSTAMP:20260424T095620
CREATED:20250418T120246Z
LAST-MODIFIED:20250425T172137Z
UID:428-1747267200-1747612799@eventosagenda.com
SUMMARY:Festas em honra de Santa Catarina - Bustelo
DESCRIPTION:
URL:https://eventosagenda.com/event/festas-em-honra-de-santa-catarina-bustelo/
LOCATION:Bustelo\, Bustelo\, Penafiel\, Porto\, Portugal
CATEGORIES:Festas & Festivals
ATTACH;FMTTYPE=image/jpeg:https://eventosagenda.com/wp-content/uploads/2025/04/Bustelo.jpg
END:VEVENT
BEGIN:VEVENT
DTSTART;VALUE=DATE:20250515
DTEND;VALUE=DATE:20250519
DTSTAMP:20260424T095620
CREATED:20250425T172503Z
LAST-MODIFIED:20250425T172641Z
UID:638-1747267200-1747612799@eventosagenda.com
SUMMARY:Feiras Francas de Fafe 2025
DESCRIPTION:
URL:https://eventosagenda.com/event/feiras-francas-de-fafe-2025/
LOCATION:Fafe\, Fafe\, Braga\, Portugal
CATEGORIES:Festas & Festivals,Markets & Fairs
ATTACH;FMTTYPE=image/jpeg:https://eventosagenda.com/wp-content/uploads/2025/04/facebook_1745185025675_7319836533932864126.jpg
END:VEVENT
BEGIN:VEVENT
DTSTART;TZID=Europe/Lisbon:20250515T180000
DTEND;TZID=Europe/Lisbon:20250518T160000
DTSTAMP:20260424T095620
CREATED:20250510T161526Z
LAST-MODIFIED:20250510T161632Z
UID:1368-1747332000-1747584000@eventosagenda.com
SUMMARY:XXV Expo Égua e III Festival da Biosfera - Golegã
DESCRIPTION:
URL:https://eventosagenda.com/event/xxv-expo-egua-e-iii-festival-da-biosfera-golega/
LOCATION:Golegã\, Golegã\, Santarém\, Portugal
CATEGORIES:Festas & Festivals,Markets & Fairs
ATTACH;FMTTYPE=image/jpeg:https://eventosagenda.com/wp-content/uploads/2025/05/facebook_1746788478742_7326561903542314118.jpg
END:VEVENT
BEGIN:VEVENT
DTSTART;TZID=Europe/Lisbon:20250515T210000
DTEND;TZID=Europe/Lisbon:20250518T170000
DTSTAMP:20260424T095620
CREATED:20250505T161312Z
LAST-MODIFIED:20250505T161312Z
UID:1071-1747342800-1747587600@eventosagenda.com
SUMMARY:Festas em Honra Nossa Senhora da Tocha - Santo Adrião de Vizela
DESCRIPTION:
URL:https://eventosagenda.com/event/festas-em-honra-nossa-senhora-da-tocha-santo-adriao-de-vizela/
LOCATION:Santo Adrião de Vizela\, Vizela\, Braga\, Portugal
CATEGORIES:Festas & Festivals
ATTACH;FMTTYPE=image/jpeg:https://eventosagenda.com/wp-content/uploads/2025/05/facebook_1746362985101_7324777253863445804.jpg
END:VEVENT
BEGIN:VEVENT
DTSTART;VALUE=DATE:20250516
DTEND;VALUE=DATE:20250518
DTSTAMP:20260424T095620
CREATED:20250505T155940Z
LAST-MODIFIED:20250505T155940Z
UID:1063-1747353600-1747526399@eventosagenda.com
SUMMARY:Fontinha Primavera Sounds 2025 - Lamas
DESCRIPTION:
URL:https://eventosagenda.com/event/fontinha-primavera-sounds-2025-lamas/
LOCATION:Lamas\, Miranda do Corvo\, Coimbra\, Portugal
CATEGORIES:Festas & Festivals
ATTACH;FMTTYPE=image/jpeg:https://eventosagenda.com/wp-content/uploads/2025/05/facebook_1746362635125_7324775785956939382.jpg
END:VEVENT
BEGIN:VEVENT
DTSTART;VALUE=DATE:20250516
DTEND;VALUE=DATE:20250519
DTSTAMP:20260424T095620
CREATED:20250408T164510Z
LAST-MODIFIED:20250502T180058Z
UID:212-1747353600-1747612799@eventosagenda.com
SUMMARY:Beiras Airshow
DESCRIPTION:
URL:https://eventosagenda.com/event/beiras-airshow-2/
LOCATION:Castelo Branco Airport\, Aeródromo Municipal de Castelo Branco\, Castelo Branco\, Castelo Branco\, 9900-321\, Portugal
CATEGORIES:Festas & Festivals
ATTACH;FMTTYPE=image/jpeg:https://eventosagenda.com/wp-content/uploads/2025/04/facebook_1743971475520_7314746535659447500.jpg
END:VEVENT
BEGIN:VEVENT
DTSTART;VALUE=DATE:20250516
DTEND;VALUE=DATE:20250520
DTSTAMP:20260424T095620
CREATED:20250420T172122Z
LAST-MODIFIED:20250420T172122Z
UID:445-1747353600-1747699199@eventosagenda.com
SUMMARY:Festa em honra de nossa Senhora dos Altos Céus - Lousa
DESCRIPTION:
URL:https://eventosagenda.com/event/festa-em-honra-de-nossa-senhora-dos-altos-ceus-lousa/
LOCATION:Lousã\, Lousa\, Coimbra\, Portugal
CATEGORIES:Festas & Festivals
ATTACH;FMTTYPE=image/jpeg:https://eventosagenda.com/wp-content/uploads/2025/04/Lousa.jpg
END:VEVENT
END:VCALENDAR