BEGIN:VCALENDAR
VERSION:2.0
PRODID:-// - ECPv6.15.20//NONSGML v1.0//EN
CALSCALE:GREGORIAN
METHOD:PUBLISH
X-ORIGINAL-URL:https://eventosagenda.com
X-WR-CALDESC:Events for 
REFRESH-INTERVAL;VALUE=DURATION:PT1H
X-Robots-Tag:noindex
X-PUBLISHED-TTL:PT1H
BEGIN:VTIMEZONE
TZID:Europe/Lisbon
BEGIN:DAYLIGHT
TZOFFSETFROM:+0000
TZOFFSETTO:+0100
TZNAME:WEST
DTSTART:20240331T010000
END:DAYLIGHT
BEGIN:STANDARD
TZOFFSETFROM:+0100
TZOFFSETTO:+0000
TZNAME:WET
DTSTART:20241027T010000
END:STANDARD
BEGIN:DAYLIGHT
TZOFFSETFROM:+0000
TZOFFSETTO:+0100
TZNAME:WEST
DTSTART:20250330T010000
END:DAYLIGHT
BEGIN:STANDARD
TZOFFSETFROM:+0100
TZOFFSETTO:+0000
TZNAME:WET
DTSTART:20251026T010000
END:STANDARD
BEGIN:DAYLIGHT
TZOFFSETFROM:+0000
TZOFFSETTO:+0100
TZNAME:WEST
DTSTART:20260329T010000
END:DAYLIGHT
BEGIN:STANDARD
TZOFFSETFROM:+0100
TZOFFSETTO:+0000
TZNAME:WET
DTSTART:20261025T010000
END:STANDARD
END:VTIMEZONE
BEGIN:VEVENT
DTSTART;TZID=Europe/Lisbon:20250808T180000
DTEND;TZID=Europe/Lisbon:20250810T220000
DTSTAMP:20260421T235435
CREATED:20250730T171558Z
LAST-MODIFIED:20250730T171611Z
UID:3394-1754676000-1754863200@eventosagenda.com
SUMMARY:Festa em honra Nossa Senhora de Fátima - Panoias de Cima
DESCRIPTION:
URL:https://eventosagenda.com/event/festa-em-honra-nossa-senhora-de-fatima-panoias-de-cima/
LOCATION:Panoias de Cima\, Panoias de Cima\, Guarda\, Portugal
CATEGORIES:Festas & Festivals
ATTACH;FMTTYPE=image/jpeg:https://eventosagenda.com/wp-content/uploads/2025/07/08-08-Panoias-de-Cima.jpg
END:VEVENT
BEGIN:VEVENT
DTSTART;TZID=Europe/Lisbon:20250808T180000
DTEND;TZID=Europe/Lisbon:20250810T210000
DTSTAMP:20260421T235435
CREATED:20250721T121935Z
LAST-MODIFIED:20250721T121935Z
UID:3277-1754676000-1754859600@eventosagenda.com
SUMMARY:Vale de Abelha Festa 2025 - Mação
DESCRIPTION:
URL:https://eventosagenda.com/event/vale-de-abelha-festa-2025-macao/
LOCATION:Vale de Abelha\, Vale de Abelha\, Mação\, Santarém\, Portugal
CATEGORIES:Festas & Festivals
ATTACH;FMTTYPE=image/jpeg:https://eventosagenda.com/wp-content/uploads/2025/07/facebook_1752761636863_7351615144542256860.jpg
END:VEVENT
BEGIN:VEVENT
DTSTART;TZID=Europe/Lisbon:20250808T170000
DTEND;TZID=Europe/Lisbon:20250811T235900
DTSTAMP:20260421T235435
CREATED:20250701T133500Z
LAST-MODIFIED:20250701T133500Z
UID:2958-1754672400-1754956740@eventosagenda.com
SUMMARY:Festa em Honra da Nossa Senhora da Oliveira - Orca
DESCRIPTION:O CARTAZ JÁ ESTÁ!\n\n\nDe 8 a 11 de agosto\, a aldeia da Orca volta a encher-se de vida\, alegria e tradição com a Festa em honra de Nossa Senhora da Oliveira! \n\n\nSerão quatro dias de convívio\, animação\, música e aquele ambiente único que só quem já viveu sabe!\nA tradição continua viva\n\n\nE todos estão convidados a fazer parte!\n\n\n Local: Orca\n Datas: 8 a 11 de agosto\n Programa completo no cartaz!\n\n\nMarca os amigos\, junta a família e vem celebrar com a gente!\n\n\n\n\nTHE POSTER IS UP!\n\n\nFrom August 8th to 11\, the village of Orca will be filled with life\, joy and tradition again with the Feast in honor of Our Lady of Oliveira! \n\n\nIt will be four days of socializing\, animation\, music and that unique environment that only those who have lived know!\nThe tradition lives on\n\n\nAnd everyone is invited to be a part!\n\n\n Local: Orca\n Dates: August 8 – 11\n Full show on the poster!\n\n\nTag your friends\, gather your family\, and come celebrate with us!
URL:https://eventosagenda.com/event/festa-em-honra-da-nossa-senhora-da-oliveira-orca/
LOCATION:Orca\, Orca\, Castelo Branco\, 6230-512\, Portugal
CATEGORIES:Festas & Festivals
ATTACH;FMTTYPE=image/jpeg:https://eventosagenda.com/wp-content/uploads/2025/07/facebook_1751143242523_7344827106691245952.jpg
END:VEVENT
BEGIN:VEVENT
DTSTART;TZID=Europe/Lisbon:20250808T160000
DTEND;TZID=Europe/Lisbon:20250811T234500
DTSTAMP:20260421T235435
CREATED:20250730T165658Z
LAST-MODIFIED:20250730T165658Z
UID:3381-1754668800-1754955900@eventosagenda.com
SUMMARY:Simplesmente Malhadal 2025
DESCRIPTION:
URL:https://eventosagenda.com/event/simplesmente-malhadal-2025/
LOCATION:Malhadal\, Malhadal\, Proença-a-Nova\, Castelo Branco\, Portugal
CATEGORIES:Festas & Festivals
ATTACH;FMTTYPE=image/jpeg:https://eventosagenda.com/wp-content/uploads/2025/07/08-08-Malhadal.jpg
END:VEVENT
BEGIN:VEVENT
DTSTART;TZID=Europe/Lisbon:20250808T120000
DTEND;TZID=Europe/Lisbon:20250811T235900
DTSTAMP:20260421T235435
CREATED:20250721T120427Z
LAST-MODIFIED:20250721T121122Z
UID:3263-1754654400-1754956740@eventosagenda.com
SUMMARY:Festa do Bodo - São Pedro Do Esteval
DESCRIPTION:
URL:https://eventosagenda.com/event/festa-do-bodo-sao-pedro-do-esteval/
LOCATION:São Pedro do Esteval\, São Pedro do Esteval\, Proença-A-Nova\, Castelo Branco\, 6150-623
CATEGORIES:Festas & Festivals
ATTACH;FMTTYPE=image/jpeg:https://eventosagenda.com/wp-content/uploads/2025/07/facebook_1752652125725_7351155821538643514.jpg
END:VEVENT
BEGIN:VEVENT
DTSTART;TZID=Europe/Lisbon:20250808T100000
DTEND;TZID=Europe/Lisbon:20250815T220000
DTSTAMP:20260421T235435
CREATED:20250722T103329Z
LAST-MODIFIED:20250722T103329Z
UID:3336-1754647200-1755295200@eventosagenda.com
SUMMARY:Festas São Lourenço - Lapela
DESCRIPTION:
URL:https://eventosagenda.com/event/festas-sao-lourenco-lapela/
LOCATION:Lapela\, Lapela\, Monção\, Viana do Castelo\, Portugal
CATEGORIES:Festas & Festivals
ATTACH;FMTTYPE=image/jpeg:https://eventosagenda.com/wp-content/uploads/2025/07/facebook_1752674644031_7351250270160840285.jpg
END:VEVENT
BEGIN:VEVENT
DTSTART;TZID=Europe/Lisbon:20250808T100000
DTEND;TZID=Europe/Lisbon:20250811T235900
DTSTAMP:20260421T235435
CREATED:20250804T081152Z
LAST-MODIFIED:20250804T081333Z
UID:3473-1754647200-1754956740@eventosagenda.com
SUMMARY:Festa em honra de Nossa Senhora do Amparo - Carvalhal
DESCRIPTION:
URL:https://eventosagenda.com/event/festa-em-honra-de-nossa-senhora-do-amparo-carvalhal/
LOCATION:Carvalhal\, Carvalhal\, Mafra\, Lisboa\, Portugal
CATEGORIES:Festas & Festivals
ATTACH;FMTTYPE=image/jpeg:https://eventosagenda.com/wp-content/uploads/2025/08/08-08-Carvalhal.jpg
END:VEVENT
BEGIN:VEVENT
DTSTART;TZID=Europe/Lisbon:20250808T100000
DTEND;TZID=Europe/Lisbon:20250811T220000
DTSTAMP:20260421T235435
CREATED:20250730T165157Z
LAST-MODIFIED:20250730T200339Z
UID:3377-1754647200-1754949600@eventosagenda.com
SUMMARY:Alvito da Beira Festa 2025
DESCRIPTION:
URL:https://eventosagenda.com/event/alvito-da-beira-festa-2025/
LOCATION:Alvito da Beira\, Proença-a-Nova\, Castelo Branco\, Portugal
CATEGORIES:Festas & Festivals
ATTACH;FMTTYPE=image/jpeg:https://eventosagenda.com/wp-content/uploads/2025/07/08-08-Alvito.jpg
END:VEVENT
BEGIN:VEVENT
DTSTART;TZID=Europe/Lisbon:20250808T090000
DTEND;TZID=Europe/Lisbon:20250815T235900
DTSTAMP:20260421T235435
CREATED:20250730T174305Z
LAST-MODIFIED:20250730T174305Z
UID:3419-1754643600-1755302340@eventosagenda.com
SUMMARY:Festas de Lordelo 2025 - Vila Real
DESCRIPTION:
URL:https://eventosagenda.com/event/festas-de-lordelo-2025-vila-real/
LOCATION:Vila Real\, Vila Real\, Vila Real\, Portugal
CATEGORIES:Festas & Festivals
ATTACH;FMTTYPE=image/jpeg:https://eventosagenda.com/wp-content/uploads/2025/07/08-08-Vila-Real.jpg
END:VEVENT
BEGIN:VEVENT
DTSTART;TZID=Europe/Lisbon:20250808T080000
DTEND;TZID=Europe/Lisbon:20250809T220000
DTSTAMP:20260421T235435
CREATED:20250804T081735Z
LAST-MODIFIED:20250804T081735Z
UID:3476-1754640000-1754776800@eventosagenda.com
SUMMARY:Festa em honra de Santo Ovídio
DESCRIPTION:
URL:https://eventosagenda.com/event/festa-em-honra-de-santo-ovidio/
LOCATION:Aveleda\, Aveleda\, Lousada\, Porto\, Portugal
CATEGORIES:Festas & Festivals
ATTACH;FMTTYPE=image/jpeg:https://eventosagenda.com/wp-content/uploads/2025/08/08-08-Santo-Ovidio.jpg
END:VEVENT
BEGIN:VEVENT
DTSTART;VALUE=DATE:20250808
DTEND;VALUE=DATE:20250814
DTSTAMP:20260421T235435
CREATED:20250619T072840Z
LAST-MODIFIED:20250619T072939Z
UID:2694-1754611200-1755129599@eventosagenda.com
SUMMARY:Festas do Concelho de Góis
DESCRIPTION:Festas do Concelho de Góis 2025: Música\, Cultura e Emoção no Coração da Beira Serra 🎶 \nEste agosto\, Góis volta a ser palco de uma das festas mais aguardadas da região — as Festas do Concelho de Góis 2025. Com entrada gratuita e um cartaz de luxo\, o evento promete cinco dias de animação para todas as idades\, entre concertos\, DJs\, tasquinhas\, mercadinhos e atividades para crianças. \n📍 Onde: Parque de Lazer do Baião & Largo Francisco Inácio Dias Nogueira📅 Quando: De 8 a 13 de agosto🎟️ Entrada livre \n\n🎤 Programa em Destaque:\n\n\nDia 8: Abertura em grande com Katedral Music e animação DJ no Parque do Baião. O ambiente certo para dar início à festa com muita energia. \n\n\nDia 9: O carismático Nininho Vaz Maia sobe ao palco\, prometendo um espetáculo cheio de emoção. A noite continua com Insert Coin e animação DJ. \n\n\nDia 10: Um dos nomes mais queridos da música portuguesa\, João Pedro Pais\, traz os seus grandes êxitos a Góis. A noite conta ainda com Sara Ribeiro e mais música com DJ. \n\n\nDia 12: Tradição e boa disposição com os Marotos da Concertina\, no Largo Francisco Inácio Dias Nogueira. \n\n\nDia 13 (Feriado Municipal): Homenagem à música filarmónica com as atuações da AERG e da FILVAR\, num momento que une gerações e celebra a cultura local. \n\n\n\n🍽️ Para além da música…\nAs festas contam também com tasquinhas de petiscos\, mercadinho de artesanato e produtos locais\, e insufláveis para os mais pequenos — tudo para garantir momentos inesquecíveis em família ou entre amigos. \n\n🌟 Organização: Município de GóisCom o apoio de parceiros locais e a aposta numa programação sustentável e inclusiva\, estas festas reforçam Góis como destino de cultura\, tradição e hospitalidade. \n\nEste verão\, todos os caminhos vão dar a Góis. Marca na agenda e vem celebrar connosco!
URL:https://eventosagenda.com/event/festas-do-concelho-de-gois/
LOCATION:Góis\, Góis\, Coimbra\, Portugal
CATEGORIES:Festas & Festivals
ATTACH;FMTTYPE=image/jpeg:https://eventosagenda.com/wp-content/uploads/2025/06/facebook_1750232322322_7341006430445411016.jpg
END:VEVENT
BEGIN:VEVENT
DTSTART;VALUE=DATE:20250808
DTEND;VALUE=DATE:20250812
DTSTAMP:20260421T235435
CREATED:20250411T081454Z
LAST-MODIFIED:20250411T081454Z
UID:247-1754611200-1754956799@eventosagenda.com
SUMMARY:Orca Festa 2025
DESCRIPTION:
URL:https://eventosagenda.com/event/orca-festa-2025/
LOCATION:Orca\, Orca\, Castelo Branco\, 6230-512\, Portugal
CATEGORIES:Festas & Festivals
ATTACH;FMTTYPE=image/jpeg:https://eventosagenda.com/wp-content/uploads/2025/04/Orca-2025.jpg
END:VEVENT
BEGIN:VEVENT
DTSTART;VALUE=DATE:20250808
DTEND;VALUE=DATE:20250811
DTSTAMP:20260421T235435
CREATED:20250711T163031Z
LAST-MODIFIED:20250711T163031Z
UID:3251-1754611200-1754870399@eventosagenda.com
SUMMARY:Festa em Honra de Santo António - Fonte Londa\, Vale da Saraca
DESCRIPTION:
URL:https://eventosagenda.com/event/festa-em-honra-de-santo-antonio-fonte-londa-vale-da-saraca/
LOCATION:Fonte Longa\, Fonte Londa\, Vale da Saraca\, Bragança\, Portugal
CATEGORIES:Festas & Festivals
ATTACH;FMTTYPE=image/jpeg:https://eventosagenda.com/wp-content/uploads/2025/07/facebook_1752212648284_7349312519548317390.jpg
END:VEVENT
BEGIN:VEVENT
DTSTART;VALUE=DATE:20250808
DTEND;VALUE=DATE:20250811
DTSTAMP:20260421T235435
CREATED:20250406T123650Z
LAST-MODIFIED:20250408T165857Z
UID:147-1754611200-1754870399@eventosagenda.com
SUMMARY:Sao Pedro do Esteval - Festa do Bodo
DESCRIPTION:
URL:https://eventosagenda.com/event/sao-pedrp-do-esteval-festa-do-bodo/
LOCATION:São Pedro do Esteval\, São Pedro do Esteval\, Proença-A-Nova\, Castelo Branco\, 6150-623
CATEGORIES:Festas & Festivals
ATTACH;FMTTYPE=image/jpeg:https://eventosagenda.com/wp-content/uploads/2025/04/Sao-Pedro-do-Esteval.jpg
END:VEVENT
BEGIN:VEVENT
DTSTART;TZID=Europe/Lisbon:20250807T213000
DTEND;TZID=Europe/Lisbon:20250810T233000
DTSTAMP:20260421T235435
CREATED:20250605T125842Z
LAST-MODIFIED:20250605T125842Z
UID:2539-1754602200-1754868600@eventosagenda.com
SUMMARY:Festas de São Romão de Carvalhosa
DESCRIPTION:
URL:https://eventosagenda.com/event/festas-de-sao-romao-de-carvalhosa/
LOCATION:Carvalhosa\, Carvalhosa\, Marco de Canaveses\, Porto\, Portugal
CATEGORIES:Festas & Festivals
ATTACH;FMTTYPE=image/jpeg:https://eventosagenda.com/wp-content/uploads/2025/06/facebook_1749071349767_7336136958614458875.jpg
END:VEVENT
BEGIN:VEVENT
DTSTART;TZID=Europe/Lisbon:20250807T210000
DTEND;TZID=Europe/Lisbon:20250810T190000
DTSTAMP:20260421T235435
CREATED:20250709T191806Z
LAST-MODIFIED:20250709T191806Z
UID:3196-1754600400-1754852400@eventosagenda.com
SUMMARY:Festas em Honra de Santa Rita de Cássia - Sanfins
DESCRIPTION:
URL:https://eventosagenda.com/event/festas-em-honra-de-santa-rita-de-cassia-sanfins/
LOCATION:Sanfins\, Sanfins\, Valença\,\, Viana do Castelo\, Portugal
CATEGORIES:Festas & Festivals
ATTACH;FMTTYPE=image/jpeg:https://eventosagenda.com/wp-content/uploads/2025/07/facebook_1751481478280_7346245770276131435.jpg
END:VEVENT
BEGIN:VEVENT
DTSTART;TZID=Europe/Lisbon:20250807T200000
DTEND;TZID=Europe/Lisbon:20250812T235900
DTSTAMP:20260421T235435
CREATED:20250802T113911Z
LAST-MODIFIED:20250802T113923Z
UID:3454-1754596800-1755043140@eventosagenda.com
SUMMARY:Festas em honra de Nossa Senhora das Neves - Argoncilhe\, São Domingos
DESCRIPTION:
URL:https://eventosagenda.com/event/festas-em-honra-de-nossa-senhora-das-neves-argoncilhe-sao-domingos/
LOCATION:Argoncilhe\, Vila de Argoncilhe\, Aveiro
CATEGORIES:Festas & Festivals
ATTACH;FMTTYPE=image/jpeg:https://eventosagenda.com/wp-content/uploads/2025/08/08-07-Argoncilhe.jpg
END:VEVENT
BEGIN:VEVENT
DTSTART;TZID=Europe/Lisbon:20250807T170000
DTEND;TZID=Europe/Lisbon:20250812T233000
DTSTAMP:20260421T235435
CREATED:20250512T133613Z
LAST-MODIFIED:20250808T081824Z
UID:1395-1754586000-1755041400@eventosagenda.com
SUMMARY:40° Festival do Vinho Português e 30 Feira Nacional da Pera Rocha - Bombarral
DESCRIPTION:O concelho do Bombarral volta a ser palco de um dos mais emblemáticos certames dedicados à promoção dos produtos endógenos da região: o 40.º Festival do Vinho Português e a 30.ª Feira Nacional da Pera Rocha\, que terão lugar de 7 a 12 de agosto\, na Mata Municipal do Bombarral.
URL:https://eventosagenda.com/event/40-festival-do-vinho-portugues-e-30-feira-nacional-da-pera-rocha-bombarral/
LOCATION:Bombarral\, Bombarral\, Leiria\, Portugal
CATEGORIES:Festas & Festivals,Food & Drink
ATTACH;FMTTYPE=image/png:https://eventosagenda.com/wp-content/uploads/2025/08/08-07-Festa-Vinho.png
END:VEVENT
BEGIN:VEVENT
DTSTART;TZID=Europe/Lisbon:20250807T140000
DTEND;TZID=Europe/Lisbon:20250811T220000
DTSTAMP:20260421T235435
CREATED:20250707T125920Z
LAST-MODIFIED:20250707T125920Z
UID:3070-1754575200-1754949600@eventosagenda.com
SUMMARY:Festa da Panchorra 2025
DESCRIPTION:Fizemos a contagem decrescente…\n\n\ne chegou o momento de vos apresentar o resultado de meses intensos de trabalho\, dedicação e muita paixão!\n\n\n Foram horas ao telefone\, inúmeras pesquisas e contactos\, tudo com um único objetivo: preparar dias de verdadeira alegria e celebrar a nossa terra como ela merece.\n\n\nEste é o cartaz promocional da Festa em Honra de São Lourenço 2025!\n\n\nUm pequeno reflexo da grande festa que aí vem — feita por nós\, mas sempre para vocês. Porque sem público\, não há espetáculo\, e sem a vossa presença\, nada disto faria sentido.\n\n\n As escolhas foram feitas com consciência\, respeito e muita responsabilidade.\nGerimos com dignidade os recursos que nos confiam\, o dinheiro do povo e de todos os que acreditam e caminham connosco.\n\n\nA Rostos Panchorrenses\, agora responsável pela organização da nossa festa anual\, orgulha-se do caminho que está a trilhar. E é com enorme carinho que vos convidamos a viver esta festa connosco.\n\n\nEsperamos que gostem. Partilhem\, comentem e\, acima de tudo… venham celebrar!\n\n\nA Panchorra vai tremer de 7 a 11 de Agosto\, com 5 dias de muita música\, tradições\, boa comida e animação NON-STOP!\n\n\n Concertos\, DJs\, leilões\, porco no espeto\, zumba\, torneios\, fogo de artifício e muito mais.\n\n\n Junta-te à arruada\, dança na festa neon e vive a melhor festa do ano com a tua gente que também é a nossa gente!\n\n\n Marca já na agenda: Panchorra 2025\n\n\n o nosso cartaz foi criado por um dos nossos membros\, para assim evitar o custo da elaboração do mesmo! Seguimos sempre conscientes na gestão e organização das actividades da ARP.\n\n\n\n\nWe’ve made the countdown…\n\n\nand the time has come to present you the result of months of intense work\, dedication and a lot of passion!\n\n\n There were hours on the phone\, countless searches and contacts\, all with a single goal: to prepare days of true joy and celebrate our land as it deserves.\n\n\nThis is the promotional poster for the Feast in Honor of Saint Lawrence 2025!\n\n\nA little reflection of the great party that’s coming — made by us\, but always for you. Because without an audience\, there is no show\, and without your presence\, none of this would make sense.\n\n\n Choices were made with conscience\, respect and a lot of responsibility.\nWe manage with dignity the resources entrusted to us\, the money of the people and all those who believe and walk with us.\n\n\nRostos Panchorrense\, now responsible for organizing our annual party\, is proud of the path they are taking. And it is with great affection that we invite you to enjoy this party with us.\n\n\n We hope you enjoy it. Share\, Comment and most of all … Come on out and celebrate!\n\n\nPanchorra will shake from August 7-11 with 5 days of great music\, traditions\, good food and NON-STOP fun!\n\n\n Concerts\, DJs\, auctions\, pig in the skewer\, zumba\, tournaments\, fireworks and more.\n\n\n Join the brawl\, dance in the neon party\, and live the best party of the year with your people who are also our people!\n\n\n Mark your calendars: Panchorra 2025\n\n\n our banner was created by one of our members\, to avoid the cost of creating it! We are always aware of the management and organization of ARP activities.
URL:https://eventosagenda.com/event/festa-da-panchorra-2025/
LOCATION:Panchorra\, Panchorra\, Viseu\, Portugal
CATEGORIES:Festas & Festivals
ATTACH;FMTTYPE=image/jpeg:https://eventosagenda.com/wp-content/uploads/2025/07/facebook_1751876454153_7347902419163931073.jpg
END:VEVENT
BEGIN:VEVENT
DTSTART;VALUE=DATE:20250807
DTEND;VALUE=DATE:20250812
DTSTAMP:20260421T235435
CREATED:20250430T163234Z
LAST-MODIFIED:20250430T163234Z
UID:871-1754524800-1754956799@eventosagenda.com
SUMMARY:Festas de Carnide 2025
DESCRIPTION:
URL:https://eventosagenda.com/event/festas-de-carnide-2025/
LOCATION:Carnide\, Pombal\, Leiria\, 3105-028\, Portugal
CATEGORIES:Festas & Festivals
ATTACH;FMTTYPE=image/webp:https://eventosagenda.com/wp-content/uploads/2025/04/Pombal.webp
END:VEVENT
BEGIN:VEVENT
DTSTART;VALUE=DATE:20250806
DTEND;VALUE=DATE:20250818
DTSTAMP:20260421T235435
CREATED:20250513T200102Z
LAST-MODIFIED:20250513T200119Z
UID:1561-1754438400-1755475199@eventosagenda.com
SUMMARY:2025 Volta a Portugal
DESCRIPTION:The 2025 Volta a Portugal em Bicicleta is scheduled to take place from 6 to 17 August 2025\, as confirmed by the official event website. This prestigious race is a cornerstone of the Portuguese cycling calendar and is part of the UCI Europe Tour. It attracts a diverse mix of UCI WorldTeams\, ProTeams\, Continental teams\, and national squads\, offering a platform for both seasoned professionals and emerging talents.
URL:https://eventosagenda.com/event/2025-volta-a-portugal/
LOCATION:Coimbra
CATEGORIES:Sports & Games
ATTACH;FMTTYPE=image/png:https://eventosagenda.com/wp-content/uploads/2025/05/Volta_a_Portugal_logo.png
END:VEVENT
BEGIN:VEVENT
DTSTART;TZID=Europe/Lisbon:20250805T200000
DTEND;TZID=Europe/Lisbon:20250810T235900
DTSTAMP:20260421T235435
CREATED:20250620T111057Z
LAST-MODIFIED:20250620T111115Z
UID:2770-1754424000-1754870340@eventosagenda.com
SUMMARY:Festas Nossa Senhora das Neves - Rendufe\, Amares
DESCRIPTION:
URL:https://eventosagenda.com/event/festas-nossa-senhora-das-neves-rendufe-amares/
LOCATION:Rendufe\, Rendufe\, Amares\, Braga\, Portugal
CATEGORIES:Festas & Festivals
ATTACH;FMTTYPE=image/jpeg:https://eventosagenda.com/wp-content/uploads/2025/06/facebook_1749868516604_7339480518667245171.jpg
END:VEVENT
BEGIN:VEVENT
DTSTART;VALUE=DATE:20250805
DTEND;VALUE=DATE:20250818
DTSTAMP:20260421T235435
CREATED:20250505T162937Z
LAST-MODIFIED:20250505T163009Z
UID:1086-1754352000-1755475199@eventosagenda.com
SUMMARY:Festas em Honra de Nossa Senhora da Guia - Vila de Apúlia
DESCRIPTION:
URL:https://eventosagenda.com/event/festas-em-honra-de-nossa-senhora-da-guia-vila-de-apulia/
LOCATION:Vila de Apúlia\, Apúlia\, Braga\, Portugal
CATEGORIES:Festas & Festivals
ATTACH;FMTTYPE=image/jpeg:https://eventosagenda.com/wp-content/uploads/2025/05/489063017_1109289464575881_423264258881854945_n.jpg
END:VEVENT
BEGIN:VEVENT
DTSTART;TZID=Europe/Lisbon:20250803T090000
DTEND;TZID=Europe/Lisbon:20250803T170000
DTSTAMP:20260421T235435
CREATED:20250620T110453Z
LAST-MODIFIED:20250620T110453Z
UID:2764-1754211600-1754240400@eventosagenda.com
SUMMARY:1° Encontro da Minis - Monção
DESCRIPTION:
URL:https://eventosagenda.com/event/1-encontro-da-minis-moncao/
LOCATION:Monção\, Monção\, Alto Minho\, Viana do Castelo\, Portugal
CATEGORIES:Tours & Trips
ATTACH;FMTTYPE=image/jpeg:https://eventosagenda.com/wp-content/uploads/2025/06/505460556_735313162508355_1836963647916228230_n.jpg
END:VEVENT
BEGIN:VEVENT
DTSTART;TZID=Europe/Lisbon:20250803T083000
DTEND;TZID=Europe/Lisbon:20250811T233000
DTSTAMP:20260421T235435
CREATED:20250504T110246Z
LAST-MODIFIED:20250512T134029Z
UID:1021-1754209800-1754955000@eventosagenda.com
SUMMARY:Festsas de La Salette - Oliveira de Azeméis
DESCRIPTION:
URL:https://eventosagenda.com/event/festsas-de-la-salette-oliveira-de-azemeis/
LOCATION:Oliveira de Azeméis\, Oliveira de Azeméis\, Porto\, Portugal
CATEGORIES:Festas & Festivals
ATTACH;FMTTYPE=image/jpeg:https://eventosagenda.com/wp-content/uploads/2025/05/facebook_1746994842329_7327427455163576819.jpg
END:VEVENT
BEGIN:VEVENT
DTSTART;TZID=Europe/Lisbon:20250803T083000
DTEND;TZID=Europe/Lisbon:20250803T170000
DTSTAMP:20260421T235435
CREATED:20250707T133526Z
LAST-MODIFIED:20250707T133526Z
UID:3096-1754209800-1754240400@eventosagenda.com
SUMMARY:XII Passeio de Motas Antigas de Santo André das Tojeiras
DESCRIPTION:
URL:https://eventosagenda.com/event/xii-passeio-de-motas-antigas-de-santo-andre-das-tojeiras/
LOCATION:Santo André das Tojeiras\, Santo André das Tojeiras\, Castelo Branco\, Portugal
CATEGORIES:Tours & Trips
ATTACH;FMTTYPE=image/jpeg:https://eventosagenda.com/wp-content/uploads/2025/07/facebook_1751826401683_7347692483887745016.jpg
END:VEVENT
BEGIN:VEVENT
DTSTART;TZID=Europe/Lisbon:20250803T080000
DTEND;TZID=Europe/Lisbon:20250804T235900
DTSTAMP:20260421T235435
CREATED:20250802T112218Z
LAST-MODIFIED:20250802T112218Z
UID:3439-1754208000-1754351940@eventosagenda.com
SUMMARY:Festas em honra do Santíssimo Sacramento e do Sagrado Coração de Jesus - Fátima 2025
DESCRIPTION:
URL:https://eventosagenda.com/event/festas-em-honra-do-santissimo-sacramento-e-do-sagrado-coracao-de-jesus-fatima-2025/
LOCATION:Fátima\, Fátima\, Santarém\, Portugal
CATEGORIES:Festas & Festivals
ATTACH;FMTTYPE=image/jpeg:https://eventosagenda.com/wp-content/uploads/2025/08/facebook_1754034817057_7356955249322494936.jpg
END:VEVENT
BEGIN:VEVENT
DTSTART;TZID=Europe/Lisbon:20250802T190000
DTEND;TZID=Europe/Lisbon:20250805T220000
DTSTAMP:20260421T235435
CREATED:20250722T104202Z
LAST-MODIFIED:20250722T104202Z
UID:3342-1754161200-1754431200@eventosagenda.com
SUMMARY:Tradicional Festa do Pé Descalço - Asseiceria\, Rio Maior
DESCRIPTION:TRADICIONAL FESTA DO PÉ DESCALÇO em HONRA DE SÃO DOMINGOS  \n\n\nVoltamos para mais uma edição\, de 2 a 5 de Agosto de 2025 em Asseiceira – Rio Maior\n\n\nPROGRAMA:\nSÁBADO\, 2 de Agosto\n19h00 – Abertura do restaurante\n22h30 – Baile com Ritmo Certo\nAfter Hours com o DJ Micael Bento\n\n\nDOMINGO\, 3 de Agosto\n12h00 – Abertura do restaurante\nAnimação com Grupo de Concertinas\, Escola de Acordeão José Cláudio e Catarina Brilha\n18h00 – Missa campal em honra de São Domingos\, seguida de procissão\n19h00 – Abertura do restaurante\n22h00 – Baile com Nelson Lord’s\n\n\nSEGUNDA\, 4 de Agosto\n19h00 – Abertura do restaurante\n22h00 – Atuação de Dyana e os DFB\nAfter Hours com o DJ Johnny Q\n\n\nTERÇA\, 5 de Agosto – Dia do Pé Descalço\n12h00 – Tradicional Feijoada à Pé Descalço\n19h00 – Abertura do restaurante\n22h00 – Atuação da banda Bico D’Obra\n\n\nRESTAURANTE aberto ao jantar todos os dias\, almoços apenas domingo e terça.\n\n\nENTRADA LIVRE todos os dias!\nMarca já na tua agenda e vem festejar connosco! Partilha com os teus amigos e familiares.\n\n\nA Festa do Pé Descalço é de todos! Juntos somos mais fortes
URL:https://eventosagenda.com/event/tradicional-festa-do-pe-descalco-asseiceria-rio-maior/
LOCATION:Asseiceria\, Rio Maior\, Asseiceria\, Rio Maior\, Santarém\, Portugal
CATEGORIES:Festas & Festivals
ATTACH;FMTTYPE=image/jpeg:https://eventosagenda.com/wp-content/uploads/2025/07/facebook_1752264449992_7349529791659842318.jpg
END:VEVENT
BEGIN:VEVENT
DTSTART;TZID=Europe/Lisbon:20250802T150000
DTEND;TZID=Europe/Lisbon:20250802T200000
DTSTAMP:20260421T235435
CREATED:20250406T131113Z
LAST-MODIFIED:20250406T131328Z
UID:176-1754146800-1754164800@eventosagenda.com
SUMMARY:A Nossa Feira Penela – Night Market & Live Music
DESCRIPTION:
URL:https://eventosagenda.com/event/a-nossa-feira-penela-night-market-live-music/
LOCATION:Penela\, Penela\, Coimbra\, 3070-000\, Portugal
CATEGORIES:Fado, Concerts & Music,Markets & Fairs
ATTACH;FMTTYPE=image/jpeg:https://eventosagenda.com/wp-content/uploads/2025/04/Penela.jpg
END:VEVENT
BEGIN:VEVENT
DTSTART;TZID=Europe/Lisbon:20250802T090000
DTEND;TZID=Europe/Lisbon:20250804T235900
DTSTAMP:20260421T235435
CREATED:20250709T181311Z
LAST-MODIFIED:20250709T181330Z
UID:3154-1754125200-1754351940@eventosagenda.com
SUMMARY:Festa do Senhor dos Aflitos 2025 - Monte dos Carrujos\, Torre do Pinhão
DESCRIPTION:
URL:https://eventosagenda.com/event/festa-do-senhor-dos-aflitos-2025-monte-dos-carrujos-torre-do-pinhao/
LOCATION:Monte dos Carrujos\, Torre do Pinhão\, Monte dos Carrujos\, Torre do Pinhão\, Vila Real\, Portugal
CATEGORIES:Festas & Festivals
ATTACH;FMTTYPE=image/jpeg:https://eventosagenda.com/wp-content/uploads/2025/07/facebook_1752071472346_7348720384748611777.jpg
END:VEVENT
END:VCALENDAR