BEGIN:VCALENDAR
VERSION:2.0
PRODID:-// - ECPv6.15.20//NONSGML v1.0//EN
CALSCALE:GREGORIAN
METHOD:PUBLISH
X-ORIGINAL-URL:https://eventosagenda.com
X-WR-CALDESC:Events for 
REFRESH-INTERVAL;VALUE=DURATION:PT1H
X-Robots-Tag:noindex
X-PUBLISHED-TTL:PT1H
BEGIN:VTIMEZONE
TZID:Europe/Lisbon
BEGIN:DAYLIGHT
TZOFFSETFROM:+0000
TZOFFSETTO:+0100
TZNAME:WEST
DTSTART:20240331T010000
END:DAYLIGHT
BEGIN:STANDARD
TZOFFSETFROM:+0100
TZOFFSETTO:+0000
TZNAME:WET
DTSTART:20241027T010000
END:STANDARD
BEGIN:DAYLIGHT
TZOFFSETFROM:+0000
TZOFFSETTO:+0100
TZNAME:WEST
DTSTART:20250330T010000
END:DAYLIGHT
BEGIN:STANDARD
TZOFFSETFROM:+0100
TZOFFSETTO:+0000
TZNAME:WET
DTSTART:20251026T010000
END:STANDARD
BEGIN:DAYLIGHT
TZOFFSETFROM:+0000
TZOFFSETTO:+0100
TZNAME:WEST
DTSTART:20260329T010000
END:DAYLIGHT
BEGIN:STANDARD
TZOFFSETFROM:+0100
TZOFFSETTO:+0000
TZNAME:WET
DTSTART:20261025T010000
END:STANDARD
END:VTIMEZONE
BEGIN:VEVENT
DTSTART;TZID=Europe/Lisbon:20250801T220000
DTEND;TZID=Europe/Lisbon:20250802T080000
DTSTAMP:20260421T232740
CREATED:20250409T112750Z
LAST-MODIFIED:20250721T115614Z
UID:225-1754085600-1754121600@eventosagenda.com
SUMMARY:Cunqueiros Sound Fest 2025
DESCRIPTION:
URL:https://eventosagenda.com/event/cunqueiros-sound-fest-2025/
LOCATION:Cunqueiros\, Cunqueiros\, Castelo Branco\, Portugal
CATEGORIES:Festas & Festivals
ATTACH;FMTTYPE=image/jpeg:https://eventosagenda.com/wp-content/uploads/2025/04/Cunqueiros-Sound-Fest-2025.jpg
END:VEVENT
BEGIN:VEVENT
DTSTART;TZID=Europe/Lisbon:20250801T213000
DTEND;TZID=Europe/Lisbon:20250804T213000
DTSTAMP:20260421T232740
CREATED:20250802T112515Z
LAST-MODIFIED:20250802T112515Z
UID:3443-1754083800-1754343000@eventosagenda.com
SUMMARY:Festa em Honra de Nossa Senhora da Piedade - Ourém
DESCRIPTION:
URL:https://eventosagenda.com/event/festa-em-honra-de-nossa-senhora-da-piedade-ourem/
LOCATION:Ourém\, Ourém\, Santarém\, Portugal
CATEGORIES:Festas & Festivals
ATTACH;FMTTYPE=image/jpeg:https://eventosagenda.com/wp-content/uploads/2025/08/facebook_1754034803354_7356955191848891307.jpg
END:VEVENT
BEGIN:VEVENT
DTSTART;TZID=Europe/Lisbon:20250801T190000
DTEND;TZID=Europe/Lisbon:20250803T220000
DTSTAMP:20260421T232740
CREATED:20250730T175742Z
LAST-MODIFIED:20250730T175742Z
UID:3430-1754074800-1754258400@eventosagenda.com
SUMMARY:Festa de Verão 2025 - Malaqueijo
DESCRIPTION:
URL:https://eventosagenda.com/event/festa-de-verao-2025-malaqueijo/
LOCATION:Malaqueijo\, Malaqueijo\, Rio Maior\, Santarém\, Portugal
CATEGORIES:Festas & Festivals
ATTACH;FMTTYPE=image/jpeg:https://eventosagenda.com/wp-content/uploads/2025/07/08-01-Malaqueijo.jpg
END:VEVENT
BEGIN:VEVENT
DTSTART;TZID=Europe/Lisbon:20250801T190000
DTEND;TZID=Europe/Lisbon:20250803T213000
DTSTAMP:20260421T232740
CREATED:20250721T125850Z
LAST-MODIFIED:20250721T130254Z
UID:3285-1754074800-1754256600@eventosagenda.com
SUMMARY:Festas Clube Recreativo de Carvide 2025
DESCRIPTION:
URL:https://eventosagenda.com/event/festas-clube-recreativo-de-carvide/
LOCATION:Carvide\, Carvide\, Leiria\, Portugal
CATEGORIES:Festas & Festivals
ATTACH;FMTTYPE=image/jpeg:https://eventosagenda.com/wp-content/uploads/2025/07/facebook_1753101441071_7353040386690984841.jpg
END:VEVENT
BEGIN:VEVENT
DTSTART;TZID=Europe/Lisbon:20250801T180000
DTEND;TZID=Europe/Lisbon:20250805T223000
DTSTAMP:20260421T232740
CREATED:20250730T164425Z
LAST-MODIFIED:20250730T164636Z
UID:3373-1754071200-1754433000@eventosagenda.com
SUMMARY:Festas em Honra de Nossa Senhora da Conceição - Louriceira
DESCRIPTION:
URL:https://eventosagenda.com/event/festas-em-honra-de-nossa-senhora-da-conceicao-louriceira/
LOCATION:Louriceira\, Louriceira\, Alcanena\, Santarém\, Portugal
CATEGORIES:Festas & Festivals
ATTACH;FMTTYPE=image/jpeg:https://eventosagenda.com/wp-content/uploads/2025/07/08-01-Louriceira.jpg
END:VEVENT
BEGIN:VEVENT
DTSTART;TZID=Europe/Lisbon:20250801T180000
DTEND;TZID=Europe/Lisbon:20250804T235900
DTSTAMP:20260421T232740
CREATED:20250730T164124Z
LAST-MODIFIED:20250730T164139Z
UID:3369-1754071200-1754351940@eventosagenda.com
SUMMARY:Liteiros em Festa 2025
DESCRIPTION:
URL:https://eventosagenda.com/event/liteiros-em-festa-2025/
LOCATION:Liteiros\, Liteiros\, Torres Novas\, Santarém\, Portugal
CATEGORIES:Festas & Festivals
ATTACH;FMTTYPE=image/jpeg:https://eventosagenda.com/wp-content/uploads/2025/07/08-01-Liteiros.jpg
END:VEVENT
BEGIN:VEVENT
DTSTART;TZID=Europe/Lisbon:20250801T180000
DTEND;TZID=Europe/Lisbon:20250804T235900
DTSTAMP:20260421T232740
CREATED:20250721T132916Z
LAST-MODIFIED:20250721T133759Z
UID:3311-1754071200-1754351940@eventosagenda.com
SUMMARY:Festa Marinheiros 2025 - Marrazes
DESCRIPTION:
URL:https://eventosagenda.com/event/festa-marinheiros-2025-marrazes/
LOCATION:Marrazes\, Marrazes\, Leiria\, Portugal
CATEGORIES:Festas & Festivals
ATTACH;FMTTYPE=image/jpeg:https://eventosagenda.com/wp-content/uploads/2025/07/facebook_1752728253280_7351475123646188691.jpg
END:VEVENT
BEGIN:VEVENT
DTSTART;TZID=Europe/Lisbon:20250801T180000
DTEND;TZID=Europe/Lisbon:20250804T230000
DTSTAMP:20260421T232740
CREATED:20250707T130737Z
LAST-MODIFIED:20250707T130737Z
UID:3074-1754071200-1754348400@eventosagenda.com
SUMMARY:Festa de Verão - Esteiro 2025
DESCRIPTION:
URL:https://eventosagenda.com/event/festa-de-verao-esteiro-2025/
LOCATION:Esteiro\, Esteiro\, Pampilhosa da Serra\, Coimbra\, Portugal
CATEGORIES:Festas & Festivals
ATTACH;FMTTYPE=image/jpeg:https://eventosagenda.com/wp-content/uploads/2025/07/facebook_1751833857068_7347723754038111658.jpg
END:VEVENT
BEGIN:VEVENT
DTSTART;TZID=Europe/Lisbon:20250801T180000
DTEND;TZID=Europe/Lisbon:20250804T213000
DTSTAMP:20260421T232740
CREATED:20250711T160136Z
LAST-MODIFIED:20250711T160153Z
UID:3247-1754071200-1754343000@eventosagenda.com
SUMMARY:Campelo '25
DESCRIPTION:
URL:https://eventosagenda.com/event/campelo-25/
LOCATION:Campelo\, Campelo\, Figueiró dos Vinhos\, Leiria\, Portugal
CATEGORIES:Festas & Festivals
ATTACH;FMTTYPE=image/jpeg:https://eventosagenda.com/wp-content/uploads/2025/07/facebook_1752212464055_7349311746835853234.jpg
END:VEVENT
BEGIN:VEVENT
DTSTART;TZID=Europe/Lisbon:20250801T180000
DTEND;TZID=Europe/Lisbon:20250803T221500
DTSTAMP:20260421T232740
CREATED:20250721T134600Z
LAST-MODIFIED:20250721T134618Z
UID:3320-1754071200-1754259300@eventosagenda.com
SUMMARY:Festas em honra do Senhor da Vida 2025 - Mata Mourisca
DESCRIPTION:
URL:https://eventosagenda.com/event/festas-em-honra-do-senhor-da-vida-2025-mata-mourisca/
LOCATION:Mata Mourisca\, Mata Mourisca\, Pombal\, Leiria\, Portugal
CATEGORIES:Festas & Festivals
ATTACH;FMTTYPE=image/jpeg:https://eventosagenda.com/wp-content/uploads/2025/07/facebook_1752682583616_7351283571194720504.jpg
END:VEVENT
BEGIN:VEVENT
DTSTART;TZID=Europe/Lisbon:20250801T180000
DTEND;TZID=Europe/Lisbon:20250803T220000
DTSTAMP:20260421T232740
CREATED:20250721T131111Z
LAST-MODIFIED:20250721T131132Z
UID:3293-1754071200-1754258400@eventosagenda.com
SUMMARY:Festa ao São Jorge '25 - Pedra do Ouro
DESCRIPTION:Festa da Pedra do Ouro! Festa em honra ao São Jorge!\nDia 1\, 2 e 3 agosto. Este ano é que é!\n\n\nVem com os amigos\, a família e a boa disposição e alegria \n Música\, petiscos\, dança e reencontros\, está tudo garantido!\n\n\n Não faltes!\n\n\n\n\nRock of Gold Party! Feast in honor of St. George!\nAugust 1st 2nd 3rd This year is the one! \n\n\nCome with friends\, family and good mood and happiness \n Music\, snacks\, dancing and reunions\, it’s all guaranteed!\n\n\n Don’t miss out
URL:https://eventosagenda.com/event/festa-ao-sao-jorge-25-pedra-do-ouro/
LOCATION:Pedra do Ouro\, Pedra do Ouro\, Chão de Couce\, Ansião\, Leiria\, Portugal
CATEGORIES:Festas & Festivals
ATTACH;FMTTYPE=image/jpeg:https://eventosagenda.com/wp-content/uploads/2025/07/facebook_1753088885357_7352987724211247345.jpg
END:VEVENT
BEGIN:VEVENT
DTSTART;TZID=Europe/Lisbon:20250801T180000
DTEND;TZID=Europe/Lisbon:20250803T220000
DTSTAMP:20260421T232740
CREATED:20250707T132526Z
LAST-MODIFIED:20250707T132526Z
UID:3089-1754071200-1754258400@eventosagenda.com
SUMMARY:Festa Nossa Senhora do Rosário - Poiares
DESCRIPTION:Festa em Honra a Nossa Senhora do Rosário – Poiares 2025 \n\n\nÉ com grande alegria e devoção que convidamos toda a comunidade para a tradicional Festa em Honra a Nossa Senhora do Rosário\, que se realizará em Poiares\, com um programa repleto de fé\, música\, cultura e convívio!\n\n\nVenha celebrar conosco esta tradição que une diversão e comunidade! Traga a família e os amigos e viva momentos inesquecíveis.\n\n\n\n\nParty in Honor of Our Lady of the Rosary – Poiares 2025 \n\n\nIt is with great joy and devotion that we invite the whole community to the traditional Feast in Honor of Our Lady of the Rosário\, which will take place in Poiares\, with a program full of faith\, music\, culture and togetherness!\n\n\nCome celebrate with us this tradition that unites fun and community! Bring your family and friends and have unforgettable moments.
URL:https://eventosagenda.com/event/festa-nossa-senhora-do-rosario-poiares/
LOCATION:Vila Nova de Poiares\, Vila Nova de Poiares\, Coimbra\, Portugal
CATEGORIES:Festas & Festivals
ATTACH;FMTTYPE=image/jpeg:https://eventosagenda.com/wp-content/uploads/2025/07/514643222_24668839759370468_1221047469820210558_n.jpg
END:VEVENT
BEGIN:VEVENT
DTSTART;TZID=Europe/Lisbon:20250801T180000
DTEND;TZID=Europe/Lisbon:20250803T210000
DTSTAMP:20260421T232740
CREATED:20250730T173002Z
LAST-MODIFIED:20250730T173002Z
UID:3409-1754071200-1754254800@eventosagenda.com
SUMMARY:Festa em Honra de São Tiago 2025 - Santiago da Guarda
DESCRIPTION:
URL:https://eventosagenda.com/event/festa-em-honra-de-sao-tiago-2025-santiago-da-guarda/
LOCATION:Santiago da Guarda\, Santiago da Guarda\, Ansião\, Leiria\, Portugal
CATEGORIES:Festas & Festivals
ATTACH;FMTTYPE=image/jpeg:https://eventosagenda.com/wp-content/uploads/2025/07/08-01-Santiago-da-Guarda.jpg
END:VEVENT
BEGIN:VEVENT
DTSTART;TZID=Europe/Lisbon:20250801T170000
DTEND;TZID=Europe/Lisbon:20250803T210000
DTSTAMP:20260421T232740
CREATED:20250730T173905Z
LAST-MODIFIED:20250730T173905Z
UID:3416-1754067600-1754254800@eventosagenda.com
SUMMARY:Festa do Padroeiro e da Freguesia 2025 - Santo André das Tojeiras
DESCRIPTION:
URL:https://eventosagenda.com/event/festa-do-padroeiro-e-da-freguesia-2025-santo-andre-das-tojeiras/
LOCATION:Santo André das Tojeiras\, Santo André das Tojeiras\, Castelo Branco\, Portugal
CATEGORIES:Festas & Festivals
ATTACH;FMTTYPE=image/jpeg:https://eventosagenda.com/wp-content/uploads/2025/07/08-01-Santo-Andre-das-Toheiras.jpg
END:VEVENT
BEGIN:VEVENT
DTSTART;TZID=Europe/Lisbon:20250801T160000
DTEND;TZID=Europe/Lisbon:20250805T235900
DTSTAMP:20260421T232740
CREATED:20250709T175722Z
LAST-MODIFIED:20250709T175722Z
UID:3142-1754064000-1754438340@eventosagenda.com
SUMMARY:Festa em honra de Santo António – Atalaia do Campo
DESCRIPTION:FESTA DE VERÃO 2025 – ATALAIA DO CAMPO \n\n\nApresentamos o cartaz oficial da nossa grandiosa festa em honra de Santo António!\n\n\n De 1 a 5 de agosto\n\n\n Atalaia do Campo\n\n\nEstá quase a chegar a festa mais esperada do ano!\nPrepara-te para cinco dias inesquecíveis\, com muita música e animação.\nMarca já na tua agenda e junta-te a nós.\n\n\nComissão 205\n‘Festejamos Juntos’\n\n  \n\n SUMMER PARTY 2025 – CAMP ATALAIA \n\n\nIntroducing the official poster of our great party in honor of Saint Anthony!\n\n\n From 1 to 5 August\n\n\n Field Atalaia\n\n\nThe most anticipated party of the year is almost here!\nGet ready for five unforgettable days\, with lots of music and excitement.\nMark our calendar now and join us.\n\n\nCommission 205\n‘Let’s Celebrate Together’
URL:https://eventosagenda.com/event/festa-em-honra-de-santo-antonio-atalaia-do-campo/
LOCATION:Atalaia do Campo\, Atalaia do Campo\, Fundão\, Castelo Branco\, Portugal
CATEGORIES:Festas & Festivals
ATTACH;FMTTYPE=image/jpeg:https://eventosagenda.com/wp-content/uploads/2025/07/facebook_1752042285797_7348597967491457607.jpg
END:VEVENT
BEGIN:VEVENT
DTSTART;TZID=Europe/Lisbon:20250801T160000
DTEND;TZID=Europe/Lisbon:20250803T200000
DTSTAMP:20260421T232740
CREATED:20250711T153738Z
LAST-MODIFIED:20250711T153753Z
UID:3236-1754064000-1754251200@eventosagenda.com
SUMMARY:Festa em Honra de São João Batista - Herdade\, Alvito da Beira
DESCRIPTION:
URL:https://eventosagenda.com/event/festa-em-honra-de-sao-joao-batista-herdade-alvito-da-beira/
LOCATION:Herdade\, Alvito da Beira\, Herdade\, Alvito da Beira\, Castelo Branco\, Portugal
CATEGORIES:Festas & Festivals
ATTACH;FMTTYPE=image/jpeg:https://eventosagenda.com/wp-content/uploads/2025/07/facebook_1752215709887_7349325360842076950.jpg
END:VEVENT
BEGIN:VEVENT
DTSTART;TZID=Europe/Lisbon:20250801T090000
DTEND;TZID=Europe/Lisbon:20250803T210000
DTSTAMP:20260421T232740
CREATED:20250730T170039Z
LAST-MODIFIED:20250730T170056Z
UID:3384-1754038800-1754254800@eventosagenda.com
SUMMARY:Festa em Honra de nossa Senhora da Guia - Marrancos
DESCRIPTION:
URL:https://eventosagenda.com/event/festa-em-honra-de-nossa-senhora-da-guia-marrancos/
LOCATION:Marrancos\, Marrancos\, Vila Verde\, Braga\, Portugal
CATEGORIES:Festas & Festivals
ATTACH;FMTTYPE=image/jpeg:https://eventosagenda.com/wp-content/uploads/2025/07/08-01-Marrancos.jpg
END:VEVENT
BEGIN:VEVENT
DTSTART;VALUE=DATE:20250801
DTEND;VALUE=DATE:20250805
DTSTAMP:20260421T232740
CREATED:20250430T162834Z
LAST-MODIFIED:20250430T162845Z
UID:867-1754006400-1754351999@eventosagenda.com
SUMMARY:Festa de Verão 2025 - Malpica
DESCRIPTION:
URL:https://eventosagenda.com/event/festa-de-verao-2025-malpica/
LOCATION:Malpica\, Malpica do Tejo\, Castelo Branco\, Portugal
CATEGORIES:Festas & Festivals
ATTACH;FMTTYPE=image/webp:https://eventosagenda.com/wp-content/uploads/2025/04/Verao.webp
END:VEVENT
BEGIN:VEVENT
DTSTART;VALUE=DATE:20250801
DTEND;VALUE=DATE:20250804
DTSTAMP:20260421T232740
CREATED:20250608T084605Z
LAST-MODIFIED:20250608T084605Z
UID:2592-1754006400-1754265599@eventosagenda.com
SUMMARY:Festas da Meadela 2025
DESCRIPTION:
URL:https://eventosagenda.com/event/festas-da-meadela-2025/
LOCATION:Meadela\, Meadela\, Viana do Castelo\, Portugal
CATEGORIES:Festas & Festivals
ATTACH;FMTTYPE=image/jpeg:https://eventosagenda.com/wp-content/uploads/2025/06/facebook_1749276488847_7336997374278857795.jpg
END:VEVENT
BEGIN:VEVENT
DTSTART;VALUE=DATE:20250801
DTEND;VALUE=DATE:20250804
DTSTAMP:20260421T232740
CREATED:20250516T113709Z
LAST-MODIFIED:20250516T113709Z
UID:1627-1754006400-1754265599@eventosagenda.com
SUMMARY:Americancars Algarve - Faro
DESCRIPTION:
URL:https://eventosagenda.com/event/americancars-algarve-faro/
LOCATION:Faro\, Faro\, Algarve\, Faro\, Portugal
CATEGORIES:Festas & Festivals
ATTACH;FMTTYPE=image/jpeg:https://eventosagenda.com/wp-content/uploads/2025/05/facebook_1747344631814_7328894578596378705.jpg
END:VEVENT
BEGIN:VEVENT
DTSTART;VALUE=DATE:20250801
DTEND;VALUE=DATE:20250803
DTSTAMP:20260421T232740
CREATED:20250420T174044Z
LAST-MODIFIED:20250420T174044Z
UID:453-1754006400-1754179199@eventosagenda.com
SUMMARY:Festa de São José e Nossa Senhora das Póvoas 2025 - Estreito
DESCRIPTION:
URL:https://eventosagenda.com/event/festa-de-sao-jose-e-nossa-senhora-das-povoas-2025-estreito/
LOCATION:Estreito\, Estreito\, Oleiros\, Castelo Branco\, Portugal
CATEGORIES:Festas & Festivals
ATTACH;FMTTYPE=image/jpeg:https://eventosagenda.com/wp-content/uploads/2025/04/facebook_1745046578910_7319255846109777494.jpg
END:VEVENT
BEGIN:VEVENT
DTSTART;TZID=Europe/Lisbon:20250731T213000
DTEND;TZID=Europe/Lisbon:20250803T213000
DTSTAMP:20260421T232740
CREATED:20250702T145950Z
LAST-MODIFIED:20250702T150133Z
UID:3028-1753997400-1754256600@eventosagenda.com
SUMMARY:Festas em Honra de Nossa Senhora dos Milagres - Rio de Moinhos
DESCRIPTION:
URL:https://eventosagenda.com/event/festas-em-honra-de-nossa-senhora-dos-milagres-rio-de-moinhos/
LOCATION:Rio de Moinhos\, Rio de Moinhos\, Sátão\, Porto\, Portugal
CATEGORIES:Festas & Festivals
ATTACH;FMTTYPE=image/jpeg:https://eventosagenda.com/wp-content/uploads/2025/07/facebook_1751466234162_7346181831811419952.jpg
END:VEVENT
BEGIN:VEVENT
DTSTART;TZID=Europe/Lisbon:20250731T210000
DTEND;TZID=Europe/Lisbon:20250804T180000
DTSTAMP:20260421T232740
CREATED:20250709T193458Z
LAST-MODIFIED:20250709T193527Z
UID:3214-1753995600-1754330400@eventosagenda.com
SUMMARY:Festas de São Matias 2025 - Beja
DESCRIPTION:
URL:https://eventosagenda.com/event/festas-de-sao-matias-2025/
LOCATION:São Matias\, São Matias\, Beja\, Beja\, Portugal
CATEGORIES:Festas & Festivals
ATTACH;FMTTYPE=image/jpeg:https://eventosagenda.com/wp-content/uploads/2025/07/514183273_122164717070527322_2954650950765878740_n.jpg
END:VEVENT
BEGIN:VEVENT
DTSTART;TZID=Europe/Lisbon:20250731T200000
DTEND;TZID=Europe/Lisbon:20250804T223000
DTSTAMP:20260421T232740
CREATED:20250721T121514Z
LAST-MODIFIED:20250721T121532Z
UID:3273-1753992000-1754346600@eventosagenda.com
SUMMARY:Festa dos Bôlhos 2025 - Peniche
DESCRIPTION:𝐅𝐄𝐒𝐓𝐀 𝐃𝐎𝐒 𝐁𝐎̂𝐋𝐇𝐎𝐒 – 𝐂𝐀𝐑𝐓𝐀𝐙 𝐎𝐅𝐈𝐂𝐈𝐀𝐋 𝟐𝟎𝟐𝟓 \n\n\nAnunciamos o Cartaz Oficial da Festa dos Bôlhos em Honra de Santo António! Agradecemos aos nossos patrocinadores pela ajuda prestada para a realização do nosso evento! Bem-hajam!\n\n\nEstamos em contagem decrescente para as noites mais longas da nossa aldeia! \n\n\n\n\nBUBBLE PARTY – OFFICIAL POSTER 2025 \n\n\nWe announce the official poster of Festa dos Bôlhos in honor of Saint Anthony! Thank you to our sponsors for helping our event run! Welcome!\n\n\nWe’re counting down to the longest nights in our village!
URL:https://eventosagenda.com/event/festa-dos-bolhos-2025-peniche/
LOCATION:Peniche\, Peniche\, Leiria\, Portugal
CATEGORIES:Festas & Festivals
ATTACH;FMTTYPE=image/jpeg:https://eventosagenda.com/wp-content/uploads/2025/07/facebook_1752790443912_7351735970069231068.jpg
END:VEVENT
BEGIN:VEVENT
DTSTART;TZID=Europe/Lisbon:20250731T180000
DTEND;TZID=Europe/Lisbon:20250805T220000
DTSTAMP:20260421T232740
CREATED:20250423T120320Z
LAST-MODIFIED:20250423T120320Z
UID:552-1753984800-1754431200@eventosagenda.com
SUMMARY:Festa Favaios - em Honra do Senhor Jesus do Outeiro
DESCRIPTION:
URL:https://eventosagenda.com/event/festa-favaios-em-honra-do-senhor-jesus-do-outeiro/
LOCATION:Favaios\, Favaios\, Vila Real\, Portugal
CATEGORIES:Festas & Festivals
ATTACH;FMTTYPE=image/jpeg:https://eventosagenda.com/wp-content/uploads/2025/04/facebook_1745342693734_7320497841700053953.jpg
END:VEVENT
BEGIN:VEVENT
DTSTART;TZID=Europe/Lisbon:20250731T180000
DTEND;TZID=Europe/Lisbon:20250803T200000
DTSTAMP:20260421T232740
CREATED:20250730T163703Z
LAST-MODIFIED:20250730T163703Z
UID:3365-1753984800-1754251200@eventosagenda.com
SUMMARY:Belas em Festa 2025
DESCRIPTION:
URL:https://eventosagenda.com/event/belas-em-festa-2025/
LOCATION:Belas\, Belas\, Sintra\, Lisboa\, Portugal
CATEGORIES:Festas & Festivals
ATTACH;FMTTYPE=image/jpeg:https://eventosagenda.com/wp-content/uploads/2025/07/07-31-Belas.jpg
END:VEVENT
BEGIN:VEVENT
DTSTART;VALUE=DATE:20250731
DTEND;VALUE=DATE:20250811
DTSTAMP:20260421T232740
CREATED:20250604T073044Z
LAST-MODIFIED:20250604T073143Z
UID:2432-1753920000-1754870399@eventosagenda.com
SUMMARY:Expofacic  - Cantanhede 2025
DESCRIPTION:
URL:https://eventosagenda.com/event/expo-facic-cantanhede-2025/
LOCATION:Cantanhede\, Cantanhede\, Coimbra\, Portugal
CATEGORIES:Festas & Festivals,Food & Drink,Markets & Fairs
ATTACH;FMTTYPE=image/jpeg:https://eventosagenda.com/wp-content/uploads/2025/06/07.31-08.10-Cantanhede.jpg
END:VEVENT
BEGIN:VEVENT
DTSTART;VALUE=DATE:20250731
DTEND;VALUE=DATE:20250804
DTSTAMP:20260421T232740
CREATED:20250709T175459Z
LAST-MODIFIED:20250709T175459Z
UID:3139-1753920000-1754265599@eventosagenda.com
SUMMARY:Feira Terras do Lince 2025 - Penamacor
DESCRIPTION:A Feira Terras do Lince regressa a Penamacor nos dias 31 de julho\, 1\, 2 e 3 de agosto. Os interessados em participar no certame em breve poderão efetuar a sua inscrição online no site do Município. \n  \nThe Lynx Land Fair returns to Penamacor on July 31\, August 1\, 2 and 3. Those interested in participating in the event will soon be able to register online on the Municipality website.
URL:https://eventosagenda.com/event/feira-terras-do-lince-2025-penamacor/
LOCATION:Penamacor\, Penamacor\, Castelo Branco\, Portugal
CATEGORIES:Festas & Festivals
ATTACH;FMTTYPE=image/jpeg:https://eventosagenda.com/wp-content/uploads/2025/07/facebook_1752049253639_7348627192736489806.jpg
END:VEVENT
BEGIN:VEVENT
DTSTART;VALUE=DATE:20250731
DTEND;VALUE=DATE:20250804
DTSTAMP:20260421T232740
CREATED:20250707T141020Z
LAST-MODIFIED:20250707T141112Z
UID:3118-1753920000-1754265599@eventosagenda.com
SUMMARY:XXIII edição da Feira do Pinhal - Oleiros
DESCRIPTION:A XXIII edição da Feira do Pinhal está de regresso\, afirmando-se como um dos mais relevantes eventos da região.\n\n\nMais do que uma celebração\, este certame é uma plataforma estratégica para a promoção do território\, valorizando os produtos locais\, a gastronomia\, o artesanato e a cultura.\n\n\nAo longo de quatro dias\, Oleiros será palco de uma programação diversificada\, com destaque para os grandes nomes da música nacional:\n\n\n 31 de julho – Emanuel\n\n\n 1 de agosto – Bispo\n\n\n 2 de agosto – António Zambujo\n\n\n 3 de agosto – Marisa Liz\n\n\nO evento contará ainda com atuações dos grupos locais no habitual “Palco Raízes” e de DJ’s.\n\n\nO Vice-Presidente da Câmara Municipal de Oleiros\, Paulo Urbano\, destaca a importância da Feira do Pinhal para o concelho e para a região:\n\n\n“A Feira do Pinhal tem-se consolidado\, ano após ano\, como um dos maiores e mais importantes eventos da nossa região. É com grande orgulho que vemos a crescente procura por parte de expositores de todo o país\, que aqui encontram um palco privilegiado para os seus produtos locais e o seu artesanato de excelência. Este certame é um espelho vivo da identidade de Oleiros\, da nossa capacidade de inovar\, mas sempre valorizando as nossas raízes e o que de melhor o Pinhal tem para oferecer. Convidamos todos os munícipes e visitantes a participar nesta celebração do nosso património”.\n\n\nDurante as próximas semanas fique atento a mais novidades que vamos revelar!\n\n\n\n\nEmanuel\, Bishop\, António Zambujo and Marisa Liz at the Pine Fair from July 31 to August 3\n\n\nThe XXIII edition of the Pinhal Fair is back\, confirming itself as one of the most relevant events in the region.\n\n\nMore than a celebration\, this event is a strategic platform for the promotion of the territory\, valuing local produce\, gastronomy\, crafts and culture.\n\n\nOver the course of four days\, Oleiros will be the stage of a diverse program\, with a spotlight on the big names in national music:\n\n\n July 31 – Emanuel\n\n\n August 1 – Bishop\n\n\n August 2 – António Zambujo\n\n\n August 3 – Marisa Liz\n\n\nThe event will also feature performances by local groups on the usual “Roots Stage” and DJ’s.\n\n\nThe Vice President of the Municipal Council of Oleiros\, Paulo Urbano\, highlights the importance of the Pinhal Fair to the council and the region:\n\n\n“The Pinhal Fair has consolidated\, year after year\, as one of the largest and most important events in our region. It’s with great pride that we see the growing demand from exhibitors across the country\, who here find a prime stage for their local produce and excellent craftsmanship. This certificate is a living mirror of the Potters’ identity\, of our ability to innovate\, but always valuing our roots and the best that Pinhal has to offer. We invite all municipalities and visitors to participate in this celebration of our heritage”.\n\n\nOver the next few weeks stay tuned for more news that we will reveal!
URL:https://eventosagenda.com/event/xxiii-edicao-da-feira-do-pinhal-oleiros/
LOCATION:Oleiros\, Oleiros\, Castelo Branco\, Portugal
CATEGORIES:Festas & Festivals
ATTACH;FMTTYPE=image/jpeg:https://eventosagenda.com/wp-content/uploads/2025/07/facebook_1751570795625_7346620394374875682.jpg
END:VEVENT
BEGIN:VEVENT
DTSTART;VALUE=DATE:20250731
DTEND;VALUE=DATE:20250804
DTSTAMP:20260421T232740
CREATED:20250604T083307Z
LAST-MODIFIED:20250604T083322Z
UID:2482-1753920000-1754265599@eventosagenda.com
SUMMARY:Festival do Marisco - Relvado da Costa Nova do Prado
DESCRIPTION:
URL:https://eventosagenda.com/event/festival-do-marisco-relvado-da-costa-nova-do-prado/
LOCATION:Costa Nova\, Costa Nova\, Aveiro\, Portugal
CATEGORIES:Festas & Festivals,Food & Drink
ATTACH;FMTTYPE=image/jpeg:https://eventosagenda.com/wp-content/uploads/2025/06/07.31-08.03-Costa-Nova.jpg
END:VEVENT
END:VCALENDAR