BEGIN:VCALENDAR
VERSION:2.0
PRODID:-// - ECPv6.15.20//NONSGML v1.0//EN
CALSCALE:GREGORIAN
METHOD:PUBLISH
X-ORIGINAL-URL:https://eventosagenda.com
X-WR-CALDESC:Events for 
REFRESH-INTERVAL;VALUE=DURATION:PT1H
X-Robots-Tag:noindex
X-PUBLISHED-TTL:PT1H
BEGIN:VTIMEZONE
TZID:Europe/Lisbon
BEGIN:DAYLIGHT
TZOFFSETFROM:+0000
TZOFFSETTO:+0100
TZNAME:WEST
DTSTART:20240331T010000
END:DAYLIGHT
BEGIN:STANDARD
TZOFFSETFROM:+0100
TZOFFSETTO:+0000
TZNAME:WET
DTSTART:20241027T010000
END:STANDARD
BEGIN:DAYLIGHT
TZOFFSETFROM:+0000
TZOFFSETTO:+0100
TZNAME:WEST
DTSTART:20250330T010000
END:DAYLIGHT
BEGIN:STANDARD
TZOFFSETFROM:+0100
TZOFFSETTO:+0000
TZNAME:WET
DTSTART:20251026T010000
END:STANDARD
BEGIN:DAYLIGHT
TZOFFSETFROM:+0000
TZOFFSETTO:+0100
TZNAME:WEST
DTSTART:20260329T010000
END:DAYLIGHT
BEGIN:STANDARD
TZOFFSETFROM:+0100
TZOFFSETTO:+0000
TZNAME:WET
DTSTART:20261025T010000
END:STANDARD
END:VTIMEZONE
BEGIN:VEVENT
DTSTART;TZID=Europe/Lisbon:20250822T210000
DTEND;TZID=Europe/Lisbon:20250822T210000
DTSTAMP:20260421T222959
CREATED:20250805T173007Z
LAST-MODIFIED:20250806T205640Z
UID:3492-1755896400-1755896400@eventosagenda.com
SUMMARY:Rota entre Copos\, Aseites e Folclore - Sobriera Formosa
DESCRIPTION:𝐑𝐨𝐭𝐚 𝐞𝐧𝐭𝐫𝐞 𝐂𝐨𝐩𝐨𝐬\, 𝐀𝐳𝐞𝐢𝐭𝐞𝐬 𝐞 𝐅𝐨𝐥𝐜𝐥𝐨𝐫𝐞\n 22 de Agosto\n Largo da Devesa\n 21h00\n\n\nPrepara-te para uma noite única de 𝐬𝐚𝐛𝐨𝐫𝐞𝐬\, 𝐭𝐫𝐚𝐝𝐢𝐜𝐚𝐨 𝐞 𝐜𝐨𝐧𝐯𝐢𝐯𝐢𝐨 em Sobreira Formosa!\n Visita à 𝐀𝐝𝐞𝐠𝐚 𝐕𝐚𝐥𝐞 𝐝𝐨 𝐋𝐢𝐧𝐡𝐨 com prova de vinhos \n Visita ao 𝐋𝐚𝐠𝐚𝐫 com degustação de azeite \n Participação no 𝐞𝐧𝐬𝐚𝐢𝐨 𝐝𝐨 𝐑𝐚𝐧𝐜𝐡𝐨 \n\n\n Percurso circular de 5KM – dificuldade Fácil/Média\n Leva roupa e calçado confortável!\n Inclui refeição\n\n\n Preço: 15€\n Inscrições: Biblioteca de Sobreira Formosa ou 938 885 038\n\n\n𝐕𝐞𝐦 𝐯𝐢𝐯𝐞𝐫 𝐚 𝐧𝐨𝐬𝐬𝐚 𝐭𝐞𝐫𝐫𝐚 𝐜𝐨𝐦 𝐭𝐨𝐝𝐨𝐬 𝐨𝐬 𝐬𝐞𝐧𝐭𝐢𝐝𝐨𝐬 – entre copos\, azeites e tradição!\n\n\n\n\nRoute between cups\, oils and folklore\n August 22\n Far from Devesa\n 21h00\n\n\nGet ready for a unique night of flavors\, tradition and togetherness in Sobreira Formosa!\n Visit to Vale do Linho Winery with wine tasting \n Visit to the Lagar with olive oil tasting Visita\n Participation in the Rancho rehearsal \n\n\n 5KM circular route – Easy/Medium difficulty\n Wear comfortable clothes and footwear!\n Includes a meal\n\n\n Price: €15\n Registration: Sobreira Formosa Library or 938 885 038\n\n\nCome and experience our land in every sense – between cups\, olives and tradition!
URL:https://eventosagenda.com/event/rota-entre-copos-aseites-e-folclore-sobriera-formosa/
LOCATION:Sobreira Formosa\, Sobreira Formosa\, Castelo Branco\, Portugal
CATEGORIES:Festas & Festivals,Food & Drink,Tours & Trips
ATTACH;FMTTYPE=image/jpeg:https://eventosagenda.com/wp-content/uploads/2025/08/facebook_1754412165734_7358537964390578112.jpg
END:VEVENT
BEGIN:VEVENT
DTSTART;TZID=Europe/Lisbon:20250822T180000
DTEND;TZID=Europe/Lisbon:20250824T230000
DTSTAMP:20260421T222959
CREATED:20250707T133839Z
LAST-MODIFIED:20250707T133858Z
UID:3103-1755885600-1756076400@eventosagenda.com
SUMMARY:Sidrama 2025 - Ponte de Lima
DESCRIPTION:The Orchard grows\, the apples mature\, the cider trees are becoming adults\, and the public embraces them\nSidrama Ponte de Lima delivers itself to everyone as the cradle of Portuguese Cider
URL:https://eventosagenda.com/event/sidrama-2025-ponte-de-lima/
LOCATION:Ponte de Lima\, Ponte de Lima\, Viana do Castelo\, Portugal
CATEGORIES:Festas & Festivals,Food & Drink
ATTACH;FMTTYPE=image/jpeg:https://eventosagenda.com/wp-content/uploads/2025/07/facebook_1751572660454_7346628216036605540.jpg
END:VEVENT
BEGIN:VEVENT
DTSTART;VALUE=DATE:20250822
DTEND;VALUE=DATE:20250826
DTSTAMP:20260421T222959
CREATED:20250513T183230Z
LAST-MODIFIED:20250513T183425Z
UID:1494-1755820800-1756166399@eventosagenda.com
SUMMARY:Festa do Casal Novo 2025 - Casal Novo\, Condeixa
DESCRIPTION:
URL:https://eventosagenda.com/event/festa-do-casal-novo-2025-casal-novo-condeixa/
LOCATION:Casal Novo\, Condeixa\, Casal Novo\, Condeixa\, Coimbra\, Portugal
CATEGORIES:Festas & Festivals
ATTACH;FMTTYPE=image/jpeg:https://eventosagenda.com/wp-content/uploads/2025/05/facebook_1747160107197_7328120626258244195.jpg
END:VEVENT
BEGIN:VEVENT
DTSTART;VALUE=DATE:20250822
DTEND;VALUE=DATE:20250826
DTSTAMP:20260421T223000
CREATED:20250505T113517Z
LAST-MODIFIED:20250505T113517Z
UID:1046-1755820800-1756166399@eventosagenda.com
SUMMARY:Festa em Honra da Nossa Senhora de Nazaré - Praia da Aguda
DESCRIPTION:
URL:https://eventosagenda.com/event/festa-em-honra-da-nossa-senhora-de-nazare-praia-da-aguda/
LOCATION:Praia da Aguda\, Arcozelo\, Porto\, Portugal
CATEGORIES:Festas & Festivals
ATTACH;FMTTYPE=image/jpeg:https://eventosagenda.com/wp-content/uploads/2025/05/facebook_1746441189498_7325105266877358888.jpg
END:VEVENT
BEGIN:VEVENT
DTSTART;VALUE=DATE:20250822
DTEND;VALUE=DATE:20250826
DTSTAMP:20260421T223000
CREATED:20250408T165646Z
LAST-MODIFIED:20250730T172644Z
UID:216-1755820800-1756166399@eventosagenda.com
SUMMARY:Festa de Sobreira Formosa
DESCRIPTION:𝐅𝐞𝐬𝐭𝐚 𝐝𝐞 𝐒𝐨𝐛𝐫𝐞𝐢𝐫𝐚 𝐅𝐨𝐫𝐦𝐨𝐬𝐚 \n\n A contagem decrescente já começou!\nDe 𝟐𝟐 𝐚 𝟐𝟓 𝐝𝐞 𝐚𝐠𝐨𝐬𝐭𝐨\, o 𝐋𝐚𝐫𝐠𝐨 𝐝𝐚 𝐃𝐞𝐯𝐞𝐬𝐚 será palco da tradicional 𝐅𝐞𝐬𝐭𝐚 𝐞𝐦 𝐇𝐨𝐧𝐫𝐚 𝐝𝐞 𝐒𝐚𝐨 𝐓𝐢𝐚𝐠𝐨 𝐌𝐚𝐢𝐨𝐫.\n 𝐐𝐮𝐚𝐭𝐫𝐨 𝐝𝐢𝐚𝐬 repletos de animação\, com espaços dedicados ao 𝐚𝐫𝐭𝐞𝐬𝐚𝐧𝐚𝐭𝐨 e 𝐩𝐫𝐨𝐝𝐮𝐭𝐨𝐫𝐞𝐬 𝐥𝐨𝐜𝐚𝐢𝐬\, 𝐣𝐨𝐠𝐨𝐬 𝐭𝐫𝐚𝐝𝐢𝐜𝐢𝐨𝐧𝐚𝐢𝐬\, uma 𝐳𝐨𝐧𝐚 𝐠𝐚𝐬𝐭𝐫𝐨𝐧𝐨𝐦𝐢𝐜𝐚 e muitas surpresas para todas as idades.\n 𝐏𝐫𝐞𝐩𝐚𝐫𝐞-𝐭𝐞 para viver o evento mais 𝐞𝐬𝐩𝐞𝐫𝐚𝐝𝐨 𝐝𝐨 𝐚𝐧𝐨!\n\n𝐅𝐞𝐬𝐭𝐚 𝐝𝐞 𝐒𝐨𝐛𝐫𝐞𝐢𝐫𝐚 𝐅𝐨𝐫𝐦𝐨𝐬𝐚\n The countdown has already begun!\nFrom August 22nd to 25th\, Largo da Devesa will be the stage of the traditional Party in Honor of Sao Tiago Maior.\n Four days packed with excitement\, with spaces dedicated to local crafts and producers\, traditional games\, a gastronomic zone and many surprises for all ages.\n\n Get ready to experience the most anticipated event of the year!
URL:https://eventosagenda.com/event/sobreira-formosa-festa/
LOCATION:Sobreira Formosa\, Sobreira Formosa\, Castelo Branco\, Portugal
CATEGORIES:Festas & Festivals
ATTACH;FMTTYPE=image/jpeg:https://eventosagenda.com/wp-content/uploads/2025/04/08-22-Sobreira-1.jpg
END:VEVENT
BEGIN:VEVENT
DTSTART;TZID=Europe/Lisbon:20250821T203000
DTEND;TZID=Europe/Lisbon:20250825T235900
DTSTAMP:20260421T223000
CREATED:20250815T151144Z
LAST-MODIFIED:20250815T151154Z
UID:3602-1755808200-1756166340@eventosagenda.com
SUMMARY:Festa em honra do Imaculado Coração de Maria - Bidoeira de Cima 2025
DESCRIPTION:
URL:https://eventosagenda.com/event/festa-em-honra-do-imaculado-coracao-de-maria-bidoeira-de-cima-2025/
LOCATION:Bidoeira de Cima\, Bidoeira de Cima\, Leiria\, Portugal
CATEGORIES:Festas & Festivals
ATTACH;FMTTYPE=image/jpeg:https://eventosagenda.com/wp-content/uploads/2025/08/08-21-Bidoeira-de-Cima.jpg
END:VEVENT
BEGIN:VEVENT
DTSTART;VALUE=DATE:20250821
DTEND;VALUE=DATE:20250825
DTSTAMP:20260421T223000
CREATED:20250806T204305Z
LAST-MODIFIED:20250806T204721Z
UID:3549-1755734400-1756079999@eventosagenda.com
SUMMARY:XVI Milagre Metaleiro Open Air - Pindelo dos Milagres\, São Pedro do Sul
DESCRIPTION:
URL:https://eventosagenda.com/event/xvi-milagre-metaleiro-open-air-milagres-sao-pedro-do-sul/
LOCATION:Pindelo dos Milagres\, Pindelo dos Milagres\, São Pedro do Sul\, Viseu\, Portugal
CATEGORIES:Fado, Concerts & Music,Festas & Festivals
ATTACH;FMTTYPE=image/jpeg:https://eventosagenda.com/wp-content/uploads/2025/08/08-22-Milagre.jpg
END:VEVENT
BEGIN:VEVENT
DTSTART;TZID=Europe/Lisbon:20250820T210000
DTEND;TZID=Europe/Lisbon:20250825T220000
DTSTAMP:20260421T223000
CREATED:20250806T205221Z
LAST-MODIFIED:20250806T205718Z
UID:3555-1755723600-1756159200@eventosagenda.com
SUMMARY:Festa de Santo Ovídio 2025 - Jancido
DESCRIPTION:
URL:https://eventosagenda.com/event/festa-de-santo-ovidio-2025-jancido/
LOCATION:Jancido\, Jancido\, Gondomar\, Porto\, Portugal
CATEGORIES:Festas & Festivals
ATTACH;FMTTYPE=image/jpeg:https://eventosagenda.com/wp-content/uploads/2025/08/08-20-Jancido.jpeg
END:VEVENT
BEGIN:VEVENT
DTSTART;TZID=Europe/Lisbon:20250818T213000
DTEND;TZID=Europe/Lisbon:20250825T233000
DTSTAMP:20260421T223000
CREATED:20250504T110838Z
LAST-MODIFIED:20250504T110858Z
UID:1025-1755552600-1756164600@eventosagenda.com
SUMMARY:Festa Nossa Senhora da Piedade - Canedo 2025
DESCRIPTION:
URL:https://eventosagenda.com/event/festa-nossa-senhora-da-piedade-canedo-2025/
LOCATION:Mirante\, Canedo\, Aveiro\, Portugal
CATEGORIES:Festas & Festivals
ATTACH;FMTTYPE=image/jpeg:https://eventosagenda.com/wp-content/uploads/2025/05/facebook_1746330229561_7324639867170895907.jpg
END:VEVENT
BEGIN:VEVENT
DTSTART;TZID=Europe/Lisbon:20250816T170000
DTEND;TZID=Europe/Lisbon:20250816T170000
DTSTAMP:20260421T223000
CREATED:20250730T172134Z
LAST-MODIFIED:20250730T172149Z
UID:3402-1755363600-1755363600@eventosagenda.com
SUMMARY:Festa da Sardinha - Cabanas 2025
DESCRIPTION:
URL:https://eventosagenda.com/event/festa-da-sardinha-cabanas-2025/
LOCATION:Cabanas\, Cabanas\, Palmela\, Lisboa\, Portugal
CATEGORIES:Festas & Festivals,Food & Drink
ATTACH;FMTTYPE=image/jpeg:https://eventosagenda.com/wp-content/uploads/2025/07/08-16-Cabanas.jpg
END:VEVENT
BEGIN:VEVENT
DTSTART;TZID=Europe/Lisbon:20250816T150000
DTEND;TZID=Europe/Lisbon:20250817T210000
DTSTAMP:20260421T223000
CREATED:20250730T171952Z
LAST-MODIFIED:20250730T172002Z
UID:3398-1755356400-1755464400@eventosagenda.com
SUMMARY:Festa em Honra a São João Baptista - São João do Peso 2025
DESCRIPTION:
URL:https://eventosagenda.com/event/festa-em-honra-a-sao-joao-baptista-sao-joao-do-peso-2025/
LOCATION:São João do Peso\, São João do Peso\, Vila de Rei\, Castelo Branco\, Portugal
CATEGORIES:Festas & Festivals
ATTACH;FMTTYPE=image/jpeg:https://eventosagenda.com/wp-content/uploads/2025/07/08-16-Vila-de-Rei-2.jpg
END:VEVENT
BEGIN:VEVENT
DTSTART;TZID=Europe/Lisbon:20250816T090000
DTEND;TZID=Europe/Lisbon:20250818T210000
DTSTAMP:20260421T223000
CREATED:20250802T113416Z
LAST-MODIFIED:20250802T113519Z
UID:3450-1755334800-1755550800@eventosagenda.com
SUMMARY:Grande Festa em Honra do Sagrado Coração de Jesus e de Nossa Senhora do Rosário - Espite
DESCRIPTION:
URL:https://eventosagenda.com/event/grande-festa-em-honra-do-sagrado-coracao-de-jesus-e-de-nossa-senhora-do-rosario-espite/
LOCATION:Espite\, Espite\, Ourém\, Santarém\, Portugal
CATEGORIES:Festas & Festivals
ATTACH;FMTTYPE=image/jpeg:https://eventosagenda.com/wp-content/uploads/2025/08/08-17-Espite.jpg
END:VEVENT
BEGIN:VEVENT
DTSTART;TZID=Europe/Lisbon:20250816T080000
DTEND;TZID=Europe/Lisbon:20250817T235900
DTSTAMP:20260421T223000
CREATED:20250621T105317Z
LAST-MODIFIED:20250621T105350Z
UID:2867-1755331200-1755475140@eventosagenda.com
SUMMARY:Festas São Martinho - Moimenta
DESCRIPTION:
URL:https://eventosagenda.com/event/festas-sao-martinho-moimenta/
LOCATION:Moimenta\, Moimenta\, Cinfães\, Viseu\, Portugal
CATEGORIES:Festas & Festivals
ATTACH;FMTTYPE=image/jpeg:https://eventosagenda.com/wp-content/uploads/2025/06/504340768_1308760644592386_5785952662333649779_n.jpg
END:VEVENT
BEGIN:VEVENT
DTSTART;TZID=Europe/Lisbon:20250815T213000
DTEND;TZID=Europe/Lisbon:20250817T235900
DTSTAMP:20260421T223000
CREATED:20250805T180158Z
LAST-MODIFIED:20250805T180223Z
UID:3515-1755293400-1755475140@eventosagenda.com
SUMMARY:Festas de Verão - Gáfete
DESCRIPTION:
URL:https://eventosagenda.com/event/festas-de-verao-gafete/
LOCATION:Gáfete\, Gáfete\, Crato\, Portalegre\, Portugal
CATEGORIES:Festas & Festivals
ATTACH;FMTTYPE=image/jpeg:https://eventosagenda.com/wp-content/uploads/2025/08/08-16-Vila-de-Rei.jpg
END:VEVENT
BEGIN:VEVENT
DTSTART;TZID=Europe/Lisbon:20250815T190000
DTEND;TZID=Europe/Lisbon:20250817T220000
DTSTAMP:20260421T223000
CREATED:20250806T211848Z
LAST-MODIFIED:20250806T211848Z
UID:3567-1755284400-1755468000@eventosagenda.com
SUMMARY:Ferraria 2025 - Comenda\, Gavião
DESCRIPTION:
URL:https://eventosagenda.com/event/ferraria-2025-comenda-gaviao/
LOCATION:Comenda\, Comenda\, Gavião\, Portalegre\, Portugal
CATEGORIES:Festas & Festivals
ATTACH;FMTTYPE=image/jpeg:https://eventosagenda.com/wp-content/uploads/2025/08/08-15-Ferraria.jpg
END:VEVENT
BEGIN:VEVENT
DTSTART;TZID=Europe/Lisbon:20250815T150000
DTEND;TZID=Europe/Lisbon:20250818T235900
DTSTAMP:20260421T223000
CREATED:20250721T134125Z
LAST-MODIFIED:20250721T134218Z
UID:3315-1755270000-1755561540@eventosagenda.com
SUMMARY:Festa em honra de Nossa Senhora do Rosário - Alqueidão da Serra
DESCRIPTION:
URL:https://eventosagenda.com/event/festa-em-honra-de-nossa-senhora-do-rosario-alqueidao-da-serra/
LOCATION:Alqueidão da Serra\, Alqueidão da Serra\, Leiria\, Portugal
CATEGORIES:Festas & Festivals
ATTACH;FMTTYPE=image/jpeg:https://eventosagenda.com/wp-content/uploads/2025/07/facebook_1752854988997_7352006691774054313-1.jpg
END:VEVENT
BEGIN:VEVENT
DTSTART;TZID=Europe/Lisbon:20250815T150000
DTEND;TZID=Europe/Lisbon:20250818T120000
DTSTAMP:20260421T223000
CREATED:20250806T125101Z
LAST-MODIFIED:20250806T125112Z
UID:3537-1755270000-1755518400@eventosagenda.com
SUMMARY:Festa em Louvor de Santo Isidro e Santissimo Sacramento - Ladoeiro
DESCRIPTION:
URL:https://eventosagenda.com/event/festa-em-louvor-de-santo-isidro-e-santissimo-sacramento-ladoeiro/
LOCATION:Ladoeiro\, Ladoeiro\, Idanha-a-Nova\, Castelo Branco\, Portugal
CATEGORIES:Festas & Festivals
ATTACH;FMTTYPE=image/jpeg:https://eventosagenda.com/wp-content/uploads/2025/08/08-15-Ladoeiro.jpg
END:VEVENT
BEGIN:VEVENT
DTSTART;TZID=Europe/Lisbon:20250815T100000
DTEND;TZID=Europe/Lisbon:20250817T235900
DTSTAMP:20260421T223000
CREATED:20250805T175805Z
LAST-MODIFIED:20250805T175805Z
UID:3511-1755252000-1755475140@eventosagenda.com
SUMMARY:Festas em honra de Santa Teresa e São Sebastião - Zambujal
DESCRIPTION:
URL:https://eventosagenda.com/event/festas-em-honra-de-santa-teresa-e-sao-sebastiao-zambujal/
LOCATION:Zambujal\, Zambujal\, Condeixa-a-Nova\, Coimbra\, Portugal
CATEGORIES:Festas & Festivals
ATTACH;FMTTYPE=image/jpeg:https://eventosagenda.com/wp-content/uploads/2025/08/08-15-Zambujal.jpg
END:VEVENT
BEGIN:VEVENT
DTSTART;TZID=Europe/Lisbon:20250815T080000
DTEND;TZID=Europe/Lisbon:20250816T220000
DTSTAMP:20260421T223000
CREATED:20250815T144242Z
LAST-MODIFIED:20250815T144242Z
UID:3587-1755244800-1755381600@eventosagenda.com
SUMMARY:Festas Rabacinas 2025
DESCRIPTION:
URL:https://eventosagenda.com/event/festas-rabacinas-2025/
LOCATION:Rabacinas\, Rabacinas\, Castelo Branco\, Castelo Branco\, Portugal
CATEGORIES:Festas & Festivals
ATTACH;FMTTYPE=image/jpeg:https://eventosagenda.com/wp-content/uploads/2025/08/08-15-Rabacinas.jpg
END:VEVENT
BEGIN:VEVENT
DTSTART;TZID=Europe/Lisbon:20250815T073000
DTEND;TZID=Europe/Lisbon:20250816T223000
DTSTAMP:20260421T223000
CREATED:20250709T182622Z
LAST-MODIFIED:20250709T182640Z
UID:3166-1755243000-1755383400@eventosagenda.com
SUMMARY:Dia da Freguesia - Louriçal do Campo
DESCRIPTION:
URL:https://eventosagenda.com/event/dia-da-freguesia-lourical-do-campo/
LOCATION:Louriçal Do Campo\, Louriçal Do Campo\, Castelo Branco\, Portugal
CATEGORIES:Festas & Festivals
ATTACH;FMTTYPE=image/jpeg:https://eventosagenda.com/wp-content/uploads/2025/07/facebook_1751900422267_7348002948717956791.jpg
END:VEVENT
BEGIN:VEVENT
DTSTART;VALUE=DATE:20250815
DTEND;VALUE=DATE:20250818
DTSTAMP:20260421T223000
CREATED:20250815T150726Z
LAST-MODIFIED:20250815T150726Z
UID:3599-1755216000-1755475199@eventosagenda.com
SUMMARY:Pêro na Rua Viseu 2025
DESCRIPTION:
URL:https://eventosagenda.com/event/pero-na-rua-viseu-2025/
LOCATION:Viseu\, Viseu\, Viseu\, Portugal
CATEGORIES:Festas & Festivals
ATTACH;FMTTYPE=image/jpeg:https://eventosagenda.com/wp-content/uploads/2025/08/08-16-Pero-Viseu-scaled.jpg
END:VEVENT
BEGIN:VEVENT
DTSTART;VALUE=DATE:20250815
DTEND;VALUE=DATE:20250818
DTSTAMP:20260421T223000
CREATED:20250805T175025Z
LAST-MODIFIED:20250805T175040Z
UID:3506-1755216000-1755475199@eventosagenda.com
SUMMARY:Aldeia do Rock - Penhascoso
DESCRIPTION:Penhascoso – Aldeia do Rock 2025\n 15\, 16 e 17 de Agosto\n\n\nO momento que todos esperavam chegou… o tão desejado cartaz já saiu! \nPenhascoso volta a transformar-se na mítica Aldeia do Rock\, com três dias cheios de festa\, música e animação!\n\n\n Concertos imperdíveis\n Sabores da nossa terra\n Celebrações religiosas\n E muitas surpresas!\n\n\nMarca na agenda e prepara-te para viver Penhascoso – Aldeia do Rock 2025 como nunca antes!
URL:https://eventosagenda.com/event/aldeia-do-rock-penhascoso/
LOCATION:Penhascoso\, Penhascoso\, Mação\,\, Santarém\, Portugal
CATEGORIES:Festas & Festivals
ATTACH;FMTTYPE=image/jpeg:https://eventosagenda.com/wp-content/uploads/2025/08/08-15-Penhascoso.jpg
END:VEVENT
BEGIN:VEVENT
DTSTART;TZID=Europe/Lisbon:20250814T210000
DTEND;TZID=Europe/Lisbon:20250817T235900
DTSTAMP:20260421T223000
CREATED:20250721T130532Z
LAST-MODIFIED:20250721T130604Z
UID:3290-1755205200-1755475140@eventosagenda.com
SUMMARY:Festas em Honra de Nossa Senhora de Lurdes - Soutos
DESCRIPTION:
URL:https://eventosagenda.com/event/festas-em-honra-de-nossa-senhora-de-lurdes-soutos/
LOCATION:Soutos Caranguejeira\, Soutos Caranguejeira\, Leiria\, Portugal
CATEGORIES:Festas & Festivals
ATTACH;FMTTYPE=image/jpeg:https://eventosagenda.com/wp-content/uploads/2025/07/facebook_1753101365366_7353040069163201302.jpg
END:VEVENT
BEGIN:VEVENT
DTSTART;TZID=Europe/Lisbon:20250814T210000
DTEND;TZID=Europe/Lisbon:20250817T220000
DTSTAMP:20260421T223000
CREATED:20250804T082356Z
LAST-MODIFIED:20250804T082420Z
UID:3480-1755205200-1755468000@eventosagenda.com
SUMMARY:Festas em Honra da Nossa Senhora da Conceição - Corte do Pinto
DESCRIPTION:
URL:https://eventosagenda.com/event/festas-em-honra-da-nossa-senhora-da-conceicao-corte-do-pinto/
LOCATION:Corte do Pinto\, Corte do Pinto\, Mértola\, Beja\, Portugal
CATEGORIES:Festas & Festivals
ATTACH;FMTTYPE=image/jpeg:https://eventosagenda.com/wp-content/uploads/2025/08/08-14-Corte-do-Pinto.jpg
END:VEVENT
BEGIN:VEVENT
DTSTART;TZID=Europe/Lisbon:20250814T204500
DTEND;TZID=Europe/Lisbon:20250817T235900
DTSTAMP:20260421T223000
CREATED:20250730T163307Z
LAST-MODIFIED:20250730T163307Z
UID:3360-1755204300-1755475140@eventosagenda.com
SUMMARY:Festas em Honra de Santo Tirso - Meinedo
DESCRIPTION:
URL:https://eventosagenda.com/event/festas-em-honra-de-santo-tirso-meinedo/
LOCATION:Meinedo\, Meinedo\, Lousada\, Porto\, Portugal
CATEGORIES:Festas & Festivals
ATTACH;FMTTYPE=image/jpeg:https://eventosagenda.com/wp-content/uploads/2025/07/08-14-Meinedo-Lousada.jpg
END:VEVENT
BEGIN:VEVENT
DTSTART;TZID=Europe/Lisbon:20250814T200000
DTEND;TZID=Europe/Lisbon:20250817T220000
DTSTAMP:20260421T223000
CREATED:20250815T144620Z
LAST-MODIFIED:20250815T144620Z
UID:3591-1755201600-1755468000@eventosagenda.com
SUMMARY:Festa em Honra Nossa Senhora do Mileu - Povoa do Mileu
DESCRIPTION:
URL:https://eventosagenda.com/event/festa-em-honra-nossa-senhora-do-mileu-povoa-do-mileu/
LOCATION:Povoa do Mileu\, Povoa do Mileu\, Guarda\, Portugal
CATEGORIES:Festas & Festivals
ATTACH;FMTTYPE=image/jpeg:https://eventosagenda.com/wp-content/uploads/2025/08/08-14-Povoa.jpg
END:VEVENT
BEGIN:VEVENT
DTSTART;TZID=Europe/Lisbon:20250814T190000
DTEND;TZID=Europe/Lisbon:20250818T235900
DTSTAMP:20260421T223000
CREATED:20250804T082738Z
LAST-MODIFIED:20250804T082738Z
UID:3484-1755198000-1755561540@eventosagenda.com
SUMMARY:Festa em honra da Padroeira Nossa Senhora do Rosário - Parceiros
DESCRIPTION:
URL:https://eventosagenda.com/event/festa-em-honra-da-padroeira-nossa-senhora-do-rosario-parceiros/
LOCATION:Parceiros\, Parceiros\, Leiria\, Portugal
CATEGORIES:Festas & Festivals
ATTACH;FMTTYPE=image/jpeg:https://eventosagenda.com/wp-content/uploads/2025/08/08-14-Parceiros.jpg
END:VEVENT
BEGIN:VEVENT
DTSTART;TZID=Europe/Lisbon:20250814T183000
DTEND;TZID=Europe/Lisbon:20250816T235900
DTSTAMP:20260421T223000
CREATED:20250805T181606Z
LAST-MODIFIED:20250805T181606Z
UID:3526-1755196200-1755388740@eventosagenda.com
SUMMARY:Festa dos Cabaços - Alvaiázere
DESCRIPTION:
URL:https://eventosagenda.com/event/festa-dos-cabacos-alvaiazere/
LOCATION:Alvaiázere\, Alvaiázere\, Leiria\, Portugal
CATEGORIES:Festas & Festivals
ATTACH;FMTTYPE=image/jpeg:https://eventosagenda.com/wp-content/uploads/2025/08/08-14-Alvaiazere.jpg
END:VEVENT
BEGIN:VEVENT
DTSTART;TZID=Europe/Lisbon:20250814T180000
DTEND;TZID=Europe/Lisbon:20250817T235900
DTSTAMP:20260421T223000
CREATED:20250802T114827Z
LAST-MODIFIED:20250802T115358Z
UID:3461-1755194400-1755475140@eventosagenda.com
SUMMARY:Festa em honra de Nossa Senhora do Pópulo - Montes da Senhora
DESCRIPTION:Montes da Senhora em Festa! \nDe 14 a 17 de agosto de 2025\, a animação está garantida com 4 dias cheios de música\, tradição e convívio!\n\n\n Concertos\, DJs\, baile\, folclore\, desporto\, animação para todas as idades e muito mais!\n Esta festa vai ficar na memória!\n\n\nMarca já os dias… não vais querer perder!\n\n\n\n\n Lots of Ladies in Party! \nFrom August 14th to 17th\, 2025\, the excitement is guaranteed with 4 days full of music\, tradition and socializing!\n\n\n Concerts\, DJs\, dancing\, folklore\, sports\, entertainment for all ages and more!\n This party will be one in the memories!\n\n\nMark the dates now … you’re not gonna want to miss it!
URL:https://eventosagenda.com/event/festa-em-honra-de-nossa-senhora-do-populo-montes-da-senhora/
LOCATION:Montes da Senhora\, Montes da Senhora\, Castelo Branco\, 6150-128\, Portugal
CATEGORIES:Festas & Festivals
ATTACH;FMTTYPE=image/jpeg:https://eventosagenda.com/wp-content/uploads/2025/08/08-14-Montes-da-Senhora.jpg
END:VEVENT
BEGIN:VEVENT
DTSTART;TZID=Europe/Lisbon:20250814T180000
DTEND;TZID=Europe/Lisbon:20250817T220000
DTSTAMP:20260421T223000
CREATED:20250802T114412Z
LAST-MODIFIED:20250802T114412Z
UID:3457-1755194400-1755468000@eventosagenda.com
SUMMARY:Festa em Honra do Sagrado Coração de Jesus - Charneca
DESCRIPTION:
URL:https://eventosagenda.com/event/festa-em-honra-do-sagrado-coracao-de-jesus-charneca/
LOCATION:Charneca\, Charneca\, Pombal\, Leiria\, Portugal
CATEGORIES:Festas & Festivals
ATTACH;FMTTYPE=image/jpeg:https://eventosagenda.com/wp-content/uploads/2025/08/08-14-Charneca.jpg
END:VEVENT
END:VCALENDAR