BEGIN:VCALENDAR
VERSION:2.0
PRODID:-// - ECPv6.15.20//NONSGML v1.0//EN
CALSCALE:GREGORIAN
METHOD:PUBLISH
X-ORIGINAL-URL:https://eventosagenda.com
X-WR-CALDESC:Events for 
REFRESH-INTERVAL;VALUE=DURATION:PT1H
X-Robots-Tag:noindex
X-PUBLISHED-TTL:PT1H
BEGIN:VTIMEZONE
TZID:Europe/Lisbon
BEGIN:DAYLIGHT
TZOFFSETFROM:+0000
TZOFFSETTO:+0100
TZNAME:WEST
DTSTART:20240331T010000
END:DAYLIGHT
BEGIN:STANDARD
TZOFFSETFROM:+0100
TZOFFSETTO:+0000
TZNAME:WET
DTSTART:20241027T010000
END:STANDARD
BEGIN:DAYLIGHT
TZOFFSETFROM:+0000
TZOFFSETTO:+0100
TZNAME:WEST
DTSTART:20250330T010000
END:DAYLIGHT
BEGIN:STANDARD
TZOFFSETFROM:+0100
TZOFFSETTO:+0000
TZNAME:WET
DTSTART:20251026T010000
END:STANDARD
BEGIN:DAYLIGHT
TZOFFSETFROM:+0000
TZOFFSETTO:+0100
TZNAME:WEST
DTSTART:20260329T010000
END:DAYLIGHT
BEGIN:STANDARD
TZOFFSETFROM:+0100
TZOFFSETTO:+0000
TZNAME:WET
DTSTART:20261025T010000
END:STANDARD
END:VTIMEZONE
BEGIN:VEVENT
DTSTART;TZID=Europe/Lisbon:20250413T090000
DTEND;TZID=Europe/Lisbon:20250413T150000
DTSTAMP:20260422T191406
CREATED:20250406T200302Z
LAST-MODIFIED:20250406T200302Z
UID:201-1744534800-1744556400@eventosagenda.com
SUMMARY:Malha Tournament - Sao Pedro do Esteval
DESCRIPTION:
URL:https://eventosagenda.com/event/malha-tournament-sao-pedro-do-esteval/
LOCATION:São Pedro do Esteval\, São Pedro do Esteval\, Proença-A-Nova\, Castelo Branco\, 6150-623
CATEGORIES:Sports & Games
ATTACH;FMTTYPE=image/jpeg:https://eventosagenda.com/wp-content/uploads/2025/04/Sao-Pedro-do-Esteval-Malha.jpg
END:VEVENT
BEGIN:VEVENT
DTSTART;VALUE=DATE:20250418
DTEND;VALUE=DATE:20250420
DTSTAMP:20260422T191406
CREATED:20250406T125301Z
LAST-MODIFIED:20250406T125301Z
UID:159-1744934400-1745107199@eventosagenda.com
SUMMARY:Orca - Baile de Páscoa
DESCRIPTION:
URL:https://eventosagenda.com/event/orca-baile-de-pascoa/
LOCATION:Orca\, Orca\, Castelo Branco\, 6230-512\, Portugal
CATEGORIES:Festas & Festivals
ATTACH;FMTTYPE=image/jpeg:https://eventosagenda.com/wp-content/uploads/2025/04/Orca.jpg
END:VEVENT
BEGIN:VEVENT
DTSTART;VALUE=DATE:20250418
DTEND;VALUE=DATE:20250420
DTSTAMP:20260422T191406
CREATED:20250406T194712Z
LAST-MODIFIED:20250406T194712Z
UID:194-1744934400-1745107199@eventosagenda.com
SUMMARY:Blues & Rock Festival - Vilar Formosa
DESCRIPTION:
URL:https://eventosagenda.com/event/blues-rock-festival-vilar-formosa/
LOCATION:Vilar Formoso\, Vilar Formoso\, Castelo Branco\, 6355-321\, Portugal
CATEGORIES:Fado, Concerts & Music,Festas & Festivals
ATTACH;FMTTYPE=image/jpeg:https://eventosagenda.com/wp-content/uploads/2025/04/Blues-Rock.jpg
END:VEVENT
BEGIN:VEVENT
DTSTART;VALUE=DATE:20250418
DTEND;VALUE=DATE:20250421
DTSTAMP:20260422T191406
CREATED:20250406T123130Z
LAST-MODIFIED:20250406T123214Z
UID:142-1744934400-1745193599@eventosagenda.com
SUMMARY:Sobrainho Da Ribeira
DESCRIPTION:
URL:https://eventosagenda.com/event/sobrainho-da-ribeira/
LOCATION:Sobrainho da Ribeira\, Sobrainho da Ribeira\, Castelo Branco\, 6000-713\, Portugal
CATEGORIES:Festas & Festivals
ATTACH;FMTTYPE=image/jpeg:https://eventosagenda.com/wp-content/uploads/2025/04/Sobrainho-da-Ribeira.jpg
END:VEVENT
BEGIN:VEVENT
DTSTART;TZID=Europe/Lisbon:20250418T220000
DTEND;TZID=Europe/Lisbon:20250419T020000
DTSTAMP:20260422T191406
CREATED:20250406T124047Z
LAST-MODIFIED:20250406T124104Z
UID:151-1745013600-1745028000@eventosagenda.com
SUMMARY:Montes da Rock - Montes da Senhora
DESCRIPTION:
URL:https://eventosagenda.com/event/montes-da-rock-montes-da-senhora/
LOCATION:Montes da Senhora\, Montes da Senhora\, Castelo Branco\, 6150-128\, Portugal
CATEGORIES:Fado, Concerts & Music
ATTACH;FMTTYPE=image/jpeg:https://eventosagenda.com/wp-content/uploads/2025/04/Montes-da-Senhora.jpg
END:VEVENT
BEGIN:VEVENT
DTSTART;VALUE=DATE:20250419
DTEND;VALUE=DATE:20250422
DTSTAMP:20260422T191406
CREATED:20250406T132203Z
LAST-MODIFIED:20250406T132241Z
UID:188-1745020800-1745279999@eventosagenda.com
SUMMARY:Festa da Páscoa - Lameira da Ordem
DESCRIPTION:
URL:https://eventosagenda.com/event/festa-da-pascoa-lameira-da-ordem/
LOCATION:Lameira da Ordem\, Lameira da Ordem\, Proença-A-Nova\, Castelo Branco\, 6150-612\, Portugal
CATEGORIES:Festas & Festivals
ATTACH;FMTTYPE=image/jpeg:https://eventosagenda.com/wp-content/uploads/2025/04/Lameira-da-Ordem.jpg
END:VEVENT
BEGIN:VEVENT
DTSTART;VALUE=DATE:20250424
DTEND;VALUE=DATE:20250428
DTSTAMP:20260422T191406
CREATED:20250404T174637Z
LAST-MODIFIED:20250404T175505Z
UID:130-1745452800-1745798399@eventosagenda.com
SUMMARY:Festa das Moitas
DESCRIPTION:
URL:https://eventosagenda.com/event/festa-das-moitas/
LOCATION:Moitas\, Moitas\, Proença-A-Nova\, Castelo Branco\, 6150-345\, Portugal
CATEGORIES:Festas & Festivals
ATTACH;FMTTYPE=image/jpeg:https://eventosagenda.com/wp-content/uploads/2025/04/FB_IMG_1743788408103.jpg
END:VEVENT
BEGIN:VEVENT
DTSTART;VALUE=DATE:20250424
DTEND;VALUE=DATE:20250428
DTSTAMP:20260422T191406
CREATED:20250415T124131Z
LAST-MODIFIED:20250415T124204Z
UID:338-1745452800-1745798399@eventosagenda.com
SUMMARY:Festival da Juventude – Alvaiázere Radical 2025
DESCRIPTION:
URL:https://eventosagenda.com/event/festival-da-juventude-alvaiazere-radical-2025/
LOCATION:Alvaiázere\, Alvaiázere\, Leiria\, Portugal
CATEGORIES:Festas & Festivals,Sports & Games
ATTACH;FMTTYPE=image/png:https://eventosagenda.com/wp-content/uploads/2025/04/Alcaiazere.png
END:VEVENT
BEGIN:VEVENT
DTSTART;VALUE=DATE:20250425
DTEND;VALUE=DATE:20250428
DTSTAMP:20260422T191406
CREATED:20250418T083139Z
LAST-MODIFIED:20250418T083552Z
UID:401-1745539200-1745798399@eventosagenda.com
SUMMARY:Gastronomy Weekend - Castanheira de Pêra
DESCRIPTION:
URL:https://eventosagenda.com/event/gastronomy-weekend-castanheira-de-pera/
LOCATION:Castanheira de Pêra\, Castanheira de Pêra\, Leiria\, Portugal
CATEGORIES:Festas & Festivals,Food & Drink
ATTACH;FMTTYPE=image/png:https://eventosagenda.com/wp-content/uploads/2025/04/Castanheira-de-Pera-2.png
END:VEVENT
BEGIN:VEVENT
DTSTART;VALUE=DATE:20250425
DTEND;VALUE=DATE:20250428
DTSTAMP:20260422T191406
CREATED:20250420T174812Z
LAST-MODIFIED:20250420T174823Z
UID:457-1745539200-1745798399@eventosagenda.com
SUMMARY:Festa Chão da Vã 2025
DESCRIPTION:
URL:https://eventosagenda.com/event/festa-chao-da-va-2025/
LOCATION:Chão da Vã\, Chão da Vã\, Castelo Branco\, Portugal
CATEGORIES:Festas & Festivals
ATTACH;FMTTYPE=image/jpeg:https://eventosagenda.com/wp-content/uploads/2025/04/Festa-Chao-da-Va.jpg
END:VEVENT
BEGIN:VEVENT
DTSTART;TZID=Europe/Lisbon:20250426T160000
DTEND;TZID=Europe/Lisbon:20250427T180000
DTSTAMP:20260422T191406
CREATED:20250414T122611Z
LAST-MODIFIED:20250414T123020Z
UID:262-1745683200-1745776800@eventosagenda.com
SUMMARY:Festival do Arroz Doce
DESCRIPTION:
URL:https://eventosagenda.com/event/festival-do-arroz-doce/
LOCATION:Vila do Ferro\, Vila do Ferro\, Covilhã\, Castelo Branco\, Portugal
CATEGORIES:Festas & Festivals,Food & Drink
ATTACH;FMTTYPE=image/jpeg:https://eventosagenda.com/wp-content/uploads/2025/04/Festival-fo-Arroz-Doce.jpg
END:VEVENT
BEGIN:VEVENT
DTSTART;TZID=Europe/Lisbon:20250427T090000
DTEND;TZID=Europe/Lisbon:20250427T170000
DTSTAMP:20260422T191406
CREATED:20250406T195312Z
LAST-MODIFIED:20250406T195312Z
UID:198-1745744400-1745773200@eventosagenda.com
SUMMARY:Tractor Ride - Orca
DESCRIPTION:
URL:https://eventosagenda.com/event/tractor-ride-orca/
LOCATION:Orca\, Orca\, Castelo Branco\, 6230-512\, Portugal
CATEGORIES:Community
ATTACH;FMTTYPE=image/jpeg:https://eventosagenda.com/wp-content/uploads/2025/04/Orca-Tractor.jpg
END:VEVENT
BEGIN:VEVENT
DTSTART;TZID=Europe/Lisbon:20250427T110000
DTEND;TZID=Europe/Lisbon:20250427T160000
DTSTAMP:20260422T191406
CREATED:20250415T080837Z
LAST-MODIFIED:20250415T081148Z
UID:311-1745751600-1745769600@eventosagenda.com
SUMMARY:Relva Market / Mercado de Relva
DESCRIPTION:
URL:https://eventosagenda.com/event/relva-market-mercado-de-relva/
LOCATION:Relva\, Relva\, Monsanto\, Castelo Branco\, Portugal
CATEGORIES:Markets & Fairs
ATTACH;FMTTYPE=image/jpeg:https://eventosagenda.com/wp-content/uploads/2025/04/465552328_895792475979700_591932599823029703_n.jpg
END:VEVENT
BEGIN:VEVENT
DTSTART;TZID=Europe/Lisbon:20250429T000000
DTEND;TZID=Europe/Lisbon:20250429T000000
DTSTAMP:20260422T191406
CREATED:20250429T114704Z
LAST-MODIFIED:20250429T115020Z
UID:665-1745884800-1745884800@eventosagenda.com
SUMMARY:Festa em Honra de N. Sra. de Lourdes - Pereiras - Sobreiro
DESCRIPTION:
URL:https://eventosagenda.com/event/festa-em-honra-de-n-sra-de-lourdes-pereiras-sobreiro/
LOCATION:Coimbra
CATEGORIES:Festas & Festivals
ATTACH;FMTTYPE=image/jpeg:https://eventosagenda.com/wp-content/uploads/2025/04/Pereiras-Sobreiro.jpg
END:VEVENT
BEGIN:VEVENT
DTSTART;VALUE=DATE:20250430
DTEND;VALUE=DATE:20250505
DTSTAMP:20260422T191406
CREATED:20250425T124013Z
LAST-MODIFIED:20250425T124013Z
UID:594-1745971200-1746403199@eventosagenda.com
SUMMARY:Feira de Maio 2025
DESCRIPTION:
URL:https://eventosagenda.com/event/feira-de-maio-2025/
LOCATION:Felgueiras\, Felgueiras\, Porto\, Portugal
CATEGORIES:Festas & Festivals,Markets & Fairs
ATTACH;FMTTYPE=image/jpeg:https://eventosagenda.com/wp-content/uploads/2025/04/facebook_1745562330053_7321419063191665812.jpg
END:VEVENT
BEGIN:VEVENT
DTSTART;TZID=Europe/Lisbon:20250430T210000
DTEND;TZID=Europe/Lisbon:20250505T233000
DTSTAMP:20260422T191406
CREATED:20250425T165220Z
LAST-MODIFIED:20250425T165220Z
UID:614-1746046800-1746487800@eventosagenda.com
SUMMARY:Festa em honra de Santa Helena - Ferreirinha 2025
DESCRIPTION:
URL:https://eventosagenda.com/event/festa-em-honra-de-santa-helena-ferreirinha-2025/
LOCATION:Ferreirinha\, Ferreirinha\, Foz do Sousa\, Porto\, Portugal
CATEGORIES:Festas & Festivals
ATTACH;FMTTYPE=image/jpeg:https://eventosagenda.com/wp-content/uploads/2025/04/facebook_1745427371610_7320853006454513434.jpg
END:VEVENT
BEGIN:VEVENT
DTSTART;TZID=Europe/Lisbon:20250430T220000
DTEND;TZID=Europe/Lisbon:20250504T170000
DTSTAMP:20260422T191406
CREATED:20250425T164752Z
LAST-MODIFIED:20250425T164752Z
UID:610-1746050400-1746378000@eventosagenda.com
SUMMARY:Festa Senhor do Pedrão - Torredeita
DESCRIPTION:
URL:https://eventosagenda.com/event/festa-senhor-do-pedrao-torredeita/
LOCATION:Torredeita\, Torredeita\, Viseu\, Portugal
CATEGORIES:Festas & Festivals
ATTACH;FMTTYPE=image/jpeg:https://eventosagenda.com/wp-content/uploads/2025/04/facebook_1745427500847_7320853548513940312.jpg
END:VEVENT
BEGIN:VEVENT
DTSTART;VALUE=DATE:20250501
DTEND;VALUE=DATE:20250505
DTSTAMP:20260422T191406
CREATED:20250418T092040Z
LAST-MODIFIED:20250418T092050Z
UID:416-1746057600-1746403199@eventosagenda.com
SUMMARY:Festa em honra de nossa Senhora da Soledade - Gondoriz
DESCRIPTION:
URL:https://eventosagenda.com/event/festa-em-honra-de-nossa-senhora-da-soledade-gondoriz/
LOCATION:Gondoriz\, Gondoriz\, Arcos de Valdevez\, Viana do Castelo\, Portugal
CATEGORIES:Festas & Festivals
ATTACH;FMTTYPE=image/jpeg:https://eventosagenda.com/wp-content/uploads/2025/04/Gondoriz.jpg
END:VEVENT
BEGIN:VEVENT
DTSTART;VALUE=DATE:20250501
DTEND;VALUE=DATE:20250505
DTSTAMP:20260422T191406
CREATED:20250418T114419Z
LAST-MODIFIED:20250418T114457Z
UID:424-1746057600-1746403199@eventosagenda.com
SUMMARY:Festas Nossa Senhora do Amparo - Covas\, Lousada
DESCRIPTION:
URL:https://eventosagenda.com/event/festas-nossa-senhora-do-amparo-covas-lousada/
LOCATION:Covas\, Covas\, Lousada\, Porto\, Portugal
CATEGORIES:Festas & Festivals
ATTACH;FMTTYPE=image/jpeg:https://eventosagenda.com/wp-content/uploads/2025/04/Covas.jpg
END:VEVENT
BEGIN:VEVENT
DTSTART;VALUE=DATE:20250501
DTEND;VALUE=DATE:20250505
DTSTAMP:20260422T191406
CREATED:20250423T152306Z
LAST-MODIFIED:20250423T152352Z
UID:565-1746057600-1746403199@eventosagenda.com
SUMMARY:Peral\, Vale da Mua e Junceira Festa 2025
DESCRIPTION:Festas em Honra de S. Tiago Menor
URL:https://eventosagenda.com/event/peral-vale-da-mua-e-junceira-festa-2025/
LOCATION:Peral\, Peral\, Proença-A-Nova\, Castelo Branco\, Portugal
CATEGORIES:Festas & Festivals
ATTACH;FMTTYPE=image/jpeg:https://eventosagenda.com/wp-content/uploads/2025/04/Peral-Junceira.jpg
END:VEVENT
BEGIN:VEVENT
DTSTART;TZID=Europe/Lisbon:20250501T083000
DTEND;TZID=Europe/Lisbon:20250501T150000
DTSTAMP:20260422T191406
CREATED:20250425T125612Z
LAST-MODIFIED:20250425T125612Z
UID:606-1746088200-1746111600@eventosagenda.com
SUMMARY:Caminho dos Encantos - Caminhada Solidária - Turcifal
DESCRIPTION:
URL:https://eventosagenda.com/event/caminho-dos-encantos-caminhada-solidaria-turcifal/
LOCATION:Turcifal\, Turcifal\, Lisboa\, Portugal
CATEGORIES:Community,Sports & Games
ATTACH;FMTTYPE=image/jpeg:https://eventosagenda.com/wp-content/uploads/2025/04/facebook_1745427671777_7320854265446109466.jpg
END:VEVENT
BEGIN:VEVENT
DTSTART;TZID=Europe/Lisbon:20250501T100000
DTEND;TZID=Europe/Lisbon:20250501T180000
DTSTAMP:20260422T191406
CREATED:20250430T113349Z
LAST-MODIFIED:20250430T113400Z
UID:828-1746093600-1746122400@eventosagenda.com
SUMMARY:Mercado da Primavera - Velharis na Aldeia de Pera
DESCRIPTION:Come and visit the market of secondhand items and antiques tomorrow in Pera\, Castanheira de Pera\, from 10h00…\n\n\nCome and visit the second hand and antiques market tomorrow in Pera\, starting at 10.00 …\n\n\nA Associação Terras de Peralta\, no concelho de Castanheira de Pera\, vai levar a efeito\, no próximo dia 1 de maio\, o Mercado da Primavera. Trata-se de uma Feira de Velharias e Antiguidades que vai decorrer entre as 10:00 e as 18:00.\nVai acontecer no recinto circunscrito à sede da associação\, na aldeia de Pêra e todas as pessoas da aldeia são convidadas a vender\, assim o entendam\, os seus objetos em segunda mãos ou antiguidades.\nOs participantes e público terão direito a almoço\, mediante inscrição e pagamento.\nO Mercado da Primavera é gratuito\, mas os interessados em participar deverão inscrever-se através dos números de telemóvel 919 417 546 ou 913 249 617. As bancas deverão ser montadas no dia a partir das 08:00.
URL:https://eventosagenda.com/event/mercado-da-primavera-velharis-na-aldeia-de-pera/
LOCATION:Velharis na Aldeia de Pera\, Castanheira de Pera\, Leiria\, Portugal
CATEGORIES:Markets & Fairs
ATTACH;FMTTYPE=image/jpeg:https://eventosagenda.com/wp-content/uploads/2025/04/Mercado.jpg
END:VEVENT
BEGIN:VEVENT
DTSTART;TZID=Europe/Lisbon:20250501T150000
DTEND;TZID=Europe/Lisbon:20250501T170000
DTSTAMP:20260422T191406
CREATED:20250426T225727Z
LAST-MODIFIED:20250426T225727Z
UID:644-1746111600-1746118800@eventosagenda.com
SUMMARY:Torneio de Malha - Peral\, Vale da Mua e Junceira
DESCRIPTION:
URL:https://eventosagenda.com/event/torneio-de-malha-peral-vale-da-mua-e-junceira/
LOCATION:Peral\, Peral\, Proença-A-Nova\, Castelo Branco\, Portugal
CATEGORIES:Sports & Games
ATTACH;FMTTYPE=image/jpeg:https://eventosagenda.com/wp-content/uploads/2025/04/facebook_1745651540321_7321793238181404458.jpg
END:VEVENT
BEGIN:VEVENT
DTSTART;TZID=Europe/Lisbon:20250501T150000
DTEND;TZID=Europe/Lisbon:20250504T200000
DTSTAMP:20260422T191406
CREATED:20250414T211557Z
LAST-MODIFIED:20250414T212826Z
UID:294-1746111600-1746388800@eventosagenda.com
SUMMARY:III Festival da Caprinicultura - Peral\, Proença-A-Nova
DESCRIPTION:
URL:https://eventosagenda.com/event/iii-festival-da-caprinicultura-peral-proenca-a-nova/
LOCATION:Peral\, Peral\, Proença-A-Nova\, Castelo Branco\, Portugal
CATEGORIES:Festas & Festivals,Food & Drink
ATTACH;FMTTYPE=image/jpeg:https://eventosagenda.com/wp-content/uploads/2025/04/III-Feira-de-Caprinicultura-scaled.jpg
END:VEVENT
BEGIN:VEVENT
DTSTART;TZID=Europe/Lisbon:20250501T190000
DTEND;TZID=Europe/Lisbon:20250504T120000
DTSTAMP:20260422T191406
CREATED:20250429T215506Z
LAST-MODIFIED:20250429T215506Z
UID:731-1746126000-1746360000@eventosagenda.com
SUMMARY:Festa das Enguias - Largo da Igreja\, Nadadouro
DESCRIPTION:
URL:https://eventosagenda.com/event/festa-das-enguias-largo-da-igreja-nadadouro/
LOCATION:Nadadouro\, Caldas da Rainha\, Leiria\, Portugal
CATEGORIES:Festas & Festivals
ATTACH;FMTTYPE=image/jpeg:https://eventosagenda.com/wp-content/uploads/2025/04/facebook_1745907873195_7322868376175452061.jpg
END:VEVENT
BEGIN:VEVENT
DTSTART;TZID=Europe/Lisbon:20250501T200000
DTEND;TZID=Europe/Lisbon:20250505T170000
DTSTAMP:20260422T191406
CREATED:20250429T222850Z
LAST-MODIFIED:20250429T222850Z
UID:743-1746129600-1746464400@eventosagenda.com
SUMMARY:Festas Nossa Senhora do Amparo - Covas\, Lousada
DESCRIPTION:
URL:https://eventosagenda.com/event/festas-nossa-senhora-do-amparo-covas-lousada-2/
LOCATION:Covas\, Covas\, Lousada\, Porto\, Portugal
CATEGORIES:Festas & Festivals
ATTACH;FMTTYPE=image/jpeg:https://eventosagenda.com/wp-content/uploads/2025/04/facebook_1745907248621_7322865756520165638.jpg
END:VEVENT
BEGIN:VEVENT
DTSTART;TZID=Europe/Lisbon:20250501T213000
DTEND;TZID=Europe/Lisbon:20250503T213000
DTSTAMP:20260422T191406
CREATED:20250429T121322Z
LAST-MODIFIED:20250429T121322Z
UID:678-1746135000-1746307800@eventosagenda.com
SUMMARY:Festival Humor à Lafões - Oliveira de Frades - Vouzela - S. Pedro do Sul
DESCRIPTION:
URL:https://eventosagenda.com/event/festival-humor-a-lafoes-oliveira-de-frades-vouzela-s-pedro-do-sul/
LOCATION:Vouzela\, Vouzela\, Viseu\, Portugal
CATEGORIES:Arts & Culture,Festas & Festivals,Theatre & Performing Arts
ATTACH;FMTTYPE=image/jpeg:https://eventosagenda.com/wp-content/uploads/2025/04/facebook_1745708904495_7322033840961773570.jpg
END:VEVENT
BEGIN:VEVENT
DTSTART;TZID=Europe/Lisbon:20250502T000000
DTEND;TZID=Europe/Lisbon:20250502T000000
DTSTAMP:20260422T191406
CREATED:20250502T105948Z
LAST-MODIFIED:20250502T110048Z
UID:915-1746144000-1746144000@eventosagenda.com
SUMMARY:Festa de Conqueiros 2025 - Conqueiros\, Leiria
DESCRIPTION:Está a chegar a grande FESTA de CONQUEIROS! \nDe 30 de maio a 1 de junho\, celebramos em honra de Santo Ildefonso e N.ª Sr.ª da Encarnação com música\, tradição\, gastronomia e muita animação!\n\n\n Junta-te a nós no Arraial de Conqueiros (Leiria) para 3 dias inesquecíveis com:\n Concertinas\, filarmónica\, DJ’s\, Jorge Guerreiro\, Rancho\, bandas ao vivo\, fogo de artifício e muito mais!\n Excelente serviço de bar e restaurante!\n Marca na agenda e convida os teus amigos!\n\n\nThe big CONQUERORS PARTY is coming!  \n\nFrom May 30 to June 1\, we celebrate in honor of Saint Ildefonso and N. Mrs. Incarnation with music\, tradition\, gastronomy and a lot of excitement!\n\n\n Join us at Arraial de Conqueiros (Leiria) for 3 unforgettable days with:\n Concertinas\, philharmonic\, DJ’s\, Jorge Guerreiro\, Rancho\, live bands\, fireworks and more!\n Excellent bar and restaurant service!\n Mark your calendar and invite your friends!
URL:https://eventosagenda.com/event/festa-de-conqueiros-2025-conqueiros-leiria/
LOCATION:Coimbra
CATEGORIES:Festas & Festivals
ATTACH;FMTTYPE=image/jpeg:https://eventosagenda.com/wp-content/uploads/2025/05/facebook_1746104314785_7323692311923133122.jpg
END:VEVENT
BEGIN:VEVENT
DTSTART;VALUE=DATE:20250502
DTEND;VALUE=DATE:20250505
DTSTAMP:20260422T191406
CREATED:20250420T172720Z
LAST-MODIFIED:20250420T172732Z
UID:449-1746144000-1746403199@eventosagenda.com
SUMMARY:São Domingos Festa 2025 - São Domingos\, Sarzedas
DESCRIPTION:
URL:https://eventosagenda.com/event/sao-domingos-festa-2025-sao-domingos-sarzedas/
LOCATION:São Domingos\, São Domingos\, Sarzedas\, Castelo Branco\, Portugal
CATEGORIES:Festas & Festivals
ATTACH;FMTTYPE=image/jpeg:https://eventosagenda.com/wp-content/uploads/2025/04/Sao-Domingos.jpg
END:VEVENT
BEGIN:VEVENT
DTSTART;VALUE=DATE:20250502
DTEND;VALUE=DATE:20250505
DTSTAMP:20260422T191406
CREATED:20250430T104828Z
LAST-MODIFIED:20250430T104855Z
UID:800-1746144000-1746403199@eventosagenda.com
SUMMARY:Mostra de Vinhos - Fernando Pó
DESCRIPTION:
URL:https://eventosagenda.com/event/mostra-de-vinhos-fernando-po/
LOCATION:Fernando Pó\, Palmela\, Lisboa\, 2965-545\, Portugal
CATEGORIES:Festas & Festivals,Food & Drink
ATTACH;FMTTYPE=image/jpeg:https://eventosagenda.com/wp-content/uploads/2025/04/facebook_1745973269087_7323142666426670894.jpg
END:VEVENT
END:VCALENDAR