BEGIN:VCALENDAR
VERSION:2.0
PRODID:-// - ECPv6.15.20//NONSGML v1.0//EN
CALSCALE:GREGORIAN
METHOD:PUBLISH
X-ORIGINAL-URL:https://eventosagenda.com
X-WR-CALDESC:Events for 
REFRESH-INTERVAL;VALUE=DURATION:PT1H
X-Robots-Tag:noindex
X-PUBLISHED-TTL:PT1H
BEGIN:VTIMEZONE
TZID:Europe/Lisbon
BEGIN:DAYLIGHT
TZOFFSETFROM:+0000
TZOFFSETTO:+0100
TZNAME:WEST
DTSTART:20240331T010000
END:DAYLIGHT
BEGIN:STANDARD
TZOFFSETFROM:+0100
TZOFFSETTO:+0000
TZNAME:WET
DTSTART:20241027T010000
END:STANDARD
BEGIN:DAYLIGHT
TZOFFSETFROM:+0000
TZOFFSETTO:+0100
TZNAME:WEST
DTSTART:20250330T010000
END:DAYLIGHT
BEGIN:STANDARD
TZOFFSETFROM:+0100
TZOFFSETTO:+0000
TZNAME:WET
DTSTART:20251026T010000
END:STANDARD
BEGIN:DAYLIGHT
TZOFFSETFROM:+0000
TZOFFSETTO:+0100
TZNAME:WEST
DTSTART:20260329T010000
END:DAYLIGHT
BEGIN:STANDARD
TZOFFSETFROM:+0100
TZOFFSETTO:+0000
TZNAME:WET
DTSTART:20261025T010000
END:STANDARD
END:VTIMEZONE
BEGIN:VEVENT
DTSTART;VALUE=DATE:20250906
DTEND;VALUE=DATE:20250922
DTSTAMP:20260420T170749
CREATED:20250523T122328Z
LAST-MODIFIED:20250523T123035Z
UID:1925-1757116800-1758499199@eventosagenda.com
SUMMARY:Festival Opera Obidos 2025
DESCRIPTION:In 2025\, the Opera Festival of Obidos will fill the Western region with voices\, colour and excitement! \n\n\nOn his 3. the edition\, the festival dresses up in Tolerance & Irreverence\, with a celebration of opera as a mirror of the human condition\, between audacity and appeal to the values that unite us. \n\n\n Save the Date: September 6-21\, 2025
URL:https://eventosagenda.com/event/festival-opera-obidos-2025/
LOCATION:Óbidos\, Obidos\, Leiria\, Portugal
CATEGORIES:Fado, Concerts & Music
ATTACH;FMTTYPE=image/jpeg:https://eventosagenda.com/wp-content/uploads/2025/05/499316285_748198194197058_7848781958873298816_n.jpg
END:VEVENT
BEGIN:VEVENT
DTSTART;VALUE=DATE:20250911
DTEND;VALUE=DATE:20250915
DTSTAMP:20260420T170749
CREATED:20250507T203013Z
LAST-MODIFIED:20250507T204427Z
UID:1214-1757548800-1757894399@eventosagenda.com
SUMMARY:Alma do Vinho Festival - Alenquer
DESCRIPTION:The Alma do Vinho Festival in Alenquer\, Portugal\, which translates to “Soul of Wine\,” is a four-day celebration of wine\, culture\, and tradition. The festival\, held annually in September\, focuses on the region’s wines\, with over 40 producers showcasing more than 300 wine references. It’s known for its lively atmosphere\, featuring commented tastings\, conferences\, harmonisations\, and Portuguese music. The festival attracts a large number of visitors\, including wine enthusiasts\, locals\, and tourists.  \n\n\n\n\n\n\n\n\n\n\n\n\nKey Features:\n\n\n\n\n\n\n\n\nWine Focus:\n\nThe festival centres around the wines of the Lisbon region\, highlighting the region’s winemaking traditions and diverse offerings.  \n\n\n\n\n\n\n\n\n\n\n\n\n\n\nDiverse Activities:\n\nBeyond wine tasting\, the festival offers a variety of activities\, including commented tastings\, conferences\, food and wine pairings\, and live music.  \n\n\n\n\n\n\n\n\n\n\n\n\n\n\nCultural and Social Experience:\n\nThe festival is not just about wine; it’s a cultural and social event that celebrates Alenquer’s identity and its connection to wine.  \n\n\n\n\n\n\n\n\n\n\n\n\n\n\nPopular Event:\n\nAlma do Vinho is a well-known festival in Portugal\, attracting a large crowd of visitors each year.  \n\n\n\n\n\n\n\n\n\n\n\n\n\n\nFestival Details:\nThe festival typically takes place in the Parque Urbano da Romeira in Alenquer. Tickets can be purchased online or at the festival entrance. 
URL:https://eventosagenda.com/event/alma-do-vinho-festival-alenquer/
LOCATION:Alenquer\, Parque Urbano da Romeira\, Alenquer\, Lisboa\, Portugal
CATEGORIES:Festas & Festivals,Food & Drink
ATTACH;FMTTYPE=image/png:https://eventosagenda.com/wp-content/uploads/2025/05/logo-menu-scaled.png
END:VEVENT
BEGIN:VEVENT
DTSTART;VALUE=DATE:20250911
DTEND;VALUE=DATE:20250915
DTSTAMP:20260420T170749
CREATED:20250903T192741Z
LAST-MODIFIED:20250903T193438Z
UID:3667-1757548800-1757894399@eventosagenda.com
SUMMARY:Feira da Avenida - Lisboa
DESCRIPTION:
URL:https://eventosagenda.com/event/feira-da-avenida-lisboa/
LOCATION:Avenida\, Avenida\, Lisboa\, Portugal
CATEGORIES:Markets & Fairs
ATTACH;FMTTYPE=image/png:https://eventosagenda.com/wp-content/uploads/2025/09/Avenida-Fair.png
END:VEVENT
BEGIN:VEVENT
DTSTART;VALUE=DATE:20250912
DTEND;VALUE=DATE:20250915
DTSTAMP:20260420T170749
CREATED:20250415T123519Z
LAST-MODIFIED:20250415T130549Z
UID:335-1757635200-1757894399@eventosagenda.com
SUMMARY:BREW event! Coimbra 2025 – Artisanal Beer Festival
DESCRIPTION:
URL:https://eventosagenda.com/event/brew-event-coimbra-2025-artisanal-beer-festival/
LOCATION:Coimbra\, Coimbra\, Coimbra\, Portugal
CATEGORIES:Festas & Festivals,Food & Drink
ATTACH;FMTTYPE=image/png:https://eventosagenda.com/wp-content/uploads/2025/04/Brew-Coimbra.png
END:VEVENT
BEGIN:VEVENT
DTSTART;TZID=Europe/Lisbon:20250912T100000
DTEND;TZID=Europe/Lisbon:20250914T235900
DTSTAMP:20260420T170749
CREATED:20250815T145105Z
LAST-MODIFIED:20250815T145105Z
UID:3595-1757671200-1757894340@eventosagenda.com
SUMMARY:Vale do Souto - Mosteiro\, Oleiros
DESCRIPTION:
URL:https://eventosagenda.com/event/vale-do-souto-mosteiro-oleiros/
LOCATION:Vale do Souto\, Vale do Souto\, Mosteiro\, Oleiros\, Castelo Branco\, Portugal
CATEGORIES:Festas & Festivals
ATTACH;FMTTYPE=image/jpeg:https://eventosagenda.com/wp-content/uploads/2025/08/09-12-Vale-da-Souto.jpg
END:VEVENT
BEGIN:VEVENT
DTSTART;TZID=Europe/Lisbon:20250912T170000
DTEND;TZID=Europe/Lisbon:20250914T235900
DTSTAMP:20260420T170750
CREATED:20250903T184823Z
LAST-MODIFIED:20250903T184840Z
UID:3643-1757696400-1757894340@eventosagenda.com
SUMMARY:Grandiosos Festejos' 2025 - Carregueira\, Mação
DESCRIPTION:Grandiosos Festejos da CARREGUEIRA 2025 Dias 12\, 13 e 14 de Setembro no nosso recinto de festas com muita música\, cerveja e\, claro\, os nossos já conhecidos petiscos à moda da Carregueira  Apareçam!
URL:https://eventosagenda.com/event/grandiosos-festejos-2025-carregueira-macao/
LOCATION:Carregueira\, Carregueira\, Mação\, Santarém\, Portugal
CATEGORIES:Festas & Festivals
ATTACH;FMTTYPE=image/jpeg:https://eventosagenda.com/wp-content/uploads/2025/09/09-12-Carregueira.jpg
END:VEVENT
BEGIN:VEVENT
DTSTART;TZID=Europe/Lisbon:20250912T180000
DTEND;TZID=Europe/Lisbon:20250914T170000
DTSTAMP:20260420T170750
CREATED:20250730T162839Z
LAST-MODIFIED:20250902T085330Z
UID:3354-1757700000-1757869200@eventosagenda.com
SUMMARY:Festa de Verão - Tripeiro\, São Vicente da Beira
DESCRIPTION:
URL:https://eventosagenda.com/event/festa-de-verao-tripeiro-sao-vicente-da-beira/
LOCATION:Tripeiro\, Tripeiro\, São Vicente da Beira\, Castelo Branco\, Portugal
CATEGORIES:Festas & Festivals
ATTACH;FMTTYPE=image/jpeg:https://eventosagenda.com/wp-content/uploads/2025/07/09-12-Sao-Vincent.jpg
END:VEVENT
BEGIN:VEVENT
DTSTART;TZID=Europe/Lisbon:20250912T190000
DTEND;TZID=Europe/Lisbon:20250914T190000
DTSTAMP:20260420T170750
CREATED:20250903T185615Z
LAST-MODIFIED:20250903T185624Z
UID:3647-1757703600-1757876400@eventosagenda.com
SUMMARY:Festa da Fregueisa e das Associações- Meia Via
DESCRIPTION:
URL:https://eventosagenda.com/event/festa-da-fregueisa-e-das-associacoes-meia-via/
LOCATION:Meia Via\, Meia Via\, Torres Nova\, Santarém\, Portugal
CATEGORIES:Festas & Festivals
ATTACH;FMTTYPE=image/jpeg:https://eventosagenda.com/wp-content/uploads/2025/09/09-12-Meia-Via.jpg
END:VEVENT
BEGIN:VEVENT
DTSTART;TZID=Europe/Lisbon:20250912T200000
DTEND;TZID=Europe/Lisbon:20250915T235900
DTSTAMP:20260420T170750
CREATED:20250903T183356Z
LAST-MODIFIED:20250903T183356Z
UID:3632-1757707200-1757980740@eventosagenda.com
SUMMARY:Tradicional Romaria ao Senhor Jesus - Milagres\, Leira
DESCRIPTION:De 12 a 15 de setembro | Milagres.\nRomaria ao Senhor Jesus dos Milagres.
URL:https://eventosagenda.com/event/tradicional-romaria-ao-senhor-jesus-milagres-leira/
LOCATION:Milagres\, Milagres\, Leiria\, Leiria\, Portugal
CATEGORIES:Festas & Festivals
ATTACH;FMTTYPE=image/jpeg:https://eventosagenda.com/wp-content/uploads/2025/09/09-12-Milagres.jpg
END:VEVENT
BEGIN:VEVENT
DTSTART;VALUE=DATE:20250913
DTEND;VALUE=DATE:20250922
DTSTAMP:20260420T170750
CREATED:20250421T121447Z
LAST-MODIFIED:20250421T121455Z
UID:505-1757721600-1758499199@eventosagenda.com
SUMMARY:Festas em Honra Nossa Senhora da Nazaré - Enxara do Bispo\, Mafra
DESCRIPTION:
URL:https://eventosagenda.com/event/festas-em-honra-nossa-senhora-da-nazare-enxara-do-bispo-mafra/
LOCATION:Enxara do Bispo\, Enxara do Bispo\, Mafra\, Lisboa
CATEGORIES:Festas & Festivals
ATTACH;FMTTYPE=image/jpeg:https://eventosagenda.com/wp-content/uploads/2025/04/Enxara-do-Bispo-Festa.jpg
END:VEVENT
BEGIN:VEVENT
DTSTART;TZID=Europe/Lisbon:20250914T090000
DTEND;TZID=Europe/Lisbon:20250914T170000
DTSTAMP:20260420T170750
CREATED:20250903T190927Z
LAST-MODIFIED:20250903T190927Z
UID:3659-1757840400-1757869200@eventosagenda.com
SUMMARY:Torneio da Malha - Seda
DESCRIPTION:
URL:https://eventosagenda.com/event/torneio-da-malha-seda/
LOCATION:Seda\, Seda\, Alter do Chão\, Portalegre\, Portugal
CATEGORIES:Sports & Games
ATTACH;FMTTYPE=image/jpeg:https://eventosagenda.com/wp-content/uploads/2025/09/facebook_1756860546520_7368807217712968056.jpg
END:VEVENT
BEGIN:VEVENT
DTSTART;VALUE=DATE:20250919
DTEND;VALUE=DATE:20250922
DTSTAMP:20260420T170750
CREATED:20250414T205541Z
LAST-MODIFIED:20250903T191430Z
UID:280-1758240000-1758499199@eventosagenda.com
SUMMARY:Festival do Plangaio e do Maranho - Sobreira Formosa / Proença-A-Nova
DESCRIPTION:
URL:https://eventosagenda.com/event/festival-do-plangaio-e-do-maranho/
LOCATION:Sobreira Formosa\, Sobreira Formosa\, Castelo Branco\, Portugal
CATEGORIES:Festas & Festivals,Food & Drink
ATTACH;FMTTYPE=image/jpeg:https://eventosagenda.com/wp-content/uploads/2025/04/facebook_1755780828283_7364278551195982259.jpg
END:VEVENT
BEGIN:VEVENT
DTSTART;TZID=Europe/Lisbon:20250919T213000
DTEND;TZID=Europe/Lisbon:20250919T235900
DTSTAMP:20260420T170750
CREATED:20250903T184445Z
LAST-MODIFIED:20250903T184445Z
UID:3639-1758317400-1758326340@eventosagenda.com
SUMMARY:Festa Fado - Ribatejo
DESCRIPTION:
URL:https://eventosagenda.com/event/festa-fado-ribatejo/
LOCATION:Ribatejo\, Ribatejo\, Mação\, Santarém\, Portugal
CATEGORIES:Fado, Concerts & Music
ATTACH;FMTTYPE=image/jpeg:https://eventosagenda.com/wp-content/uploads/2025/09/09-19-Ribatejo.jpg
END:VEVENT
BEGIN:VEVENT
DTSTART;VALUE=DATE:20250925
DTEND;VALUE=DATE:20250929
DTSTAMP:20260420T170750
CREATED:20250903T193007Z
LAST-MODIFIED:20250903T193401Z
UID:3670-1758758400-1759103999@eventosagenda.com
SUMMARY:Feira da Avenida - Lisboa
DESCRIPTION:
URL:https://eventosagenda.com/event/feira-da-avenida-lisboa-2/
LOCATION:Avenida\, Avenida\, Lisboa\, Portugal
CATEGORIES:Markets & Fairs
ATTACH;FMTTYPE=image/png:https://eventosagenda.com/wp-content/uploads/2025/09/Avenida-Fair.png
END:VEVENT
BEGIN:VEVENT
DTSTART;VALUE=DATE:20250926
DTEND;VALUE=DATE:20250929
DTSTAMP:20260420T170750
CREATED:20250903T190457Z
LAST-MODIFIED:20250903T190554Z
UID:3655-1758844800-1759103999@eventosagenda.com
SUMMARY:Vizela Motor Festival '25
DESCRIPTION:
URL:https://eventosagenda.com/event/vizela-motor-festival-25/
LOCATION:Vizela\, Vizela\, Braga\, Portugal
CATEGORIES:Festas & Festivals,Sports & Games
ATTACH;FMTTYPE=image/jpeg:https://eventosagenda.com/wp-content/uploads/2025/09/09-26-Vizela.jpg
END:VEVENT
BEGIN:VEVENT
DTSTART;TZID=Europe/Lisbon:20250928T110000
DTEND;TZID=Europe/Lisbon:20250928T160000
DTSTAMP:20260420T170750
CREATED:20250415T081706Z
LAST-MODIFIED:20250415T081706Z
UID:324-1759057200-1759075200@eventosagenda.com
SUMMARY:Relva Market / Mercado de Relva
DESCRIPTION:
URL:https://eventosagenda.com/event/relva-market-mercado-de-relva-6/
LOCATION:Relva\, Relva\, Monsanto\, Castelo Branco\, Portugal
CATEGORIES:Markets & Fairs
ATTACH;FMTTYPE=image/jpeg:https://eventosagenda.com/wp-content/uploads/2025/04/465552328_895792475979700_591932599823029703_n.jpg
END:VEVENT
BEGIN:VEVENT
DTSTART;VALUE=DATE:20251003
DTEND;VALUE=DATE:20251006
DTSTAMP:20260420T170750
CREATED:20250805T182028Z
LAST-MODIFIED:20250805T182028Z
UID:3529-1759449600-1759708799@eventosagenda.com
SUMMARY:21° Festival Gastronômico - Alvaiázere
DESCRIPTION:
URL:https://eventosagenda.com/event/21-festival-gastronomico-alvaiazere/
LOCATION:Alvaiázere\, Alvaiázere\, Leiria\, Portugal
CATEGORIES:Festas & Festivals,Food & Drink
ATTACH;FMTTYPE=image/jpeg:https://eventosagenda.com/wp-content/uploads/2025/08/10-03-Alviaiazere.jpg
END:VEVENT
BEGIN:VEVENT
DTSTART;TZID=Europe/Lisbon:20251004T090000
DTEND;TZID=Europe/Lisbon:20251004T140000
DTSTAMP:20260420T170750
CREATED:20250406T131614Z
LAST-MODIFIED:20250406T131614Z
UID:184-1759568400-1759586400@eventosagenda.com
SUMMARY:A Nossa Feira Penela – Day Market
DESCRIPTION:
URL:https://eventosagenda.com/event/a-nossa-feira-penela-day-market-2/
LOCATION:Penela\, Penela\, Coimbra\, 3070-000\, Portugal
CATEGORIES:Markets & Fairs
ATTACH;FMTTYPE=image/jpeg:https://eventosagenda.com/wp-content/uploads/2025/04/Penela.jpg
END:VEVENT
BEGIN:VEVENT
DTSTART;TZID=Europe/Lisbon:20251004T193000
DTEND;TZID=Europe/Lisbon:20251004T230000
DTSTAMP:20260420T170750
CREATED:20250930T071138Z
LAST-MODIFIED:20250930T071138Z
UID:3690-1759606200-1759618800@eventosagenda.com
SUMMARY:Festival da Chanfana - Queixoperra
DESCRIPTION:
URL:https://eventosagenda.com/event/festival-da-chanfana-queixoperra/
LOCATION:Queixoperra\, Queixoperra\, Mação\, Santarém\, Portugal
CATEGORIES:Festas & Festivals,Food & Drink
ATTACH;FMTTYPE=image/jpeg:https://eventosagenda.com/wp-content/uploads/2025/09/10-04-Queixoperra.jpg
END:VEVENT
BEGIN:VEVENT
DTSTART;TZID=Europe/Lisbon:20251005T073000
DTEND;TZID=Europe/Lisbon:20251005T170000
DTSTAMP:20260420T170750
CREATED:20250930T071409Z
LAST-MODIFIED:20250930T071430Z
UID:3694-1759649400-1759683600@eventosagenda.com
SUMMARY:Descida do Picoto - Sertã
DESCRIPTION:As inscrições para a vigésima edição da 𝗗𝗲𝘀𝗰𝗶𝗱𝗮 𝗱𝗼 𝗣𝗶𝗰𝗼𝘁𝗼 estão quase a terminar! Tem até dia 30 de setembro para se inscrever nesta icónica prova\, que se realiza a 𝟱 𝗱𝗲 𝗼𝘂𝘁𝘂𝗯𝗿𝗼.\n\n\nRegulamento e inscrições disponíveis em apedalar.pt/eventos/4009/info\n Mais informações em cm-serta.pt/lista-eventos/1805-descida-do-picoto-2025\n\n\nOrganizada pela Selindabtt\, a 𝗗𝗲𝘀𝗰𝗶𝗱𝗮 𝗱𝗼 𝗣𝗶𝗰𝗼𝘁𝗼 conta com o apoio do Município da Sertã e outras entidades.
URL:https://eventosagenda.com/event/descida-do-picoto-serta/
LOCATION:Sertã\, Sertã\, Castelo Branco\, Portugal
CATEGORIES:Sports & Games,Tours & Trips
ATTACH;FMTTYPE=image/jpeg:https://eventosagenda.com/wp-content/uploads/2025/09/10-05-Serta.jpg
END:VEVENT
BEGIN:VEVENT
DTSTART;VALUE=DATE:20251009
DTEND;VALUE=DATE:20251013
DTSTAMP:20260420T170750
CREATED:20250903T193054Z
LAST-MODIFIED:20250903T193422Z
UID:3673-1759968000-1760313599@eventosagenda.com
SUMMARY:Feira da Avenida - Lisboa
DESCRIPTION:
URL:https://eventosagenda.com/event/feira-da-avenida-lisboa-3/
LOCATION:Avenida\, Avenida\, Lisboa\, Portugal
CATEGORIES:Markets & Fairs
ATTACH;FMTTYPE=image/png:https://eventosagenda.com/wp-content/uploads/2025/09/Avenida-Fair.png
END:VEVENT
BEGIN:VEVENT
DTSTART;VALUE=DATE:20251010
DTEND;VALUE=DATE:20251013
DTSTAMP:20260420T170750
CREATED:20250930T073834Z
LAST-MODIFIED:20250930T073834Z
UID:3716-1760054400-1760313599@eventosagenda.com
SUMMARY:Festa da Jeropiga - Serta
DESCRIPTION:
URL:https://eventosagenda.com/event/festa-da-jeropiga-serta/
LOCATION:Sertã\, Sertã\, Castelo Branco\, Portugal
CATEGORIES:Festas & Festivals
ATTACH;FMTTYPE=image/jpeg:https://eventosagenda.com/wp-content/uploads/2025/09/10-11-Serta.jpg
END:VEVENT
BEGIN:VEVENT
DTSTART;TZID=Europe/Lisbon:20251010T170000
DTEND;TZID=Europe/Lisbon:20251012T220000
DTSTAMP:20260420T170750
CREATED:20250930T080955Z
LAST-MODIFIED:20250930T081004Z
UID:3734-1760115600-1760306400@eventosagenda.com
SUMMARY:Encuentro Tango 4° Festival Internacional de Tango Festival of Beira Baixa
DESCRIPTION:Três dias para desfrutar de «um puro abraço» \nEste evento é o 4.º Festival de Tango Argentino da Beira Baixa\, no centro de Portugal\, numa bela paisagem entre Lisboa e Madrid. O Festival reúne artistas e professores de referência mundial e promove o intercâmbio cultural de experiências entre pessoas de todo o mundo (Argentina\, Portugal\, Espanha\, França). \nVamos desfrutar e partilhar 25 horas de tango! Aulas e workshops\, 4 milongas e 3 exibições\, espetáculo de tango\, 4 DJs e orquestra ao vivo «La Argenta Esamble». \nLevar o melhor do tango ao interior do país para transmitir o verdadeiro espírito do que o tango essencialmente representa: «Encontro». \n 
URL:https://eventosagenda.com/event/encuentro-tango-4-festival-internacional-de-tango-festival-of-beira-baixa/
LOCATION:Castelo Branco\, Castelo Branco\, Castelo Branco\, Portugal
CATEGORIES:Fado, Concerts & Music,Theatre & Performing Arts
ATTACH;FMTTYPE=image/webp:https://eventosagenda.com/wp-content/uploads/2025/09/10-10-Tango.webp
END:VEVENT
BEGIN:VEVENT
DTSTART;TZID=Europe/Lisbon:20251011T213000
DTEND;TZID=Europe/Lisbon:20251011T230000
DTSTAMP:20260420T170750
CREATED:20250930T071720Z
LAST-MODIFIED:20250930T071720Z
UID:3697-1760218200-1760223600@eventosagenda.com
SUMMARY:XX Festival de Teatro - Proença-a-Nova
DESCRIPTION:𝗖𝗼𝗿𝘁𝗶ç𝗮𝗱𝗮: 𝗔 𝗟𝗲𝗻𝗱𝗮Ana Consolado\, Francisco Cabral\, Leonor Martins\, Maria José Mateus\, Manuel Fernandes\, Vítor Vilela\, Maria de Jesus Lopes\, Lurdes Costa\, Nazaré Fernandes\, Rosa Silva e Maria de Fátima Lourenço\, alunos e atores do Grupo de Teatro da Universidade Sénior de Proença-a-Nova são os grandes protagonistas da sessão de 11 de outubro do Festival de Teatro\, com a peça “Cortiçada: A Lenda”!21h30  Auditório da Biblioteca Municipal de Proença-a-NovaMarque na agenda e venha assistir!
URL:https://eventosagenda.com/event/xx-festival-de-teatro-proenca-a-nova/
LOCATION:Proença-a-Nova\, Proença-a-Nova\, Castelo Branco\, Portugal
CATEGORIES:Arts & Culture,Theatre & Performing Arts
ATTACH;FMTTYPE=image/jpeg:https://eventosagenda.com/wp-content/uploads/2025/09/10-11-Proenca.jpg
END:VEVENT
BEGIN:VEVENT
DTSTART;VALUE=DATE:20251017
DTEND;VALUE=DATE:20251027
DTSTAMP:20260420T170750
CREATED:20251010T131537Z
LAST-MODIFIED:20251010T131554Z
UID:3778-1760659200-1761523199@eventosagenda.com
SUMMARY:Feira de Santa Iria Tomar 2025
DESCRIPTION:𝗙𝗘𝗜𝗥𝗔 𝗗𝗘 𝗦𝗔𝗡𝗧𝗔 𝗜𝗥𝗜𝗔 𝗧𝗢𝗠𝗔𝗥 𝟮𝟬𝟮𝟱\n𝙅𝙖́ 𝙣𝙖̃𝙤 𝙚́ 𝙨𝙚𝙜𝙧𝙚𝙙𝙤…\nDepois dos destaques\, chega o cartaz oficial e todo o programa da Feira de Santa Iria. 𝘿𝙤 𝙈𝙚𝙧𝙘𝙖𝙙𝙤 𝙈𝙪𝙣𝙞𝙘𝙞𝙥𝙖𝙡 𝙖̀ 𝙑𝙖́𝙧𝙯𝙚𝙖 𝙂𝙧𝙖𝙣𝙙𝙚 as ruas enchem-se de tradição\, música e animação.\n\n\n𝗦𝗲𝘅𝘁𝗮 𝟭𝟳\n18h00 – Inauguração\n22h00 – Quinta do Bill e Banda Iria\n23h45 – Bring Hit Back\n\n\n𝗦𝗮́𝗯𝗮𝗱𝗼 𝟭𝟴\n16h00 – Ranchos Folclóricos (Convento S. Francisco)\n17h30 – TorresFarra (arruada)\n21h00 – Caco\n22h15 – Bispo\n00h20 – DJ JBK\n\n\n𝗗𝗼𝗺𝗶𝗻𝗴𝗼 𝟭𝟵\n16h00 – Nina TOC TOC\n17h30 – Aniversário da Rádio Cidade de Tomar (RCT)\n21h30 – Omni\n\n\n𝗦𝗲𝗴𝘂𝗻𝗱𝗮 𝟮𝟬 – 𝗗𝗶𝗮 𝗱𝗲 𝗦𝗮𝗻𝘁𝗮 𝗜𝗿𝗶𝗮\n9h30 – Missa na Igreja Santa Maria dos Olivais\n10h30 – Procissão (R. Aquiles da Mota Lima\, Praceta Mário Nunes\, R. Manuel de Matos\, Praceta Raul Lopes\, Alameda Um de Março\, R. Marquês de Pombal\, Ponte Velha\, Capela Santa Iria)\n21h30 – Noite de Fados\n\n\n𝗧𝗲𝗿𝗰̧𝗮 𝟮𝟭\n9h30 – Missa na Capela Santa Iria\n14h30 – Convívio do idoso com concerto de Nuno Ricky (Convento S. Francisco)\n21h30 – Rock Avenue\n\n\n𝗤𝘂𝗮𝗿𝘁𝗮 𝟮𝟮\n21h30 – Tuna Cavaleiras de Sellium\n22h30 – Tuna Templária\n23h45 – Grupo A-Part\n\n\n𝗤𝘂𝗶𝗻𝘁𝗮 𝟮𝟯\n21h30 – Saltimbancos\n22h45 – Tomar-lhe o Gosto\n\n\n𝗦𝗲𝘅𝘁𝗮 𝟮𝟰\n21h30 – Super Mars\n22h45 – Némanus\n00h35 – Pão-de-Ló gijéis sete\n\n\n𝗦𝗮́𝗯𝗮𝗱𝗼 𝟮𝟱\n15h00 e 17h00 – Drama & Beiço (arruadas)\n21h30 – Kontra Relógio\n22h50 – Xutos & Pontapés\n00h50 – DJ set I love the 90’s\n\n\n𝗗𝗼𝗺𝗶𝗻𝗴𝗼 𝟮𝟲\n16h00 – Nuno Ricky\n17h30 – José Malhoa\n19h00 – Aula de Zumba\n\n\n𝗛𝗼𝗿𝗮́𝗿𝗶𝗼 𝗱𝗮 𝗙𝗲𝗶𝗿𝗮:\nsegunda\, terça e quinta\, 15h00 às 24h00\nquarta e sextas\, 15h00 às 2h00\nsábados\, 11h00 às 2h00\ndomingos\, 11h00 às 24h00\n\n\n𝗠𝗲𝗿𝗰𝗮𝗱𝗼 𝗘𝘀𝘁𝗿𝗲𝗹𝗶𝗻𝗵𝗮:\ndias 18\, 19\, 25 e 26\, 10h00 às 21h00\, Mercado Municipal de Tomar\n\n\n𝗙𝗲𝗶𝗿𝗮 𝗱𝗲 𝗩𝗲𝗹𝗵𝗮𝗿𝗶𝗮𝘀 𝗲 𝗔𝗻𝘁𝗶𝗴𝘂𝗶𝗱𝗮𝗱𝗲𝘀 𝗱𝗲 𝗧𝗼𝗺𝗮𝗿:\ndias 18\, 19\, 25 e 26\, 10h00 às 22h00\, Mercado Municipal de Tomar
URL:https://eventosagenda.com/event/feira-de-santa-iria-tomar-2025/
LOCATION:Tomar\, Tomar\, Santarém\, Portugal
CATEGORIES:Festas & Festivals
ATTACH;FMTTYPE=image/jpeg:https://eventosagenda.com/wp-content/uploads/2025/10/10-17-Tomar.jpg
END:VEVENT
BEGIN:VEVENT
DTSTART;TZID=Europe/Lisbon:20251017T080000
DTEND;TZID=Europe/Lisbon:20251018T233000
DTSTAMP:20260420T170750
CREATED:20250930T074137Z
LAST-MODIFIED:20250930T074137Z
UID:3719-1760688000-1760830200@eventosagenda.com
SUMMARY:XXIV Tunicoto - Vila De Rei
DESCRIPTION:Nos dias 17 e 18 de Outubro irá realizar-se o nosso encontro anual de tunas em Vila de Rei\, o Tunicoto.Em breve iremos anunciar as tunas convidadas e mais detalhes sobre os afters!!Marca na agenda e vem celebrar o espírito académico connosco!\nEntrada grátis.
URL:https://eventosagenda.com/event/xxiv-tunicoto-vila-de-rei/
LOCATION:Vila de Rei\, Vila de Rei\, Castelo Branco\, Portugal
CATEGORIES:Fado, Concerts & Music
ATTACH;FMTTYPE=image/jpeg:https://eventosagenda.com/wp-content/uploads/2025/09/10-17-Vila-de-Rei.jpg
END:VEVENT
BEGIN:VEVENT
DTSTART;TZID=Europe/Lisbon:20251018T090000
DTEND;TZID=Europe/Lisbon:20251018T170000
DTSTAMP:20260420T170750
CREATED:20251010T131127Z
LAST-MODIFIED:20251010T131127Z
UID:3774-1760778000-1760806800@eventosagenda.com
SUMMARY:Torneio da Associação - Barretos\, Portalegre
DESCRIPTION:
URL:https://eventosagenda.com/event/torneio-da-associacao-barretos-portalegre/
LOCATION:Barretos\, Barretos\, Marvão\, Portalegre\, Portugal
CATEGORIES:Sports & Games
ATTACH;FMTTYPE=image/jpeg:https://eventosagenda.com/wp-content/uploads/2025/10/facebook_1759287005631_7378984524869575240.jpg
END:VEVENT
BEGIN:VEVENT
DTSTART;TZID=Europe/Lisbon:20251018T100000
DTEND;TZID=Europe/Lisbon:20251019T170000
DTSTAMP:20260420T170750
CREATED:20250806T203326Z
LAST-MODIFIED:20250806T203326Z
UID:3545-1760781600-1760893200@eventosagenda.com
SUMMARY:Autumn Mediterranean Garden Fair - Feira de Jardins Mediterrânicos Outono
DESCRIPTION:
URL:https://eventosagenda.com/event/autumn-mediterranean-garden-fair-feira-de-jardins-mediterranicos-outono/
LOCATION:Lagoa\, Lagoa\, Açores\, Portugal
CATEGORIES:Lifestyle,Markets & Fairs
ATTACH;FMTTYPE=image/jpeg:https://eventosagenda.com/wp-content/uploads/2025/08/Event-image-2025-Autumn-Fair-PT.jpg
END:VEVENT
BEGIN:VEVENT
DTSTART;TZID=Europe/Lisbon:20251018T190000
DTEND;TZID=Europe/Lisbon:20251018T220000
DTSTAMP:20260420T170750
CREATED:20250930T074943Z
LAST-MODIFIED:20250930T074956Z
UID:3722-1760814000-1760824800@eventosagenda.com
SUMMARY:Autumn Botanical Dinner 2025 - Lousã
DESCRIPTION:Abraça os sabores da estação enquanto os Chefs Gino & Marit te recebem no seu mundo sensorial – uma experiência outonal efémera na Quinta do Areal\, onde cada prato conta uma história.\n\n\nPara esta edição de outubro\, o menu continua a ser guiado pelos ritmos da natureza\, pela narrativa e pela emoção. Cada prato é um convite a pausar e a conectar – com a estação\, com os outros e com a criatividade infinita que a vida inspira.\n\n\n Data: 18 de Outubro\n Hora: 19h – 22h\n Preço: 55€ (inclui jantar de 4 pratos + cocktail de boas-vindas sem álcool)\n Vinho biológico e bebidas não alcoólicas disponíveis para compra durante o jantar.\n Alojamento com pequeno-almoço disponível sob pedido.\n\n\nVem celebrar o outono connosco numa noite inesquecível de sabores\, partilha e conexão à mesa.\n\n Reserva o teu lugar no nosso site: https://quintadoareal.com/…/expe…/jantar-botanico-outono\n\nEN: Embrace the flavours of the season as Chefs Gino & Marit welcome you into their sensorial world – a fleeting autumnal experience at Quinta do Areal\, where every dish tells a story.\n\n\nFor this October edition\, the menu continues to be guided by the rhythms of nature\, storytelling and emotion. Each dish is an invitation to pause and connect – with the season\, with one another\, and with the endless creativity that life inspires.\n\n\n Date: 18 October\n Time: 7pm – 10pm\n Price: €55 (includes a four-course dinner + non-alcoholic welcome cocktail)\n A variety of organic wines and non-alcoholic drinks will be available to purchase with dinner.\n Overnight accommodation with breakfast is available on request.\n\n\nJoin us in celebrating autumn with an unforgettable evening of flavour\, connection and togetherness around the table.\n\n\n Reserve your place on our website: https://quintadoareal.com/…/exp…/autumn-botanical-dinner
URL:https://eventosagenda.com/event/autumn-botanical-dinner-2025-lousa/
LOCATION:Lousã\, Lousa\, Coimbra\, Portugal
CATEGORIES:Food & Drink
ATTACH;FMTTYPE=image/jpeg:https://eventosagenda.com/wp-content/uploads/2025/09/10-18-Dinner.jpg
END:VEVENT
BEGIN:VEVENT
DTSTART;TZID=Europe/Lisbon:20251018T200000
DTEND;TZID=Europe/Lisbon:20251018T230000
DTSTAMP:20260420T170750
CREATED:20251010T124348Z
LAST-MODIFIED:20251010T124348Z
UID:3751-1760817600-1760828400@eventosagenda.com
SUMMARY:Noire de Fados e Amizades - Venda Nova\, Tomar
DESCRIPTION:
URL:https://eventosagenda.com/event/noire-de-fados-e-amizades-venda-nova-tomar/
LOCATION:Venda Nova\, Venda Nova\, Tomar\, Leiria\, Portugal
CATEGORIES:Fado, Concerts & Music
ATTACH;FMTTYPE=image/jpeg:https://eventosagenda.com/wp-content/uploads/2025/10/10-18-Fad0.jpg
END:VEVENT
END:VCALENDAR