BEGIN:VCALENDAR
VERSION:2.0
PRODID:-// - ECPv6.15.20//NONSGML v1.0//EN
CALSCALE:GREGORIAN
METHOD:PUBLISH
X-ORIGINAL-URL:https://eventosagenda.com
X-WR-CALDESC:Events for 
REFRESH-INTERVAL;VALUE=DURATION:PT1H
X-Robots-Tag:noindex
X-PUBLISHED-TTL:PT1H
BEGIN:VTIMEZONE
TZID:Europe/Lisbon
BEGIN:DAYLIGHT
TZOFFSETFROM:+0000
TZOFFSETTO:+0100
TZNAME:WEST
DTSTART:20240331T010000
END:DAYLIGHT
BEGIN:STANDARD
TZOFFSETFROM:+0100
TZOFFSETTO:+0000
TZNAME:WET
DTSTART:20241027T010000
END:STANDARD
BEGIN:DAYLIGHT
TZOFFSETFROM:+0000
TZOFFSETTO:+0100
TZNAME:WEST
DTSTART:20250330T010000
END:DAYLIGHT
BEGIN:STANDARD
TZOFFSETFROM:+0100
TZOFFSETTO:+0000
TZNAME:WET
DTSTART:20251026T010000
END:STANDARD
BEGIN:DAYLIGHT
TZOFFSETFROM:+0000
TZOFFSETTO:+0100
TZNAME:WEST
DTSTART:20260329T010000
END:DAYLIGHT
BEGIN:STANDARD
TZOFFSETFROM:+0100
TZOFFSETTO:+0000
TZNAME:WET
DTSTART:20261025T010000
END:STANDARD
END:VTIMEZONE
BEGIN:VEVENT
DTSTART;TZID=Europe/Lisbon:20250703T190000
DTEND;TZID=Europe/Lisbon:20250707T200000
DTSTAMP:20260422T161144
CREATED:20250512T211050Z
LAST-MODIFIED:20250512T211111Z
UID:1482-1751569200-1751918400@eventosagenda.com
SUMMARY:Tradicionais Festividades em Louvor de Nossa Senhora do Alivio - Rio Mau\, Vila do Conde
DESCRIPTION:
URL:https://eventosagenda.com/event/tradicionais-festividades-em-louvor-de-nossa-senhora-do-alivio-rio-mau-vila-do-conde/
LOCATION:Rio Mau\, Vila do Conde\, Rio Mau\, Vila do Conde\, Porto\, Portugal
CATEGORIES:Festas & Festivals
ATTACH;FMTTYPE=image/jpeg:https://eventosagenda.com/wp-content/uploads/2025/05/497479406_1384288672693553_1350278489574208208_n.jpg
END:VEVENT
BEGIN:VEVENT
DTSTART;TZID=Europe/Lisbon:20250704T090000
DTEND;TZID=Europe/Lisbon:20250708T235900
DTSTAMP:20260422T161144
CREATED:20250621T105816Z
LAST-MODIFIED:20250621T110116Z
UID:2872-1751619600-1752019140@eventosagenda.com
SUMMARY:Barrantes 2025 - Salir de Matos\, Caldas da Rainha
DESCRIPTION:Festa em Honra de Santa Maria Madalena 2025\nFaça esta festa ainda mais incrível com a sua presença.\nVenha comemorar connosco!\nFaça parte desta festa super especial.\nBons amigos conheçam as suas melhores histórias\, os melhores vivem nas a seu lado.\nVenha fazer a festa connosco!\nTemos o saboroso Frango no churrasco ao Jantar.\nA Bela da Imperial fresquinha.\nAs famosas Filhôz acompanhadas com o tradicional Café D’Avó.\nBifanas Apetitosas!\nEntre muitas outras surpresas!\nBoa Música\nBoa disposição\nAlegria e momentos de magia\nEsperamos por si\, pelos seus amigos\, pela sua família!\nAté já\nA Direção\n\n\nFeast in Honor of Saint Mary Magdalene 2025\nMake this party even more awesome with your presence.\nCome celebrate with us!\nBe part of this super special party\nGood friends know your best stories\, the best ones live by your side.\nCome party with us!\nWe have the tasty BBQ Chicken for Dinner.\nThe Imperial Belle all fresh.\nThe famous Filhôz accompanied by the traditional Cafe D’Avó.\nBifanas Apetitosas!\nAmong many other surprises!\nNice Music\nGood disposition\nJoy and magic moments\nWe’re waiting for you\, your friends\, your family!\nSee you soon\nThe Direction
URL:https://eventosagenda.com/event/barrantes-2025-salir-de-matos-caldas-da-rainha/
LOCATION:Salir de Matos\, Caldas da Rainha\, Salir de Matos\, Caldas da Rainha\, Leiria\, Portugal
CATEGORIES:Festas & Festivals
ATTACH;FMTTYPE=image/jpeg:https://eventosagenda.com/wp-content/uploads/2025/06/509653712_1136528525173869_1543643895371540301_n.jpg
END:VEVENT
BEGIN:VEVENT
DTSTART;TZID=Europe/Lisbon:20250704T170000
DTEND;TZID=Europe/Lisbon:20250707T190000
DTSTAMP:20260422T161144
CREATED:20250623T151859Z
LAST-MODIFIED:20250623T151859Z
UID:2901-1751648400-1751914800@eventosagenda.com
SUMMARY:Gramaços 2025
DESCRIPTION:OFFICIAL POSTER – GRAMACOS 2025 \n\n\nDates are set\, groups and dj’s confirmed and the countdown is on!\nThis year\, the party promises to exceed all expectations — music\, tradition and a lot of energy in the mix! \n\n\n From July 4-7\, 2025\n Gramaços\, Hospital Oliveira\n\n\n Mark your calendar\, gather your friends and come experience the most awaited party of the year with us!\nFollow us for updates – much more is coming!
URL:https://eventosagenda.com/event/gramacos-2025/
LOCATION:São Paio de Gramaços\, São Paio de Gramaços\, Oliveira do Hospital\, Coimbra\, Portugal
CATEGORIES:Festas & Festivals
ATTACH;FMTTYPE=image/jpeg:https://eventosagenda.com/wp-content/uploads/2025/06/facebook_1750593847690_7342522777745591356.jpg
END:VEVENT
BEGIN:VEVENT
DTSTART;TZID=Europe/Lisbon:20250704T170000
DTEND;TZID=Europe/Lisbon:20250708T180000
DTSTAMP:20260422T161144
CREATED:20250612T154250Z
LAST-MODIFIED:20250612T154304Z
UID:2657-1751648400-1751997600@eventosagenda.com
SUMMARY:Festas em honra de São Paulo e São Jorge - Casmilo 2025
DESCRIPTION:
URL:https://eventosagenda.com/event/festas-em-honra-de-sao-paulo-e-sao-jorge-casmilo-2025/
LOCATION:Casmilo\, Casmilo\, Condeixa-a-Nova\, Coimbra\, Portugal
CATEGORIES:Festas & Festivals
ATTACH;FMTTYPE=image/jpeg:https://eventosagenda.com/wp-content/uploads/2025/06/facebook_1749711706648_7338822810044405436.jpg
END:VEVENT
BEGIN:VEVENT
DTSTART;TZID=Europe/Lisbon:20250704T180000
DTEND;TZID=Europe/Lisbon:20250707T233000
DTSTAMP:20260422T161144
CREATED:20250620T111938Z
LAST-MODIFIED:20250620T112039Z
UID:2782-1751652000-1751931000@eventosagenda.com
SUMMARY:Moçarria em Festa 2025
DESCRIPTION:De 4 a 7 de julho\, a nossa aldeia volta a encher-se de vida\, tradição e muita animação. Prepara-te para quatro dias inesquecíveis! \n\n\n Um enorme obrigado a todos os patrocinadores que tornaram esta festa possível. Com o vosso apoio\, conseguimos manter viva esta tradição tão especial para todos nós. Esta festa é feita com o coração — e com a força da nossa gente! \n\n\nMarca na tua agenda!\n\n\nMoçaria\, uma festa do outro mundo.
URL:https://eventosagenda.com/event/mocarria-em-festa-2025/
LOCATION:Moçarria\, Moçarria\, Santarém\, Portugal
CATEGORIES:Festas & Festivals
ATTACH;FMTTYPE=image/jpeg:https://eventosagenda.com/wp-content/uploads/2025/06/facebook_1749374174087_7337407095870394969.jpg
END:VEVENT
BEGIN:VEVENT
DTSTART;TZID=Europe/Lisbon:20250704T190000
DTEND;TZID=Europe/Lisbon:20250707T140000
DTSTAMP:20260422T161144
CREATED:20250623T150434Z
LAST-MODIFIED:20250623T150434Z
UID:2886-1751655600-1751896800@eventosagenda.com
SUMMARY:Festas em Honra de São Marcos  '25
DESCRIPTION:Festas em Honra de São Marcos 2025\n4\, 5 e 6 de Julho no Centro Carlos Paredes em São Marcos.\nA época do arraial em honra de padroeiro está quase a chegar e não vai faltar a música\, diversão e as belas bifanas\, sardinhas\, porco no espeto e muitos petiscos!\nApareça nesta grande festa e venha divertir-sr connosco!\nEstamos juntos !\n\n\nFeast in Honor of San Marcos 2025\nJuly 4\, 5\, and 6 at the Carlos Paredes Center in São Marcos.\nPatron’s Honor Barbecue season is almost here and there will be music\, fun and the delicious steaks\, sardines\, pork on the skewers and lots of snacks!\nCome out to this great party and have fun with us!\nWe are together!
URL:https://eventosagenda.com/event/festas-em-honra-de-sao-marcos-25/
LOCATION:Sintra\, Sintra\, Lisboa\, Portugal
CATEGORIES:Festas & Festivals
ATTACH;FMTTYPE=image/jpeg:https://eventosagenda.com/wp-content/uploads/2025/06/facebook_1750672027425_7342850687318876089.jpg
END:VEVENT
BEGIN:VEVENT
DTSTART;TZID=Europe/Lisbon:20250704T190000
DTEND;TZID=Europe/Lisbon:20250707T233000
DTSTAMP:20260422T161144
CREATED:20250623T151157Z
LAST-MODIFIED:20250623T151220Z
UID:2893-1751655600-1751931000@eventosagenda.com
SUMMARY:Grandiosos Festjos 2025 - Rio Maior
DESCRIPTION:
URL:https://eventosagenda.com/event/grandiosos-festjos-2025-rio-maior/
LOCATION:Rio Maior\, Rio Maior\, Santarém\, Portugal
CATEGORIES:Festas & Festivals
ATTACH;FMTTYPE=image/jpeg:https://eventosagenda.com/wp-content/uploads/2025/06/facebook_1750615613365_7342614069602563830.jpg
END:VEVENT
BEGIN:VEVENT
DTSTART;VALUE=DATE:20250705
DTEND;VALUE=DATE:20250728
DTSTAMP:20260422T161144
CREATED:20250605T114826Z
LAST-MODIFIED:20250605T114837Z
UID:2494-1751673600-1753660799@eventosagenda.com
SUMMARY:AgitÁgueda - Águeda
DESCRIPTION:AgitÁgueda is a vibrant\, multi-week summer festival held annually in Águeda\, a small city in central Portugal. It’s most famous for its colourful umbrella sky installation\, which has become an iconic symbol of Portuguese summer creativity and design. \n\n🌂 What Makes AgitÁgueda Special?\n\n\n🌈 Umbrella Sky ProjectStreets are covered with floating umbrellas suspended in mid-air\, casting colourful shadows and creating a whimsical\, Instagram-famous atmosphere. \n\n\n🎶 Free ConcertsEvery night during the festival\, national and international artists perform for free on open-air stages\, covering a range of genres from pop to rock to electronic music. \n\n\n🎨 Urban ArtThe city transforms into an open-air art gallery with street art murals\, sculptures\, and creative installations by artists from around the world. \n\n\n🎭 Street PerformancesThere are daily performances including theatre\, dance\, circus acts\, and parades\, often interactive and playful. \n\n\n👨‍👩‍👧 Family ActivitiesWorkshops\, kids’ zones\, and cultural exhibitions make it a very family-friendly event. \n\n\n🍽️ Food and Artisan MarketsLocal food stalls and crafts markets give visitors a taste of Portuguese cuisine and handmade goods.
URL:https://eventosagenda.com/event/agitagueda-agueda/
LOCATION:Águeda\, Águeda\, Aveiro\, Portugal
CATEGORIES:Arts & Culture,Festas & Festivals,Theatre & Performing Arts
ATTACH;FMTTYPE=image/jpeg:https://eventosagenda.com/wp-content/uploads/2025/06/06.05-27-AGUEDA.jpg
END:VEVENT
BEGIN:VEVENT
DTSTART;TZID=Europe/Lisbon:20250705T100000
DTEND;TZID=Europe/Lisbon:20250707T235900
DTSTAMP:20260422T161144
CREATED:20250701T135551Z
LAST-MODIFIED:20250701T135551Z
UID:2971-1751709600-1751932740@eventosagenda.com
SUMMARY:Ermida 2025
DESCRIPTION:
URL:https://eventosagenda.com/event/ermida-2025/
LOCATION:Ermida\, Ermida\, Castelo Branco\, Portugal
CATEGORIES:Festas & Festivals
ATTACH;FMTTYPE=image/jpeg:https://eventosagenda.com/wp-content/uploads/2025/07/513919779_30046287315018925_7694031940665215011_n.jpg
END:VEVENT
BEGIN:VEVENT
DTSTART;TZID=Europe/Lisbon:20250708T220000
DTEND;TZID=Europe/Lisbon:20250713T220000
DTSTAMP:20260422T161144
CREATED:20250604T065324Z
LAST-MODIFIED:20250604T065343Z
UID:2403-1752012000-1752444000@eventosagenda.com
SUMMARY:Festas do Almonda - Torres Novas
DESCRIPTION:
URL:https://eventosagenda.com/event/festas-do-almonda-torres-novas/
LOCATION:Torres Novas\, Torres Novas\, Santarém\, Portugal
CATEGORIES:Festas & Festivals
ATTACH;FMTTYPE=image/jpeg:https://eventosagenda.com/wp-content/uploads/2025/06/facebook_1748868574558_7335286457746596824.jpg
END:VEVENT
BEGIN:VEVENT
DTSTART;VALUE=DATE:20250710
DTEND;VALUE=DATE:20250714
DTSTAMP:20260422T161144
CREATED:20250516T121443Z
LAST-MODIFIED:20250516T121443Z
UID:1659-1752105600-1752451199@eventosagenda.com
SUMMARY:Festa Templária - Tomar
DESCRIPTION:
URL:https://eventosagenda.com/event/festa-templaria-tomar/
LOCATION:Tomar\, Tomar\, Santarém\, Portugal
CATEGORIES:Festas & Festivals
ATTACH;FMTTYPE=image/jpeg:https://eventosagenda.com/wp-content/uploads/2025/05/Tomar.jpg
END:VEVENT
BEGIN:VEVENT
DTSTART;VALUE=DATE:20250710
DTEND;VALUE=DATE:20250714
DTSTAMP:20260422T161144
CREATED:20250604T083032Z
LAST-MODIFIED:20250604T083032Z
UID:2475-1752105600-1752451199@eventosagenda.com
SUMMARY:Festival da Sardinha da Costa Nova
DESCRIPTION:
URL:https://eventosagenda.com/event/festival-da-sardinha-da-costa-nova/
LOCATION:Costa Nova\, Costa Nova\, Aveiro\, Portugal
CATEGORIES:Festas & Festivals,Food & Drink
ATTACH;FMTTYPE=image/jpeg:https://eventosagenda.com/wp-content/uploads/2025/06/07.10-13-Costa-Nova.jpg
END:VEVENT
BEGIN:VEVENT
DTSTART;TZID=Europe/Lisbon:20250710T190000
DTEND;TZID=Europe/Lisbon:20250713T220000
DTSTAMP:20260422T161144
CREATED:20250619T072122Z
LAST-MODIFIED:20250619T072142Z
UID:2687-1752174000-1752444000@eventosagenda.com
SUMMARY:Festival do Arrepiado - Almoster\, Santarém
DESCRIPTION:
URL:https://eventosagenda.com/event/festival-do-arrepiado-almoster-santarem/
LOCATION:Almoster\, Almoster\, Santarém\, Portugal
CATEGORIES:Festas & Festivals,Sports & Games
ATTACH;FMTTYPE=image/jpeg:https://eventosagenda.com/wp-content/uploads/2025/06/facebook_1750312784775_7341343914436009362.jpg
END:VEVENT
BEGIN:VEVENT
DTSTART;TZID=Europe/Lisbon:20250710T210000
DTEND;TZID=Europe/Lisbon:20250713T233000
DTSTAMP:20260422T161144
CREATED:20250605T125506Z
LAST-MODIFIED:20250605T125506Z
UID:2535-1752181200-1752449400@eventosagenda.com
SUMMARY:Festas de Landeira 2025
DESCRIPTION:
URL:https://eventosagenda.com/event/festas-de-landeira-2025/
LOCATION:Landeira\, Landeira\, Vendas Novas\, Evora
CATEGORIES:Festas & Festivals
ATTACH;FMTTYPE=image/jpeg:https://eventosagenda.com/wp-content/uploads/2025/06/facebook_1749120108195_7336341466283780905.jpg
END:VEVENT
BEGIN:VEVENT
DTSTART;TZID=Europe/Lisbon:20250710T213000
DTEND;TZID=Europe/Lisbon:20250714T235900
DTSTAMP:20260422T161144
CREATED:20250701T191043Z
LAST-MODIFIED:20250701T191144Z
UID:3008-1752183000-1752537540@eventosagenda.com
SUMMARY:Festas de Murça 2025
DESCRIPTION:Cartaz oficial das Festas de Murça 2025! \nE desta vez\, trazemos tudo em grande: com as fotos dos artistas\, conjuntos e DJs que vão animar Murça de 10 a 14 de julho!\n\n\nA contagem decrescente começou e não podíamos estar mais entusiasmados com o que aí vem — grandes nomes\, noites longas e muita animação para todos! \n\n\nConsulta já o cartaz e começa a reunir o teu grupo para as melhores noites do verão. Vai ser épico!\n\n\n Marca na agenda: 10 a 14 de julho\n Em honra de Nosso Senhor dos Aflitos e São Domingos\n Vê o cartaz completo na imagem!\n\n\nA Comissão de Festas 24/25\n\n\n\nOfficial poster for the Mursa Festivities 2025! \nAnd this time\, we bring everything big: with photos of the artists\, sets and DJs that will entertain Murça from July 10th to 14th!\n\n\nThe countdown is on\, and we couldn’t be more excited for what’s to come – big names\, long nights\, and a whole lot of excitement for everyone! \n\n\nCheck the poster now and start assembling your group for the best summer nights. It’s going to be epic!\n\n\n Mark your calendar: July 10 – 14\n In honor of Our Lord of the Suffering and Holy Sundays\n See the full poster in the image!\n\n\nThe Holiday Committee 24/25
URL:https://eventosagenda.com/event/festas-de-murca-2025/
LOCATION:Murça\, Murça\, Vila Real\, Portugal
CATEGORIES:Festas & Festivals
ATTACH;FMTTYPE=image/jpeg:https://eventosagenda.com/wp-content/uploads/2025/07/504359164_17967644687875653_71832687993261512_n.jpg
END:VEVENT
BEGIN:VEVENT
DTSTART;TZID=Europe/Lisbon:20250710T220000
DTEND;TZID=Europe/Lisbon:20250713T220000
DTSTAMP:20260422T161144
CREATED:20250619T075840Z
LAST-MODIFIED:20250619T075901Z
UID:2713-1752184800-1752444000@eventosagenda.com
SUMMARY:Festividades em Honra de São Bento da Várzea - Barcelos
DESCRIPTION:
URL:https://eventosagenda.com/event/festividades-em-honra-de-sao-bento-da-varzea-barcelos/
LOCATION:Várzea\, Várzea\, Barcelos\, Braga
CATEGORIES:Festas & Festivals
ATTACH;FMTTYPE=image/jpeg:https://eventosagenda.com/wp-content/uploads/2025/06/facebook_1750312411223_7341342347643182778.jpg
END:VEVENT
BEGIN:VEVENT
DTSTART;TZID=Europe/Lisbon:20250710T223000
DTEND;TZID=Europe/Lisbon:20250713T223000
DTSTAMP:20260422T161144
CREATED:20250620T143647Z
LAST-MODIFIED:20250620T143701Z
UID:2814-1752186600-1752445800@eventosagenda.com
SUMMARY:Festival da Sardinha - Praia do Pedrógão
DESCRIPTION:
URL:https://eventosagenda.com/event/festival-da-sardinha-praia-do-pedrogao-2/
LOCATION:Praia do Pedrógão\, Praia do Pedrógão\, Leiria\, Portugal
CATEGORIES:Festas & Festivals,Food & Drink
ATTACH;FMTTYPE=image/jpeg:https://eventosagenda.com/wp-content/uploads/2025/06/facebook_1750412577880_7341762477054008149.jpg
END:VEVENT
BEGIN:VEVENT
DTSTART;TZID=Europe/Lisbon:20250711T000000
DTEND;TZID=Europe/Lisbon:20250711T000000
DTSTAMP:20260422T161144
CREATED:20250711T152219Z
LAST-MODIFIED:20250711T152311Z
UID:3224-1752192000-1752192000@eventosagenda.com
SUMMARY:Casais\, Montinho e Vale Porco Festa 2025
DESCRIPTION:
URL:https://eventosagenda.com/event/casais-montinho-e-vale-porco-festa-2025/
LOCATION:Coimbra
CATEGORIES:Festas & Festivals
ATTACH;FMTTYPE=image/jpeg:https://eventosagenda.com/wp-content/uploads/2025/07/facebook_1752099555737_7348838175028486038.jpg
END:VEVENT
BEGIN:VEVENT
DTSTART;VALUE=DATE:20250711
DTEND;VALUE=DATE:20250712
DTSTAMP:20260422T161144
CREATED:20250523T174253Z
LAST-MODIFIED:20250523T174253Z
UID:1950-1752192000-1752278399@eventosagenda.com
SUMMARY:Festas Populares Samouco 2025
DESCRIPTION:
URL:https://eventosagenda.com/event/festas-populares-samouco-2025/
LOCATION:Samouco\, Samouco\,\, Setúbal
CATEGORIES:Festas & Festivals
ATTACH;FMTTYPE=image/jpeg:https://eventosagenda.com/wp-content/uploads/2025/05/492363556_1002333165425897_811368960421675500_n.jpg
END:VEVENT
BEGIN:VEVENT
DTSTART;VALUE=DATE:20250711
DTEND;VALUE=DATE:20250713
DTSTAMP:20260422T161144
CREATED:20250414T210633Z
LAST-MODIFIED:20250414T210714Z
UID:285-1752192000-1752364799@eventosagenda.com
SUMMARY:Festival do Peixe do Rio - São Pedro do Esteval
DESCRIPTION:
URL:https://eventosagenda.com/event/festival-do-peixe-do-rio-sao-pedro-do-esteval/
LOCATION:São Pedro do Esteval\, São Pedro do Esteval\, Proença-A-Nova\, Castelo Branco\, 6150-623
CATEGORIES:Food & Drink
ATTACH;FMTTYPE=image/jpeg:https://eventosagenda.com/wp-content/uploads/2025/04/Peixe.jpg
END:VEVENT
BEGIN:VEVENT
DTSTART;VALUE=DATE:20250711
DTEND;VALUE=DATE:20250714
DTSTAMP:20260422T161144
CREATED:20250601T125713Z
LAST-MODIFIED:20250701T130918Z
UID:2947-1752192000-1752451199@eventosagenda.com
SUMMARY:18° Festival de Marisco '25 - Azóia de Cima
DESCRIPTION:
URL:https://eventosagenda.com/event/18-festival-de-marisco-25-azoia-de-cima/
LOCATION:Azóia de Cima\, Azóia de Cima\, Santarém\, Portugal
CATEGORIES:Festas & Festivals
ATTACH;FMTTYPE=image/jpeg:https://eventosagenda.com/wp-content/uploads/2025/07/facebook_1751142088718_7344822267279542964.jpg
END:VEVENT
BEGIN:VEVENT
DTSTART;VALUE=DATE:20250711
DTEND;VALUE=DATE:20250714
DTSTAMP:20260422T161144
CREATED:20250627T131437Z
LAST-MODIFIED:20250627T131456Z
UID:2931-1752192000-1752451199@eventosagenda.com
SUMMARY:Lagoa Parada - Santiago da Guarda
DESCRIPTION:É já nos próximos dias 11\, 12 e 13 de julho! \nVenham visitar e festejar connosco mais um aniversário dos nossos ranchos folclóricos e da nossa associação \nComeçamos na sexta-feira com a tradicional “Festa da Cerveja”\, passando pela Garraiada\, pela Parada da Lagoa – passeio de motorizadas\, muita música e animação e acabamos no nosso habitual Festival Internacional de Folclore \n\n\nComing up July 11\, 12 and 13! \nCome visit and celebrate with us yet another anniversary of our folk ranches and our association  \nWe start on Friday with the traditional “Beer Festival”\, passing through Garraiada\, through Parada da Lagoa – motorized ride\, lots of music and excitement and we finish with our usual International Folklore Festival
URL:https://eventosagenda.com/event/lagoa-parada-santiago-da-guarda/
LOCATION:Lagoa Parada\, Lagoa\, Parada\, Ansião\, Leiria\, Portugal
CATEGORIES:Festas & Festivals
ATTACH;FMTTYPE=image/jpeg:https://eventosagenda.com/wp-content/uploads/2025/06/facebook_1750831532158_7343519698656608961.jpg
END:VEVENT
BEGIN:VEVENT
DTSTART;VALUE=DATE:20250711
DTEND;VALUE=DATE:20250714
DTSTAMP:20260422T161144
CREATED:20250707T131218Z
LAST-MODIFIED:20250707T131237Z
UID:3078-1752192000-1752451199@eventosagenda.com
SUMMARY:Festa das Coletividades - Campo da Vessada\, Macieira de Sarnes
DESCRIPTION:
URL:https://eventosagenda.com/event/festa-das-coletividades-campo-da-vessada-macieira-de-sarnes/
LOCATION:Macieira de Sarnes\, Campo da Vessada\, Macieira de Sarnes\, Aveiro\, Portugal
CATEGORIES:Festas & Festivals
ATTACH;FMTTYPE=image/jpeg:https://eventosagenda.com/wp-content/uploads/2025/07/facebook_1751822620088_7347676622729679717.jpg
END:VEVENT
BEGIN:VEVENT
DTSTART;TZID=Europe/Lisbon:20250711T093000
DTEND;TZID=Europe/Lisbon:20250713T213000
DTSTAMP:20260422T161144
CREATED:20250619T071554Z
LAST-MODIFIED:20250619T071554Z
UID:2681-1752226200-1752442200@eventosagenda.com
SUMMARY:Festa de Verao - Andreus 2025
DESCRIPTION:
URL:https://eventosagenda.com/event/festa-de-verao-andreus-2025/
LOCATION:Sardoal\, Andreus\, Sardoal\, Santarém\, Portugal
CATEGORIES:Festas & Festivals
ATTACH;FMTTYPE=image/jpeg:https://eventosagenda.com/wp-content/uploads/2025/06/506986117_719025030818090_7787427498235186963_n.jpg
END:VEVENT
BEGIN:VEVENT
DTSTART;TZID=Europe/Lisbon:20250711T100000
DTEND;TZID=Europe/Lisbon:20250713T235900
DTSTAMP:20260422T161144
CREATED:20250620T144257Z
LAST-MODIFIED:20250620T144325Z
UID:2819-1752228000-1752451140@eventosagenda.com
SUMMARY:Festas em Honra do Mártir São Sebastião - Pereiro de Baixo
DESCRIPTION:
URL:https://eventosagenda.com/event/festas-em-honra-do-martir-sao-sebastiao-pereiro-de-baixo/
LOCATION:Pereiro de Abaixo\, Pereiro de Abaixo\, Vila Nova de Poiares\, Coimbra\, Portugal
CATEGORIES:Festas & Festivals
ATTACH;FMTTYPE=image/jpeg:https://eventosagenda.com/wp-content/uploads/2025/06/facebook_1750380968690_7341629898501021065.jpg
END:VEVENT
BEGIN:VEVENT
DTSTART;TZID=Europe/Lisbon:20250711T170000
DTEND;TZID=Europe/Lisbon:20250713T190000
DTSTAMP:20260422T161144
CREATED:20250621T102734Z
LAST-MODIFIED:20250621T102753Z
UID:2842-1752253200-1752433200@eventosagenda.com
SUMMARY:Venda da Esperança 2025
DESCRIPTION:
URL:https://eventosagenda.com/event/venda-da-esperanca-2025/
LOCATION:Venda da Esperança\, Venda da Esperança\, Tábua\, Coimbra\, Portugal
CATEGORIES:Festas & Festivals
ATTACH;FMTTYPE=image/jpeg:https://eventosagenda.com/wp-content/uploads/2025/06/facebook_1750320826110_7341377642238103885.jpg
END:VEVENT
BEGIN:VEVENT
DTSTART;TZID=Europe/Lisbon:20250711T170000
DTEND;TZID=Europe/Lisbon:20250713T230000
DTSTAMP:20260422T161144
CREATED:20250502T183303Z
LAST-MODIFIED:20250502T183303Z
UID:984-1752253200-1752447600@eventosagenda.com
SUMMARY:Festival da Sardinha - Tábua
DESCRIPTION:
URL:https://eventosagenda.com/event/festival-da-sardinha-tabua/
LOCATION:Tábua\, Tábua\, Coimbra\, 3420-330\, Portugal
CATEGORIES:Festas & Festivals,Food & Drink
ATTACH;FMTTYPE=image/jpeg:https://eventosagenda.com/wp-content/uploads/2025/05/Tabua-Sardine.jpg
END:VEVENT
BEGIN:VEVENT
DTSTART;TZID=Europe/Lisbon:20250711T180000
DTEND;TZID=Europe/Lisbon:20250713T180000
DTSTAMP:20260422T161144
CREATED:20250611T162321Z
LAST-MODIFIED:20250611T162342Z
UID:2625-1752256800-1752429600@eventosagenda.com
SUMMARY:Festa de Verão - Pião e Vale da Figueira
DESCRIPTION:
URL:https://eventosagenda.com/event/festa-de-verao-piao-e-vale-da-figueira/
LOCATION:Pião e Vale da Figueira\, Pião e Vale da Figueira\, Oleiros\, Castelo Branco\, Portugal
CATEGORIES:Festas & Festivals
ATTACH;FMTTYPE=image/jpeg:https://eventosagenda.com/wp-content/uploads/2025/06/facebook_1749499855300_7337934241088399579.jpg
END:VEVENT
BEGIN:VEVENT
DTSTART;TZID=Europe/Lisbon:20250711T180000
DTEND;TZID=Europe/Lisbon:20250713T210000
DTSTAMP:20260422T161144
CREATED:20250707T141833Z
LAST-MODIFIED:20250707T141833Z
UID:3121-1752256800-1752440400@eventosagenda.com
SUMMARY:Festividades em Honra de Nossa Senhora da Orada - Beco
DESCRIPTION:
URL:https://eventosagenda.com/event/festividades-em-honra-de-nossa-senhora-da-orada-beco/
LOCATION:Beco\, Beco\, Ferreira do Zêzere\, Santarém\, Portugal
CATEGORIES:Festas & Festivals
ATTACH;FMTTYPE=image/jpeg:https://eventosagenda.com/wp-content/uploads/2025/07/facebook_1751456083595_7346139257250078932.jpg
END:VEVENT
BEGIN:VEVENT
DTSTART;TZID=Europe/Lisbon:20250711T190000
DTEND;TZID=Europe/Lisbon:20250712T235900
DTSTAMP:20260422T161144
CREATED:20250619T073734Z
LAST-MODIFIED:20250619T074333Z
UID:2703-1752260400-1752364740@eventosagenda.com
SUMMARY:Festival do Piexe do Rio - São Pedro do Esteval
DESCRIPTION:RIVER FISH FESTIVAL 2025\n S. Pedro do Esteval | Start-a-New\nJuly 11 & 12\, 2025\n\n\nThe 6th edition of the River Fish Festival in São Pedro do Esteval is almost here!\nTwo days of much excitement and traditional flavors.\n\n\n July 11\n19h00 – João Carvalho & Diogo da Gaita\n9:30 pm – Fabio Farinha & Rosebel Rodrigues\n00h00 – DJ Valelo\n\n\n July 12\n2:00 pm – Stray Dogs (Bully’s)\n16h00 – Live Kitchen with Victor\, Luis and Nuno Sabino\n6:00 pm – Out of Hours\n10:30 pm – Jose Malhoa\n23h30 – Banda Estilus\n\n\n Gastronomy with a taste of the river and  Guaranteed entertainment.\n\n\nWe count on everyone’s presence to celebrate what is ours\, promote our traditions and live two unforgettable days.\n\n\n Share with friends and family — everyone is welcome!\n\n\nParish Board of S. Peter of Esteval\nSupports: Municipality of Proence-a-Nova | Vitalis
URL:https://eventosagenda.com/event/festival-do-piexe-do-rio-sao-pedro-do-esteval/
LOCATION:São Pedro do Esteval\, São Pedro do Esteval\, Proença-A-Nova\, Castelo Branco\, 6150-623
CATEGORIES:Festas & Festivals,Food & Drink
ATTACH;FMTTYPE=image/jpeg:https://eventosagenda.com/wp-content/uploads/2025/06/facebook_1750180571960_7340789373694869201.jpg
END:VEVENT
END:VCALENDAR