BEGIN:VCALENDAR
VERSION:2.0
PRODID:-// - ECPv6.15.20//NONSGML v1.0//EN
CALSCALE:GREGORIAN
METHOD:PUBLISH
X-ORIGINAL-URL:https://eventosagenda.com
X-WR-CALDESC:Events for 
REFRESH-INTERVAL;VALUE=DURATION:PT1H
X-Robots-Tag:noindex
X-PUBLISHED-TTL:PT1H
BEGIN:VTIMEZONE
TZID:Europe/Lisbon
BEGIN:DAYLIGHT
TZOFFSETFROM:+0000
TZOFFSETTO:+0100
TZNAME:WEST
DTSTART:20240331T010000
END:DAYLIGHT
BEGIN:STANDARD
TZOFFSETFROM:+0100
TZOFFSETTO:+0000
TZNAME:WET
DTSTART:20241027T010000
END:STANDARD
BEGIN:DAYLIGHT
TZOFFSETFROM:+0000
TZOFFSETTO:+0100
TZNAME:WEST
DTSTART:20250330T010000
END:DAYLIGHT
BEGIN:STANDARD
TZOFFSETFROM:+0100
TZOFFSETTO:+0000
TZNAME:WET
DTSTART:20251026T010000
END:STANDARD
BEGIN:DAYLIGHT
TZOFFSETFROM:+0000
TZOFFSETTO:+0100
TZNAME:WEST
DTSTART:20260329T010000
END:DAYLIGHT
BEGIN:STANDARD
TZOFFSETFROM:+0100
TZOFFSETTO:+0000
TZNAME:WET
DTSTART:20261025T010000
END:STANDARD
END:VTIMEZONE
BEGIN:VEVENT
DTSTART;TZID=Europe/Lisbon:20250519T203000
DTEND;TZID=Europe/Lisbon:20250525T233000
DTSTAMP:20260422T191154
CREATED:20250430T110535Z
LAST-MODIFIED:20250430T110551Z
UID:812-1747686600-1748215800@eventosagenda.com
SUMMARY:Festas em Honra de Nossa Senhora da Encarnação - Campo\, Valongo
DESCRIPTION:It is with great pleasure that we reveal our official poster\, as well as our sponsors. We thank everyone who in one way or another contributed and continue to contribute to the success of the Feast in Honor of Our Lady of the Incarnation. We count on everyone’s support to celebrate and perpetuate this special tradition\, which enriches our parish.
URL:https://eventosagenda.com/event/festas-em-honra-de-nossa-senhora-da-encarnacao-campo-valongo/
LOCATION:Campo\, Valongo\, Porto\, Portugal
CATEGORIES:Festas & Festivals
ATTACH;FMTTYPE=image/jpeg:https://eventosagenda.com/wp-content/uploads/2025/04/facebook_1745971904331_7323136942226306056.jpg
END:VEVENT
BEGIN:VEVENT
DTSTART;VALUE=DATE:20250522
DTEND;VALUE=DATE:20250526
DTSTAMP:20260422T191154
CREATED:20250420T171716Z
LAST-MODIFIED:20250420T171716Z
UID:441-1747872000-1748217599@eventosagenda.com
SUMMARY:Festa Milagres en honra de Nossa Senhora da Graça - Milagres\, Leiria
DESCRIPTION:
URL:https://eventosagenda.com/event/festa-milagres-en-honra-de-nossa-senhora-da-graca-milagres-leiria/
LOCATION:Pindelo dos Milagres\, Pindelo dos Milagres\, São Pedro do Sul\, Viseu\, Portugal
CATEGORIES:Festas & Festivals
ATTACH;FMTTYPE=image/jpeg:https://eventosagenda.com/wp-content/uploads/2025/04/MIlagres.jpg
END:VEVENT
BEGIN:VEVENT
DTSTART;VALUE=DATE:20250522
DTEND;VALUE=DATE:20250526
DTSTAMP:20260422T191154
CREATED:20250420T180146Z
LAST-MODIFIED:20250420T180424Z
UID:461-1747872000-1748217599@eventosagenda.com
SUMMARY:Festa em honra de nossa Senhora do Rosário - Santo Tirso de Prazins\, Guimarães
DESCRIPTION:Festas da Nossa Senhora do Rosário 2025 em Santo Tirso de Prazins Guimarães\n\nPrograma da Festa em Honra de Nossa Senhora do Rosário 2025 \nLocal: Santo Tirso de Prazins\, Guimarães\nDatas: 22 a 25 de maio de 2025 \nPrograma Completo \n22 de Maio – Quinta-feira \n\n\n20h30: Oração do terço seguida de eucaristia e pregação \n\n\n23 de Maio – Sexta-feira \n\n\n20h30: Oração do terço seguida de eucaristia e pregação \n\n\n22h00: Festival de Ranchos Folclóricos \n\n\nGrupo Folclórico de Souto S. Salvador \n\n\nGrupo Etnográfico Rusga de Joane \n\n\nGrupo Folclórico da Vila de Ponte \n\n\n\n\n00h00: Sessão de fogo de artifício \n\n\n24 de Maio – Sábado \n\n\n08h00: Alvorada com “Grupo Zés Pereiras” de S. Paio de Vizela \n\n\n20h30: Pregação seguida de procissão de velas (saída da rua N.ª S.ª Rosário) \n\n\n22h00: Atuação da artista Rosinha \n\n\n00h00: Sessão de fogo de artifício \n\n\n00h30: Atuação do DJ BRUTOS \n\n\n25 de Maio – Domingo \n\n\n10h00: Oração do terço \n\n\n10h30: Eucaristia em honra de N.ª S.ª do Rosário\, solenizada com o Grupo Coral da Freguesia \n\n\n15h00: Desfile do Café da Fonte até à Igreja \n\n\n16h00: Pregação \n\n\n16h30: Saída da procissão acompanhada pelos Escuteiros de Santo Tirso de Prazins e Banda Musical Caldas das Taipas \n\n\n21h00: Atuação do artista Carlos Ribeiro \n\n\n23h00: Sessão de fogo de artifício \n\n\nA Festa em Honra de Nossa Senhora do Rosário é uma das mais tradicionais e aguardadas celebrações religiosas e culturais da freguesia de Santo Tirso de Prazins\, no concelho de Guimarães. Realizada anualmente\, esta festa destaca-se pela forte componente religiosa\, mas também pelo seu programa cultural e recreativo\, que envolve toda a comunidade local e atrai visitantes de várias regiões. \nCariz Religioso \nO ponto alto da festa é a devoção a Nossa Senhora do Rosário\, padroeira da freguesia. As cerimónias religiosas incluem a oração do terço\, eucaristias solenes\, pregações e procissões\, especialmente a procissão de velas e a grande procissão de domingo\, acompanhada pelos escuteiros e banda musical\, que percorre as ruas da localidade. Estes momentos são vividos com grande fé e emoção\, sendo tradição a participação de várias gerações de famílias locais. \nPrograma Cultural e Recreativo \nO cartaz da festa oferece uma programação diversificada: \n\n\nFestival de Ranchos Folclóricos: Na sexta-feira\, grupos folclóricos locais e convidados apresentam danças e músicas tradicionais\, preservando e divulgando o património cultural minhoto. \n\n\nAtuações Musicais: Destaque para a presença da popular artista Rosinha\, conhecida pelo seu repertório animado de música popular portuguesa\, e do cantor Carlos Ribeiro\, além de animação noturna com o DJ BRUTOS. \n\n\nFogo de Artifício: As noites de sexta\, sábado e domingo são marcadas por espetaculares sessões de fogo de artifício\, que iluminam o céu e são um dos momentos mais aguardados pelos participantes. \n\n\nDesfiles e Alvoradas: O desfile do Café da Fonte até à igreja e a alvorada com os tradicionais Zés Pereiras são momentos de grande animação e tradição. \n\n\nEnvolvimento da Comunidade \nA festa conta com a colaboração ativa de associações locais\, como os escuteiros de Santo Tirso de Prazins e o Grupo Coral da Freguesia\, além do apoio de patrocinadores e voluntários. Este envolvimento garante o sucesso do evento e reforça os laços de união e identidade da comunidade. \nImportância Cultural e Social \nMais do que uma celebração religiosa\, a Festa em Honra de Nossa Senhora do Rosário é um momento de reencontro\, convívio e partilha\, onde se cruzam tradição\, fé e animação. É uma oportunidade para reviver costumes antigos\, fortalecer a identidade local e proporcionar momentos de alegria e lazer a todos os participantes. \nA Festa em Honra de Nossa Senhora do Rosário\, em Santo Tirso de Prazins\, é um evento marcante do calendário festivo de Guimarães\, conjugando devoção\, tradição e animação. O programa de 2025 promete quatro dias intensos de celebração\, com destaque para as cerimónias religiosas\, folclore\, música popular e espetáculos pirotécnicos\, numa verdadeira festa para toda a família. \nFestas da Nossa Senhora do Rosário 2025 em Santo Tirso de Prazins Guimarães
URL:https://eventosagenda.com/event/festa-em-honra-de-nossa-senhora-do-rosario-santo-tirso-de-prazins-guimaraes/
LOCATION:Guimarães\, Santo Tirso de Prazins\, Guimarães\, Braga\, Portugal
CATEGORIES:Festas & Festivals
ATTACH;FMTTYPE=image/jpeg:https://eventosagenda.com/wp-content/uploads/2025/04/Guimaraes.jpg
END:VEVENT
BEGIN:VEVENT
DTSTART;TZID=Europe/Lisbon:20250522T180000
DTEND;TZID=Europe/Lisbon:20250526T213000
DTSTAMP:20260422T191154
CREATED:20250502T114009Z
LAST-MODIFIED:20250502T114027Z
UID:935-1747936800-1748295000@eventosagenda.com
SUMMARY:Festa em honra de Santa Rita e São Gonçalo - Grijó
DESCRIPTION:
URL:https://eventosagenda.com/event/festa-em-honra-de-santa-rita-e-sao-goncalo-grijo/
LOCATION:Grijó\, Vila Nova de Gaia\, Porto\, Portugal
CATEGORIES:Festas & Festivals
ATTACH;FMTTYPE=image/jpeg:https://eventosagenda.com/wp-content/uploads/2025/05/facebook_1746172632633_7323978857745583184.jpg
END:VEVENT
BEGIN:VEVENT
DTSTART;TZID=Europe/Lisbon:20250522T190000
DTEND;TZID=Europe/Lisbon:20250525T233000
DTSTAMP:20260422T191154
CREATED:20250504T103238Z
LAST-MODIFIED:20250504T103854Z
UID:1008-1747940400-1748215800@eventosagenda.com
SUMMARY:Festival da Cereja 2025 - Seixezelo
DESCRIPTION:Coming up on the 18th the CHERRY FESTIVAL edition \n\n\nFrom May 22 to 25\, the Parque das Corgas in Seixezelo is filled with rhythm\, flavor and excitement!\n\n\n4 days of pure fun with:\n Traditional music\, folk and DJ’s\n Live performances with Augusto Canario & Friends\, Tanya\, Daniel Fernandes and more!\n  Charity Run & Walk\n Dessert contest\n Shows\, fireworks and fun until the dawn!\n\n\nMark your calendar\, gather your family and friends\, and come celebrate the Cherry with a lot of energy and joy!
URL:https://eventosagenda.com/event/festival-da-cereja-2025-seixezelo/
LOCATION:Seixezelo\, Vila Nova de Gaia\, Porto\, Portugal
CATEGORIES:Festas & Festivals
ATTACH;FMTTYPE=image/jpeg:https://eventosagenda.com/wp-content/uploads/2025/05/facebook_1746328325121_7324631879371902582.jpg
END:VEVENT
BEGIN:VEVENT
DTSTART;TZID=Europe/Lisbon:20250522T220000
DTEND;TZID=Europe/Lisbon:20250522T233000
DTSTAMP:20260422T191154
CREATED:20250504T105809Z
LAST-MODIFIED:20250504T105809Z
UID:1017-1747951200-1747956600@eventosagenda.com
SUMMARY:Festas em honra de Nossa Senhora do Livramento 2025 - Fragoso
DESCRIPTION:
URL:https://eventosagenda.com/event/festas-em-honra-de-nossa-senhora-do-livramento-2025-fragoso/
LOCATION:Fragoso\, Barcelos\, Braga\, Portugal
CATEGORIES:Festas & Festivals
ATTACH;FMTTYPE=image/jpeg:https://eventosagenda.com/wp-content/uploads/2025/05/facebook_1746328291320_7324631737598516330.jpg
END:VEVENT
BEGIN:VEVENT
DTSTART;VALUE=DATE:20250523
DTEND;VALUE=DATE:20250525
DTSTAMP:20260422T191154
CREATED:20250505T164154Z
LAST-MODIFIED:20250505T164439Z
UID:1094-1747958400-1748131199@eventosagenda.com
SUMMARY:Festival José Afonso - Malpica Do Tejo
DESCRIPTION:
URL:https://eventosagenda.com/event/malpica-do-tejo/
LOCATION:Malpica do Tejo\, Castelo Branco\, Castelo Branco\, Portugal
CATEGORIES:Fado, Concerts & Music
ATTACH;FMTTYPE=image/jpeg:https://eventosagenda.com/wp-content/uploads/2025/05/facebook_1746285073958_7324450470842983062.jpg
END:VEVENT
BEGIN:VEVENT
DTSTART;VALUE=DATE:20250523
DTEND;VALUE=DATE:20250526
DTSTAMP:20260422T191154
CREATED:20250414T211110Z
LAST-MODIFIED:20250523T120605Z
UID:289-1747958400-1748217599@eventosagenda.com
SUMMARY:Festival da Cereja e do Limão - Montes da Senhora
DESCRIPTION:🍒Cherry Lemon Festival🍋 \n📍 Montes da Senhora 📅 23\, 24 and 25 May \nThree days filled with music\, tradition\, local flavors and plenty of fun for all ages\, featuring: \n▶Fados by Telma Pires and Concerts with Rouxinol Faduncho\, Electric Talhadas\, Jorge Gonçalves Trio and more musical entertainment; \n▶ Cherry Run & Pedestrian Walk; \n▶ Ranch Festival; \n▶ Showcooking with Gonzalo Martins; \n▶ Cultural activities and local market! \n📍Mark your calendar and come celebrate with us the cherry\, the lemon and our traditions! \n#festival #cereja #limao #gastronomia #feira #festa #maio #musica #animacao #passeiopedestre #passeio #corrida #desporto
URL:https://eventosagenda.com/event/festival-da-cereja-e-do-limao-montes-da-senhora/
LOCATION:Montes da Senhora\, Montes da Senhora\, Castelo Branco\, 6150-128\, Portugal
CATEGORIES:Festas & Festivals,Food & Drink
ATTACH;FMTTYPE=image/jpeg:https://eventosagenda.com/wp-content/uploads/2025/04/492810060_3274659916021833_5270175899477598853_n.jpg
END:VEVENT
BEGIN:VEVENT
DTSTART;VALUE=DATE:20250523
DTEND;VALUE=DATE:20250526
DTSTAMP:20260422T191154
CREATED:20250416T174152Z
LAST-MODIFIED:20250416T175355Z
UID:368-1747958400-1748217599@eventosagenda.com
SUMMARY:17 Feira Queijo Soalheira - 17th Cheese Fair\, Soalheira
DESCRIPTION:
URL:https://eventosagenda.com/event/17-feira-queijo-soalheira-17th-cheese-fair-soalheira/
LOCATION:Soalheira\, Soalheira\, Fundão\, Castelo Branco\, Portugal
CATEGORIES:Festas & Festivals,Food & Drink
ATTACH;FMTTYPE=image/jpeg:https://eventosagenda.com/wp-content/uploads/2025/04/Soalheira.jpg
END:VEVENT
BEGIN:VEVENT
DTSTART;VALUE=DATE:20250523
DTEND;VALUE=DATE:20250526
DTSTAMP:20260422T191154
CREATED:20250423T114521Z
LAST-MODIFIED:20250423T114521Z
UID:537-1747958400-1748217599@eventosagenda.com
SUMMARY:Festival das Flores
DESCRIPTION:
URL:https://eventosagenda.com/event/festival-das-flores/
LOCATION:Aldeia Santa Margarida\, Aldeia de Santa Margarida\, Idanha-a-Nova\, Castelo Branco\, Portugal
CATEGORIES:Festas & Festivals
ATTACH;FMTTYPE=image/jpeg:https://eventosagenda.com/wp-content/uploads/2025/04/Festival-das-Flores.jpg
END:VEVENT
BEGIN:VEVENT
DTSTART;TZID=Europe/Lisbon:20250523T140000
DTEND;TZID=Europe/Lisbon:20250529T203000
DTSTAMP:20260422T191154
CREATED:20250502T182012Z
LAST-MODIFIED:20250502T182026Z
UID:968-1748008800-1748550600@eventosagenda.com
SUMMARY:Grocinas Festa 2025 - Penela
DESCRIPTION:
URL:https://eventosagenda.com/event/grocinas-festa-2025-penela/
LOCATION:Grocinas\, Penela\, Coimbra\, Portugal
CATEGORIES:Festas & Festivals
ATTACH;FMTTYPE=image/jpeg:https://eventosagenda.com/wp-content/uploads/2025/05/Grocinas-Penela.jpg
END:VEVENT
BEGIN:VEVENT
DTSTART;TZID=Europe/Lisbon:20250523T170000
DTEND;TZID=Europe/Lisbon:20250524T000000
DTSTAMP:20260422T191154
CREATED:20250512T135827Z
LAST-MODIFIED:20250512T135849Z
UID:1414-1748019600-1748044800@eventosagenda.com
SUMMARY:Tábua de Cervejas 2025
DESCRIPTION:
URL:https://eventosagenda.com/event/tabua-de-cervejas-2025/
LOCATION:Tábua\, Tábua\, Coimbra\, 3420-330\, Portugal
CATEGORIES:Festas & Festivals,Food & Drink
ATTACH;FMTTYPE=image/jpeg:https://eventosagenda.com/wp-content/uploads/2025/05/496826426_17860502310408730_1250248658635556819_n.jpg
END:VEVENT
BEGIN:VEVENT
DTSTART;TZID=Europe/Lisbon:20250523T170000
DTEND;TZID=Europe/Lisbon:20250525T160000
DTSTAMP:20260422T191154
CREATED:20250513T192157Z
LAST-MODIFIED:20250513T192241Z
UID:1540-1748019600-1748188800@eventosagenda.com
SUMMARY:12° Festival do Vinho do Douro Superior - Foz Côa
DESCRIPTION:
URL:https://eventosagenda.com/event/12-festival-do-vinho-do-douro-superior-foz-coa/
LOCATION:Foz Côa\, Foz Côa\, Guarda\, Portugal
CATEGORIES:Festas & Festivals,Food & Drink
ATTACH;FMTTYPE=image/jpeg:https://eventosagenda.com/wp-content/uploads/2025/05/495124680_684592597667775_3907263255444418928_n.jpg
END:VEVENT
BEGIN:VEVENT
DTSTART;TZID=Europe/Lisbon:20250523T180000
DTEND;TZID=Europe/Lisbon:20250524T000000
DTSTAMP:20260422T191154
CREATED:20250512T140224Z
LAST-MODIFIED:20250512T140242Z
UID:1417-1748023200-1748044800@eventosagenda.com
SUMMARY:Wine & Blues Festival - Viana do Castelo
DESCRIPTION:
URL:https://eventosagenda.com/event/wine-blues-festival/
LOCATION:Viana do Castelo\, Viana do Castelo\, Alto Minho\, Portugal
CATEGORIES:Festas & Festivals,Food & Drink
ATTACH;FMTTYPE=image/jpeg:https://eventosagenda.com/wp-content/uploads/2025/05/facebook_1746979940401_7327364951947509540.jpg
END:VEVENT
BEGIN:VEVENT
DTSTART;TZID=Europe/Lisbon:20250523T180000
DTEND;TZID=Europe/Lisbon:20250525T233000
DTSTAMP:20260422T191154
CREATED:20250507T160011Z
LAST-MODIFIED:20250507T160011Z
UID:1171-1748023200-1748215800@eventosagenda.com
SUMMARY:28° Feira de Sabores - Envendos
DESCRIPTION:
URL:https://eventosagenda.com/event/28-feira-de-sabores-envendos/
LOCATION:Envendos\, Mação\, Santarém\, Portugal
CATEGORIES:Festas & Festivals
ATTACH;FMTTYPE=image/jpeg:https://eventosagenda.com/wp-content/uploads/2025/05/facebook_1746628918031_7325892657414482174.jpg
END:VEVENT
BEGIN:VEVENT
DTSTART;TZID=Europe/Lisbon:20250523T190000
DTEND;TZID=Europe/Lisbon:20250525T210000
DTSTAMP:20260422T191154
CREATED:20250429T223928Z
LAST-MODIFIED:20250429T223928Z
UID:746-1748026800-1748206800@eventosagenda.com
SUMMARY:Festa em Honra de Nossa Senhora de Fátima - Famalicão\,
DESCRIPTION:
URL:https://eventosagenda.com/event/festa-em-honra-de-nossa-senhora-de-fatima-famalicao/
LOCATION:Famalicão\, Famalicão\, Nazaré\, Leiria\, Portugal
CATEGORIES:Festas & Festivals
ATTACH;FMTTYPE=image/jpeg:https://eventosagenda.com/wp-content/uploads/2025/04/facebook_1745827063991_7322529437808472739.jpg
END:VEVENT
BEGIN:VEVENT
DTSTART;TZID=Europe/Lisbon:20250523T193000
DTEND;TZID=Europe/Lisbon:20250523T220000
DTSTAMP:20260422T191154
CREATED:20250430T155746Z
LAST-MODIFIED:20250430T155746Z
UID:857-1748028600-1748037600@eventosagenda.com
SUMMARY:Mega Aula Zumba -
DESCRIPTION:
URL:https://eventosagenda.com/event/mega-aula-zumba/
LOCATION:Águeda\, Águeda\, Aveiro\, Portugal
CATEGORIES:Sports & Games
ATTACH;FMTTYPE=image/jpeg:https://eventosagenda.com/wp-content/uploads/2025/04/facebook_1745175904778_7319798278115779219.jpg
END:VEVENT
BEGIN:VEVENT
DTSTART;TZID=Europe/Lisbon:20250523T193000
DTEND;TZID=Europe/Lisbon:20250525T153000
DTSTAMP:20260422T191154
CREATED:20250520T115740Z
LAST-MODIFIED:20250520T115754Z
UID:1831-1748028600-1748187000@eventosagenda.com
SUMMARY:X Festival Gastronomico da Vitela de Lafoes - Vouzela
DESCRIPTION:
URL:https://eventosagenda.com/event/x-festival-gastronomico-da-vitela-de-lafoes/
LOCATION:Vouzela\, Vouzela\, Viseu\, Portugal
CATEGORIES:Festas & Festivals,Food & Drink
ATTACH;FMTTYPE=image/jpeg:https://eventosagenda.com/wp-content/uploads/2025/05/facebook_1747643341844_7330147459273335555.jpg
END:VEVENT
BEGIN:VEVENT
DTSTART;TZID=Europe/Lisbon:20250523T210000
DTEND;TZID=Europe/Lisbon:20250525T210000
DTSTAMP:20260422T191154
CREATED:20250502T111904Z
LAST-MODIFIED:20250502T111904Z
UID:924-1748034000-1748206800@eventosagenda.com
SUMMARY:Festa em Honra de São Sebastião - Pisões
DESCRIPTION:
URL:https://eventosagenda.com/event/festa-em-honra-de-sao-sebastiao-pisoes/
LOCATION:Pisões\, Alcobaça\, Leiria\, Portugal
CATEGORIES:Festas & Festivals
ATTACH;FMTTYPE=image/jpeg:https://eventosagenda.com/wp-content/uploads/2025/05/facebook_1746099326584_7323671389889224094.jpg
END:VEVENT
BEGIN:VEVENT
DTSTART;TZID=Europe/Lisbon:20250523T210000
DTEND;TZID=Europe/Lisbon:20250526T223000
DTSTAMP:20260422T191154
CREATED:20250430T114543Z
LAST-MODIFIED:20250430T114603Z
UID:836-1748034000-1748298600@eventosagenda.com
SUMMARY:Festa Nossa Senhora da Hora 2025 - Gião / Feira
DESCRIPTION:
URL:https://eventosagenda.com/event/festa-nossa-senhora-da-hora-2025-giao-feira/
LOCATION:Gião / Feira\, Santa Maria da Feira\, Aveiro\, Portugal
CATEGORIES:Festas & Festivals
ATTACH;FMTTYPE=image/jpeg:https://eventosagenda.com/wp-content/uploads/2025/04/493933782_1376248400164247_5665312132347054969_n.jpg
END:VEVENT
BEGIN:VEVENT
DTSTART;TZID=Europe/Lisbon:20250523T213000
DTEND;TZID=Europe/Lisbon:20250523T213000
DTSTAMP:20260422T191154
CREATED:20250505T154927Z
LAST-MODIFIED:20250505T154943Z
UID:1054-1748035800-1748035800@eventosagenda.com
SUMMARY:Noite de Fados - Aguda\, Arcozelo
DESCRIPTION:
URL:https://eventosagenda.com/event/noite-de-fados-aguda-arcozelo/
LOCATION:Aguda\, Salão Nobre Dos Bombeiros Voluntários Da Aguda\, Aguda\, Arcozelo\, Porto\, Portugal
CATEGORIES:Fado, Concerts & Music
ATTACH;FMTTYPE=image/jpeg:https://eventosagenda.com/wp-content/uploads/2025/05/facebook_1746443513545_7325115014639772995.jpg
END:VEVENT
BEGIN:VEVENT
DTSTART;TZID=Europe/Lisbon:20250523T220000
DTEND;TZID=Europe/Lisbon:20250524T220000
DTSTAMP:20260422T191154
CREATED:20250508T081145Z
LAST-MODIFIED:20250508T081805Z
UID:1285-1748037600-1748124000@eventosagenda.com
SUMMARY:Festa das Ladainhas - Silveira 2025
DESCRIPTION:
URL:https://eventosagenda.com/event/festa-das-ladainhas-silveira-2025/
LOCATION:Silveira\, Silveira\, Lisboa\, Portugal
CATEGORIES:Festas & Festivals
ATTACH;FMTTYPE=image/jpeg:https://eventosagenda.com/wp-content/uploads/2025/05/facebook_1746687040698_7326136441549377892.jpg
END:VEVENT
BEGIN:VEVENT
DTSTART;TZID=Europe/Lisbon:20250523T220000
DTEND;TZID=Europe/Lisbon:20250525T180000
DTSTAMP:20260422T191154
CREATED:20250513T191240Z
LAST-MODIFIED:20250513T191240Z
UID:1532-1748037600-1748196000@eventosagenda.com
SUMMARY:IV Congresso das Migas - Mourão
DESCRIPTION:
URL:https://eventosagenda.com/event/iv-congresso-das-migas-mourao/
LOCATION:Mourão\, Mourão\, Santarém\, Portugal
CATEGORIES:Festas & Festivals
ATTACH;FMTTYPE=image/jpeg:https://eventosagenda.com/wp-content/uploads/2025/05/facebook_1747133399589_7328008606433301590.jpg
END:VEVENT
BEGIN:VEVENT
DTSTART;TZID=Europe/Lisbon:20250523T220000
DTEND;TZID=Europe/Lisbon:20250526T220000
DTSTAMP:20260422T191154
CREATED:20250506T152552Z
LAST-MODIFIED:20250517T104803Z
UID:1134-1748037600-1748296800@eventosagenda.com
SUMMARY:Festa de Póvoa de Sobrinhos 2025
DESCRIPTION:Festa de Póvoa de Sobrinhos 2025\n4 dias de muitas animação!\nDia 23 – Banda Europa\nDia 23 – ONE GROUP\nDia 24 – GRUPO K7\nDia 25 – BANDA TIME\n\n\nVamos lá?\n\n  \nNephews Shower Party 2025\n4 days of much excitement!\nDay 23 – Band Europe\nDia 23 – ONE GROUP\nDay 24 – K7 GROUP\nDay 25 – TEAM BAND
URL:https://eventosagenda.com/event/festa-de-povoa-de-sobrinhos-2025/
LOCATION:Póvoa de Sobrinhos\, Viseu\, Viseu\, Portugal
CATEGORIES:Festas & Festivals
ATTACH;FMTTYPE=image/jpeg:https://eventosagenda.com/wp-content/uploads/2025/05/facebook_1747401513594_7329133158076186037.jpg
END:VEVENT
BEGIN:VEVENT
DTSTART;TZID=Europe/Lisbon:20250523T223000
DTEND;TZID=Europe/Lisbon:20250526T220000
DTSTAMP:20260422T191154
CREATED:20250425T165610Z
LAST-MODIFIED:20250425T165643Z
UID:618-1748039400-1748296800@eventosagenda.com
SUMMARY:Festa do Parque - São João da Madeira
DESCRIPTION:
URL:https://eventosagenda.com/event/festa-do-parque-sao-joao-da-madeira/
LOCATION:São João da Madeira\, São João da Madeira\, Aveiro\, Portugal
CATEGORIES:Festas & Festivals
ATTACH;FMTTYPE=image/jpeg:https://eventosagenda.com/wp-content/uploads/2025/04/facebook_1745427037897_7320851606762023493.jpg
END:VEVENT
BEGIN:VEVENT
DTSTART;VALUE=DATE:20250524
DTEND;VALUE=DATE:20250525
DTSTAMP:20260422T191154
CREATED:20250507T215316Z
LAST-MODIFIED:20250507T215327Z
UID:1250-1748044800-1748131199@eventosagenda.com
SUMMARY:Alcains Conecta - Casa do Povo de Alcains
DESCRIPTION:O cartaz oficial do Alcains Conecta chegou!\n\n\nNo dia 24 de maio\, a Casa do Povo de Alcains transforma-se num palco de celebração com música\, teatro\, artes plásticas e workshops.\n\n\nDe Custódio Castelo a Bons Rapazes\, de Freimatt a Terceira Pessoa\, a vila vai vibrar com talento\, energia e criatividade.\n\n\nE tu\, qual é o teu tipo de arte?\n\n\n\n\nThe official Alcains Connect poster has arrived!\n\n\nOn May 24\, the House of the People of Alcains transforms into a stage of celebration with music\, theater\, fine arts and workshops.\n\n\nFrom Castle Custodian to Good Guys\, Freimatt to Third Person\, the town will vibrate with talent\, energy and creativity.\n\n\nAnd you\, what’s your type of art?
URL:https://eventosagenda.com/event/alcains-conecta-casa-do-povo-de-alcains/
LOCATION:Casa do Povo de Alcains\, Alcains\, Castelo Branco\, Portugal
CATEGORIES:Arts & Culture,Festas & Festivals
ATTACH;FMTTYPE=image/jpeg:https://eventosagenda.com/wp-content/uploads/2025/05/Alcains.jpg
END:VEVENT
BEGIN:VEVENT
DTSTART;VALUE=DATE:20250524
DTEND;VALUE=DATE:20250602
DTSTAMP:20260422T191154
CREATED:20250506T204658Z
LAST-MODIFIED:20250506T204658Z
UID:1140-1748044800-1748822399@eventosagenda.com
SUMMARY:Ascensão e na Chamusca 2025
DESCRIPTION:
URL:https://eventosagenda.com/event/ascensao-e-na-chamusca-2025/
LOCATION:Chamusca\, Ribatejo\, Santarém\, Portugal
CATEGORIES:Festas & Festivals
ATTACH;FMTTYPE=image/jpeg:https://eventosagenda.com/wp-content/uploads/2025/05/Chamusca.jpg
END:VEVENT
BEGIN:VEVENT
DTSTART;TZID=Europe/Lisbon:20250524T080000
DTEND;TZID=Europe/Lisbon:20250524T170000
DTSTAMP:20260422T191154
CREATED:20250502T113527Z
LAST-MODIFIED:20250502T113527Z
UID:931-1748073600-1748106000@eventosagenda.com
SUMMARY:Passeio Cavalos e Tratores - Maçal do Chão
DESCRIPTION:
URL:https://eventosagenda.com/event/passeio-cavalos-e-tratores-macal-do-chao/
LOCATION:Maçal do Chão\, Celorico da Beira\, Guarda\, Portugal
CATEGORIES:Community,Tours & Trips
ATTACH;FMTTYPE=image/jpeg:https://eventosagenda.com/wp-content/uploads/2025/05/facebook_1746172591812_7323978686528073640.jpg
END:VEVENT
BEGIN:VEVENT
DTSTART;TZID=Europe/Lisbon:20250524T103000
DTEND;TZID=Europe/Lisbon:20250524T190000
DTSTAMP:20260422T191154
CREATED:20250516T122415Z
LAST-MODIFIED:20250516T122415Z
UID:1670-1748082600-1748113200@eventosagenda.com
SUMMARY:Festival Intercultural - Côja
DESCRIPTION:
URL:https://eventosagenda.com/event/festival-intercultural-coja/
LOCATION:Côja\, Coja\, Arganil\, Coimbra\, Portugal
CATEGORIES:Festas & Festivals
ATTACH;FMTTYPE=image/jpeg:https://eventosagenda.com/wp-content/uploads/2025/05/facebook_1747320406544_7328792970455731395.jpg
END:VEVENT
BEGIN:VEVENT
DTSTART;TZID=Europe/Lisbon:20250524T110000
DTEND;TZID=Europe/Lisbon:20250524T170000
DTSTAMP:20260422T191154
CREATED:20250430T094453Z
LAST-MODIFIED:20250430T094604Z
UID:780-1748084400-1748106000@eventosagenda.com
SUMMARY:Bazar D' Aldeia - Monte Gordo
DESCRIPTION:Mais uma exposição de produtos das nossas gentesMais uma oportunidade de destralharMais uma ocasião para conviverMais uma atividade dinâmicaMais gente positivaSEMPRE A SOMAR  \n  \n👉 Another exhibition of our people’s products\n👉 Another opportunity to declutter\n👉 Another opportunity to socialize\n👉Another dynamic activity\n👉More positive people\n🌻🍀🌹ALWAYS ADDING UP 🌹🍀🌻
URL:https://eventosagenda.com/event/bazar-d-aldeia-monte-gordo/
LOCATION:Monte Gordo\, Sarzedas\, Castelo Branco\, Portugal
CATEGORIES:Markets & Fairs
ATTACH;FMTTYPE=image/jpeg:https://eventosagenda.com/wp-content/uploads/2025/04/Monte-Gordo.jpg
END:VEVENT
END:VCALENDAR