BEGIN:VCALENDAR
VERSION:2.0
PRODID:-// - ECPv6.15.20//NONSGML v1.0//EN
CALSCALE:GREGORIAN
METHOD:PUBLISH
X-ORIGINAL-URL:https://eventosagenda.com
X-WR-CALDESC:Events for 
REFRESH-INTERVAL;VALUE=DURATION:PT1H
X-Robots-Tag:noindex
X-PUBLISHED-TTL:PT1H
BEGIN:VTIMEZONE
TZID:Europe/Lisbon
BEGIN:DAYLIGHT
TZOFFSETFROM:+0000
TZOFFSETTO:+0100
TZNAME:WEST
DTSTART:20240331T010000
END:DAYLIGHT
BEGIN:STANDARD
TZOFFSETFROM:+0100
TZOFFSETTO:+0000
TZNAME:WET
DTSTART:20241027T010000
END:STANDARD
BEGIN:DAYLIGHT
TZOFFSETFROM:+0000
TZOFFSETTO:+0100
TZNAME:WEST
DTSTART:20250330T010000
END:DAYLIGHT
BEGIN:STANDARD
TZOFFSETFROM:+0100
TZOFFSETTO:+0000
TZNAME:WET
DTSTART:20251026T010000
END:STANDARD
BEGIN:DAYLIGHT
TZOFFSETFROM:+0000
TZOFFSETTO:+0100
TZNAME:WEST
DTSTART:20260329T010000
END:DAYLIGHT
BEGIN:STANDARD
TZOFFSETFROM:+0100
TZOFFSETTO:+0000
TZNAME:WET
DTSTART:20261025T010000
END:STANDARD
END:VTIMEZONE
BEGIN:VEVENT
DTSTART;TZID=Europe/Lisbon:20250726T090000
DTEND;TZID=Europe/Lisbon:20250726T170000
DTSTAMP:20260420T182958
CREATED:20250518T095438Z
LAST-MODIFIED:20250523T175013Z
UID:1767-1753520400-1753549200@eventosagenda.com
SUMMARY:I Concentração de Carros e Motos Antigos - Espargo\, Santa Maria da Feira
DESCRIPTION:
URL:https://eventosagenda.com/event/i-concentracao-de-carros-e-motos-antigos-espargo-santa-maria-da-feira/
LOCATION:Espargo\, Santa Maria da Feira\, Espargo\, Santa Maria da Feira\, Aveiro\, Portugal
CATEGORIES:Tours & Trips
ATTACH;FMTTYPE=image/jpeg:https://eventosagenda.com/wp-content/uploads/2025/05/facebook_1747133350832_7328008401931677765.jpg
END:VEVENT
BEGIN:VEVENT
DTSTART;TZID=Europe/Lisbon:20250726T090000
DTEND;TZID=Europe/Lisbon:20250726T170000
DTSTAMP:20260420T182958
CREATED:20250709T180200Z
LAST-MODIFIED:20250709T180235Z
UID:3145-1753520400-1753549200@eventosagenda.com
SUMMARY:1° Enconmtro Mercedes - Sanguedo
DESCRIPTION:
URL:https://eventosagenda.com/event/1-enconmtro-mercedes-sanguedo/
LOCATION:Sanguedo\, Sanguedo\, Aveiro\, Portugal
CATEGORIES:Tours & Trips
ATTACH;FMTTYPE=image/jpeg:https://eventosagenda.com/wp-content/uploads/2025/07/facebook_1751998638281_7348414896539050053.jpg
END:VEVENT
END:VCALENDAR