BEGIN:VCALENDAR
VERSION:2.0
PRODID:-// - ECPv6.15.20//NONSGML v1.0//EN
CALSCALE:GREGORIAN
METHOD:PUBLISH
X-ORIGINAL-URL:https://eventosagenda.com
X-WR-CALDESC:Events for 
REFRESH-INTERVAL;VALUE=DURATION:PT1H
X-Robots-Tag:noindex
X-PUBLISHED-TTL:PT1H
BEGIN:VTIMEZONE
TZID:Europe/Lisbon
BEGIN:DAYLIGHT
TZOFFSETFROM:+0000
TZOFFSETTO:+0100
TZNAME:WEST
DTSTART:20240331T010000
END:DAYLIGHT
BEGIN:STANDARD
TZOFFSETFROM:+0100
TZOFFSETTO:+0000
TZNAME:WET
DTSTART:20241027T010000
END:STANDARD
BEGIN:DAYLIGHT
TZOFFSETFROM:+0000
TZOFFSETTO:+0100
TZNAME:WEST
DTSTART:20250330T010000
END:DAYLIGHT
BEGIN:STANDARD
TZOFFSETFROM:+0100
TZOFFSETTO:+0000
TZNAME:WET
DTSTART:20251026T010000
END:STANDARD
BEGIN:DAYLIGHT
TZOFFSETFROM:+0000
TZOFFSETTO:+0100
TZNAME:WEST
DTSTART:20260329T010000
END:DAYLIGHT
BEGIN:STANDARD
TZOFFSETFROM:+0100
TZOFFSETTO:+0000
TZNAME:WET
DTSTART:20261025T010000
END:STANDARD
END:VTIMEZONE
BEGIN:VEVENT
DTSTART;TZID=Europe/Lisbon:20250712T200000
DTEND;TZID=Europe/Lisbon:20250713T180000
DTSTAMP:20260420T182959
CREATED:20250619T074610Z
LAST-MODIFIED:20250619T074634Z
UID:2709-1752350400-1752429600@eventosagenda.com
SUMMARY:II Rally Rota da Cerega - Resende
DESCRIPTION:Get ready for the most electrifying edition of the Rally Rota Da Cereja de Resende that arrives with everything in 2025\, in the heart of Douro\, a perfect junction between challenging tracks\, breathtaking landscapes and the infectious sound of powerful engines\, a unique stage like no other\, where every turn counts a story and each line is a challenge to the limit.\n\n\nProof counting for the Northern Rally Championship and the Northern 2RM Championship 2025\, this year with a great novelty\, the first qualifying held at the iconic EN222\, between Caldas de Aregos and Resende.\n\n\nIn addition to the competition\, the hospitality of the region will once again be a highlight\, participants will be able to enjoy a walk on the waters of the Douro River and a social dinner at the end of the first day.\n\n\nIn this way all the conditions are gathered so that this II Edition of the Rally Route of the Cherry de Resende is unforgettable.\n\n\nNote: Registrations are now open\, with the Classic Car Club offering 50% of the registration fee.
URL:https://eventosagenda.com/event/ii-rally-rota-da-cerega-resende/
LOCATION:Resende\, Resende\, Viseu\, Portugal
CATEGORIES:Sports & Games,Tours & Trips
ATTACH;FMTTYPE=image/jpeg:https://eventosagenda.com/wp-content/uploads/2025/06/facebook_1750204773519_7340890882391709981.jpg
END:VEVENT
END:VCALENDAR