BEGIN:VCALENDAR
VERSION:2.0
PRODID:-// - ECPv6.15.20//NONSGML v1.0//EN
CALSCALE:GREGORIAN
METHOD:PUBLISH
X-ORIGINAL-URL:https://eventosagenda.com
X-WR-CALDESC:Events for 
REFRESH-INTERVAL;VALUE=DURATION:PT1H
X-Robots-Tag:noindex
X-PUBLISHED-TTL:PT1H
BEGIN:VTIMEZONE
TZID:Europe/Lisbon
BEGIN:DAYLIGHT
TZOFFSETFROM:+0000
TZOFFSETTO:+0100
TZNAME:WEST
DTSTART:20240331T010000
END:DAYLIGHT
BEGIN:STANDARD
TZOFFSETFROM:+0100
TZOFFSETTO:+0000
TZNAME:WET
DTSTART:20241027T010000
END:STANDARD
BEGIN:DAYLIGHT
TZOFFSETFROM:+0000
TZOFFSETTO:+0100
TZNAME:WEST
DTSTART:20250330T010000
END:DAYLIGHT
BEGIN:STANDARD
TZOFFSETFROM:+0100
TZOFFSETTO:+0000
TZNAME:WET
DTSTART:20251026T010000
END:STANDARD
BEGIN:DAYLIGHT
TZOFFSETFROM:+0000
TZOFFSETTO:+0100
TZNAME:WEST
DTSTART:20260329T010000
END:DAYLIGHT
BEGIN:STANDARD
TZOFFSETFROM:+0100
TZOFFSETTO:+0000
TZNAME:WET
DTSTART:20261025T010000
END:STANDARD
END:VTIMEZONE
BEGIN:VEVENT
DTSTART;TZID=Europe/Lisbon:20250601T073000
DTEND;TZID=Europe/Lisbon:20250601T160000
DTSTAMP:20260420T182745
CREATED:20250416T181540Z
LAST-MODIFIED:20250530T143541Z
UID:381-1748763000-1748793600@eventosagenda.com
SUMMARY:III Passeio Motorizadas
DESCRIPTION:EVENTO | III Passeio de Motorizadas\nAqui está tão aguardado cartaz do passeio de motorizadas mais aguardado da zona Centro .\n Marque no seu calendário o dia 01 de junho de 2025.\n Pré-inscrições:https://forms.gle/nL11i68josrsPhQh7\n + info: eventos@bvproencaanova.pt 965 551 628 / 968 516 206\nContamos contigo!\n Pela nossa População\, todos os dias 
URL:https://eventosagenda.com/event/iii-passeio-motorizadas/
LOCATION:Proença-a-Nova\, Proença-a-Nova\, Castelo Branco\, Portugal
CATEGORIES:Tours & Trips
ATTACH;FMTTYPE=image/jpeg:https://eventosagenda.com/wp-content/uploads/2025/04/Proenca-A-Nova-Passeio.jpg
END:VEVENT
BEGIN:VEVENT
DTSTART;TZID=Europe/Lisbon:20250608T090000
DTEND;TZID=Europe/Lisbon:20250608T170000
DTSTAMP:20260420T182745
CREATED:20250523T103742Z
LAST-MODIFIED:20250523T174833Z
UID:1880-1749373200-1749402000@eventosagenda.com
SUMMARY:Arraial Minhoto Clássicos & Churrasco - Monção
DESCRIPTION:The smell of gasoline will again be joined with the smell of a delicious barbecue\, as there comes another Arraial Minhoto from Valença do Minho \, where the day starts with a ride of classic and sports cars\, this time towards Paredes de Coura\, returning by Associação Cultural Recreativa e Desportiva de Santa Eulália de Lara After the walk\, at Freguesia de Lara in the compound of the Association\, there will be a pleasant get-together with barbecue\, lots of music and dancing open to the whole community.\nGet your jewel on wheels out of the garage\, invite your friends and register now.\nWe’ve been waiting on you!!!\nAt Município de Monção the excitement is on Lara!!!!
URL:https://eventosagenda.com/event/arraial-minhoto-classicos-churrasco-moncao/
LOCATION:Monção\, Monção\, Alto Minho\, Viana do Castelo\, Portugal
CATEGORIES:Tours & Trips
ATTACH;FMTTYPE=image/jpeg:https://eventosagenda.com/wp-content/uploads/2025/05/facebook_1747892384249_7331192018828658973.jpg
END:VEVENT
BEGIN:VEVENT
DTSTART;VALUE=DATE:20250610
DTEND;VALUE=DATE:20250611
DTSTAMP:20260420T182745
CREATED:20250518T093213Z
LAST-MODIFIED:20250610T054452Z
UID:1751-1749513600-1749599999@eventosagenda.com
SUMMARY:1 Aniversário Associacao Motociclista Movimento Centro - Sobreira Formosa
DESCRIPTION:JUNE 10th\, we are counting on you for the anniversary of the Centro Movement!\nThe celebration is open to motorcyclists and the general public\, with FREE ENTRY\, no need to book in advance\, and will start at 10 am at our headquarters\, next to the São Bernardo Fairgrounds\, in Sobreira Formosa ( https://maps.app.goo.gl/NgNYiNPW9722PKKH8 ).\nIn the morning\, we will visit the Serra das Talhadas Watchtower.\nWe will serve regional delicacies\, including maranhos and sausages\, as well as mixed grilled pork with salad.\nWe will also serve bifanas and various snacks throughout the day\, accompanied by an excellent bar service.\nThe musical entertainment will be provided by Roberto Portela\, and in the afternoon\, we will have lots of fun with the “slow race” and traditional games such as the “malha” (a type of game).\nThere will be exhibition tents and sale of motorcycle articles by Artwork by Sérgio Santos\, Fantastic Dreams By Tiga and motorcycle seamstress Maria Rosa Araujo. Tattoos will be done by LeoO TattoO.\nAt the end of the afternoon\, there will be an exchange of souvenirs and a birthday cake.
URL:https://eventosagenda.com/event/1-aniversario-associacao-motociclista-movimento-centro-sobreira-formosa/
LOCATION:Sobreira Formosa\, Sobreira Formosa\, Castelo Branco\, Portugal
CATEGORIES:Festas & Festivals,Sports & Games,Tours & Trips
ATTACH;FMTTYPE=image/jpeg:https://eventosagenda.com/wp-content/uploads/2025/05/facebook_1747549641687_7329754452328198051.jpg
END:VEVENT
BEGIN:VEVENT
DTSTART;TZID=Europe/Lisbon:20250614T110000
DTEND;TZID=Europe/Lisbon:20250614T170000
DTSTAMP:20260420T182745
CREATED:20250518T094946Z
LAST-MODIFIED:20250523T174901Z
UID:1763-1749898800-1749920400@eventosagenda.com
SUMMARY:Moto-Churrasco - Group Motard de Canelas
DESCRIPTION:
URL:https://eventosagenda.com/event/moto-churrasco-group-motard-de-canelas/
LOCATION:Canelas\, Canelas\, Vila Nova de Gaia\, Porto\, Portugal
CATEGORIES:Tours & Trips
ATTACH;FMTTYPE=image/jpeg:https://eventosagenda.com/wp-content/uploads/2025/05/facebook_1747401207068_7329131872410360512.jpg
END:VEVENT
BEGIN:VEVENT
DTSTART;TZID=Europe/Lisbon:20250615T080000
DTEND;TZID=Europe/Lisbon:20250615T130000
DTSTAMP:20260420T182745
CREATED:20250421T111938Z
LAST-MODIFIED:20250523T174909Z
UID:474-1749974400-1749992400@eventosagenda.com
SUMMARY:Passeio da Motinhas - Grupo Desportivo e Cultural de Vila Meã
DESCRIPTION:
URL:https://eventosagenda.com/event/passeio-da-motinhas-grupo-desportivo-e-cultural-de-vila-mea/
LOCATION:Vila Meã\, Vila Meã\, Porto\, Portugal
CATEGORIES:Tours & Trips
ATTACH;FMTTYPE=image/jpeg:https://eventosagenda.com/wp-content/uploads/2025/04/facebook_1745229566916_7320023353436323082.jpg
END:VEVENT
BEGIN:VEVENT
DTSTART;TZID=Europe/Lisbon:20250615T083000
DTEND;TZID=Europe/Lisbon:20250615T140000
DTSTAMP:20260420T182745
CREATED:20250528T111437Z
LAST-MODIFIED:20250528T111450Z
UID:2048-1749976200-1749996000@eventosagenda.com
SUMMARY:1° Passeio das Maias - Castro Daire
DESCRIPTION:
URL:https://eventosagenda.com/event/1-passeio-das-maias-castro-daire/
LOCATION:Castro Daire\, Castro Daire\, Viseu\, Portugal
CATEGORIES:Tours & Trips
ATTACH;FMTTYPE=image/jpeg:https://eventosagenda.com/wp-content/uploads/2025/05/facebook_1748363081666_7333166266885563933.jpg
END:VEVENT
BEGIN:VEVENT
DTSTART;TZID=Europe/Lisbon:20250619T080000
DTEND;TZID=Europe/Lisbon:20250619T080000
DTSTAMP:20260420T182745
CREATED:20250421T113321Z
LAST-MODIFIED:20250523T174917Z
UID:481-1750320000-1750320000@eventosagenda.com
SUMMARY:Passeio turistico de motas e motorizadas - Ravio
DESCRIPTION:
URL:https://eventosagenda.com/event/passeio-turistico-de-motas-e-motorizadas-ravio/
LOCATION:Ravio\, Ravio\, Águeda\, Aveiro\, Portugal
CATEGORIES:Tours & Trips
ATTACH;FMTTYPE=image/jpeg:https://eventosagenda.com/wp-content/uploads/2025/04/facebook_1745215238734_7319963256686325404.jpg
END:VEVENT
BEGIN:VEVENT
DTSTART;TZID=Europe/Lisbon:20250619T093000
DTEND;TZID=Europe/Lisbon:20250619T093000
DTSTAMP:20260420T182745
CREATED:20250523T173651Z
LAST-MODIFIED:20250523T174927Z
UID:1946-1750325400-1750325400@eventosagenda.com
SUMMARY:1° Passeio Gastronómico - Folgosinho
DESCRIPTION:Another trip to Trinca!!!\nAfter the success of Trinca Trutas\, we’re going to Folgosinho.\n\n\nThrough the magnificent roads of Serra da Estrela we are going to Folgosinho to taste all the iguarias of the Serrano icon that is the Albertino restaurant\, from the cabidela rice\, to the lamb and piglet\, the roasted veal and the typical boar with beans.\n\n\nFree-range ride with scheduled stops. Limited to 35 people.\n\n\nBooking till 16th June\, WhatsApp or msg on 926507805
URL:https://eventosagenda.com/event/1-passeio-gastronomico-folgosinho/
LOCATION:Fundão\, Fundão\, Castelo Branco\, Portugal
CATEGORIES:Food & Drink,Tours & Trips
ATTACH;FMTTYPE=image/jpeg:https://eventosagenda.com/wp-content/uploads/2025/05/facebook_1748018618869_7331721485197547756.jpg
END:VEVENT
BEGIN:VEVENT
DTSTART;TZID=Europe/Lisbon:20250621T143000
DTEND;TZID=Europe/Lisbon:20250621T143000
DTSTAMP:20260420T182745
CREATED:20250603T142814Z
LAST-MODIFIED:20250603T142841Z
UID:2341-1750516200-1750516200@eventosagenda.com
SUMMARY:35° Rally Paper - Eixo
DESCRIPTION:
URL:https://eventosagenda.com/event/35-rally-paper-eixo/
LOCATION:Eixo\, Eixo\, Aveiro\, Portugal
CATEGORIES:Tours & Trips
ATTACH;FMTTYPE=image/jpeg:https://eventosagenda.com/wp-content/uploads/2025/06/WhatsApp-Image-2025-06-03-at-12.14.541.jpeg
END:VEVENT
BEGIN:VEVENT
DTSTART;TZID=Europe/Lisbon:20250622T083000
DTEND;TZID=Europe/Lisbon:20250622T130000
DTSTAMP:20260420T182745
CREATED:20250513T202033Z
LAST-MODIFIED:20250523T174935Z
UID:1572-1750581000-1750597200@eventosagenda.com
SUMMARY:Passeio de Motorizadas - Vilar da Carga\, Serta
DESCRIPTION:
URL:https://eventosagenda.com/event/passeio-de-motorizadas-vilar-da-carga-serta/
LOCATION:Vilar da Carga\, Serta\, Vilar da Carga\, Serta\, Castelo Branco\, Portugal
CATEGORIES:Tours & Trips
ATTACH;FMTTYPE=image/jpeg:https://eventosagenda.com/wp-content/uploads/2025/05/496227904_642363708805533_3910676241546201861_n.jpg
END:VEVENT
BEGIN:VEVENT
DTSTART;TZID=Europe/Lisbon:20250622T083000
DTEND;TZID=Europe/Lisbon:20250622T153000
DTSTAMP:20260420T182745
CREATED:20250611T162000Z
LAST-MODIFIED:20250611T162000Z
UID:2621-1750581000-1750606200@eventosagenda.com
SUMMARY:17° Passeio Motas e Motorizadas
DESCRIPTION:Bakery Bar!! ️!! ️!! ️!! ️\nThe time has come to show you this beautiful poster\, and with it\, the presentation of yet another event that ADR-Associação Desportiva de Requeixo has prepared for the Request community and for all those who are passionate about 2- or 3-wheeled vehicles.\nWe await your registration\, and we’ll see you again on June 22\n\n\nPs: Don’t leave your registration to the last minute
URL:https://eventosagenda.com/event/17-passeio-motas-e-motorizadas/
LOCATION:Requeixo\, Requeixo\, Aveiro\, Portugal
CATEGORIES:Tours & Trips
ATTACH;FMTTYPE=image/jpeg:https://eventosagenda.com/wp-content/uploads/2025/06/06.22-Pateira-Fermentelos-.jpg
END:VEVENT
BEGIN:VEVENT
DTSTART;TZID=Europe/Lisbon:20250622T083000
DTEND;TZID=Europe/Lisbon:20250622T170000
DTSTAMP:20260420T182745
CREATED:20250530T140454Z
LAST-MODIFIED:20250530T140522Z
UID:2225-1750581000-1750611600@eventosagenda.com
SUMMARY:4° Passeio de Motorizadas - Penha de França
DESCRIPTION:
URL:https://eventosagenda.com/event/4-passeio-de-motorizadas-penha-de-franca/
LOCATION:Penha de França\, Penha de França\, Serta\, Castelo Branco\, Portugal
CATEGORIES:Tours & Trips
ATTACH;FMTTYPE=image/jpeg:https://eventosagenda.com/wp-content/uploads/2025/05/facebook_1748590179809_7334118785536475152.jpg
END:VEVENT
BEGIN:VEVENT
DTSTART;TZID=Europe/Lisbon:20250622T090000
DTEND;TZID=Europe/Lisbon:20250622T170000
DTSTAMP:20260420T182745
CREATED:20250611T163853Z
LAST-MODIFIED:20250611T164038Z
UID:2641-1750582800-1750611600@eventosagenda.com
SUMMARY:VII Passeio Carros Antigos - Proença-a-Nova
DESCRIPTION:VII Vintage Cars Tour\n\n\nThe Municipality of Proença-Nova will once again hold\, on June 22\, the seventh edition of the Old Cars Tour!\n\n\nRegistrations are extended until June 18 and can be done directly to 939 827 410 or gimprensa@cm-proencanova.pt Make sure you register now!
URL:https://eventosagenda.com/event/vii-passeio-carros-antigos-proenca-a-nova/
LOCATION:Proença-a-Nova\, Proença-a-Nova\, Castelo Branco\, Portugal
CATEGORIES:Tours & Trips
ATTACH;FMTTYPE=image/jpeg:https://eventosagenda.com/wp-content/uploads/2025/06/facebook_1749498969064_7337930523944082790.jpg
END:VEVENT
END:VCALENDAR