BEGIN:VCALENDAR
VERSION:2.0
PRODID:-// - ECPv6.15.20//NONSGML v1.0//EN
CALSCALE:GREGORIAN
METHOD:PUBLISH
X-ORIGINAL-URL:https://eventosagenda.com
X-WR-CALDESC:Events for 
REFRESH-INTERVAL;VALUE=DURATION:PT1H
X-Robots-Tag:noindex
X-PUBLISHED-TTL:PT1H
BEGIN:VTIMEZONE
TZID:Europe/Lisbon
BEGIN:DAYLIGHT
TZOFFSETFROM:+0000
TZOFFSETTO:+0100
TZNAME:WEST
DTSTART:20240331T010000
END:DAYLIGHT
BEGIN:STANDARD
TZOFFSETFROM:+0100
TZOFFSETTO:+0000
TZNAME:WET
DTSTART:20241027T010000
END:STANDARD
BEGIN:DAYLIGHT
TZOFFSETFROM:+0000
TZOFFSETTO:+0100
TZNAME:WEST
DTSTART:20250330T010000
END:DAYLIGHT
BEGIN:STANDARD
TZOFFSETFROM:+0100
TZOFFSETTO:+0000
TZNAME:WET
DTSTART:20251026T010000
END:STANDARD
BEGIN:DAYLIGHT
TZOFFSETFROM:+0000
TZOFFSETTO:+0100
TZNAME:WEST
DTSTART:20260329T010000
END:DAYLIGHT
BEGIN:STANDARD
TZOFFSETFROM:+0100
TZOFFSETTO:+0000
TZNAME:WET
DTSTART:20261025T010000
END:STANDARD
END:VTIMEZONE
BEGIN:VEVENT
DTSTART;VALUE=DATE:20250620
DTEND;VALUE=DATE:20250623
DTSTAMP:20260421T134331
CREATED:20250605T114023Z
LAST-MODIFIED:20250605T114035Z
UID:2488-1750377600-1750636799@eventosagenda.com
SUMMARY:Prove Vinho & Queijo - Coimbra
DESCRIPTION:  Quem resiste à combinação de Vinho e Queijo?\nCom o propósito de promover “sabores que contam histórias” e valorizar vinhos DOC & IGP e os Queijos da Região Centro\, com especial destaque para os Queijos com DOP\, os claustros do Convento de São Francisco\, em Coimbra vão acolher a 1.ª edição do ‘PROVE Vinho & Queijo’.\nEsta mostra enogastronómica será uma celebração única dos sabores autênticos da Região Centro num ambiente animado\, descontraído e educativo que promove a degustação de produtos locais e fomenta a proximidade dos produtores com o público em geral.\n Entrada e Datas: Sexta\, 20 de junho (17h-21h) | Sábado\, 21 de junho (12h-21h) | Domingo\, 22 de junho (12h-19h)Claustros do Convento de São Francisco\, Coimbra\n A iniciativa é de acesso livre e gratuita\, mas para a degustação dos produtos é necessária a aquisição do kit ‘PROVE Vinho & Queijo’\, composto por um copo de vinho e uma tábua\, no valor de €8\,00.
URL:https://eventosagenda.com/event/prove-vinho-queijo-coimbra/
LOCATION:Coimbra\, Coimbra\, Coimbra\, Portugal
CATEGORIES:Food & Drink
ATTACH;FMTTYPE=image/jpeg:https://eventosagenda.com/wp-content/uploads/2025/06/06.20-22-Coimbra.jpg
END:VEVENT
END:VCALENDAR