BEGIN:VCALENDAR
VERSION:2.0
PRODID:-// - ECPv6.15.20//NONSGML v1.0//EN
CALSCALE:GREGORIAN
METHOD:PUBLISH
X-ORIGINAL-URL:https://eventosagenda.com
X-WR-CALDESC:Events for 
REFRESH-INTERVAL;VALUE=DURATION:PT1H
X-Robots-Tag:noindex
X-PUBLISHED-TTL:PT1H
BEGIN:VTIMEZONE
TZID:Europe/Lisbon
BEGIN:DAYLIGHT
TZOFFSETFROM:+0000
TZOFFSETTO:+0100
TZNAME:WEST
DTSTART:20240331T010000
END:DAYLIGHT
BEGIN:STANDARD
TZOFFSETFROM:+0100
TZOFFSETTO:+0000
TZNAME:WET
DTSTART:20241027T010000
END:STANDARD
BEGIN:DAYLIGHT
TZOFFSETFROM:+0000
TZOFFSETTO:+0100
TZNAME:WEST
DTSTART:20250330T010000
END:DAYLIGHT
BEGIN:STANDARD
TZOFFSETFROM:+0100
TZOFFSETTO:+0000
TZNAME:WET
DTSTART:20251026T010000
END:STANDARD
BEGIN:DAYLIGHT
TZOFFSETFROM:+0000
TZOFFSETTO:+0100
TZNAME:WEST
DTSTART:20260329T010000
END:DAYLIGHT
BEGIN:STANDARD
TZOFFSETFROM:+0100
TZOFFSETTO:+0000
TZNAME:WET
DTSTART:20261025T010000
END:STANDARD
END:VTIMEZONE
BEGIN:VEVENT
DTSTART;VALUE=DATE:20250509
DTEND;VALUE=DATE:20250512
DTSTAMP:20260421T151454
CREATED:20250505T171613Z
LAST-MODIFIED:20250505T171613Z
UID:1114-1746748800-1747007999@eventosagenda.com
SUMMARY:Portugal Cheese Festival - Alcains
DESCRIPTION:
URL:https://eventosagenda.com/event/portugal-cheese-festival-alcains/
LOCATION:Alcains\, Alcains\, Castelo Branco\, Portugal
CATEGORIES:Festas & Festivals,Food & Drink
ATTACH;FMTTYPE=image/png:https://eventosagenda.com/wp-content/uploads/2025/05/Cheese-Festival-scaled.png
END:VEVENT
BEGIN:VEVENT
DTSTART;VALUE=DATE:20250510
DTEND;VALUE=DATE:20250512
DTSTAMP:20260421T151454
CREATED:20250415T074957Z
LAST-MODIFIED:20250415T075408Z
UID:306-1746835200-1747007999@eventosagenda.com
SUMMARY:XIX Edição Sopas Tradicionais
DESCRIPTION:
URL:https://eventosagenda.com/event/xix-edicao-sopas-tradicionais/
LOCATION:Proença-A-Velha\, Proença-A-Velha\, Idanha-A-Nova\, Castelo Branco\, Portugal
CATEGORIES:Festas & Festivals,Food & Drink
ATTACH;FMTTYPE=image/jpeg:https://eventosagenda.com/wp-content/uploads/2025/04/Sopas-Tradicionais.jpg
END:VEVENT
BEGIN:VEVENT
DTSTART;TZID=Europe/Lisbon:20250510T090000
DTEND;TZID=Europe/Lisbon:20250511T180000
DTSTAMP:20260421T151454
CREATED:20250507T185912Z
LAST-MODIFIED:20250507T185924Z
UID:1203-1746867600-1746986400@eventosagenda.com
SUMMARY:Sopas Tradicionais Encontro de Acordeonistas e Concertinas - Proença-a-Velha
DESCRIPTION:IVAL TRADITIONAL SOUP FESTIVAL\n Old-fashioned Preence\n May 10 & 11\n\n\nThis weekend\, head to Proença-Velha\, at the Idanha-a-Nova council\, to taste tradition and live unique moments.\n\n\nOn his 19th. The edition\, the Festival of Traditional Soups\, is a real anthem to the finest gastronomy. Here you serve memories by the spoon\, in soups made with ancient flavors and authentic ingredients.\n\n\nAlong with good food\, there will be music:\n 10th May – Claudia Martins & Naughty Minhotos\n 11 May – Junior Delfin & Ympério Show\n\n\nAnd because popular culture is for everyone\, there will also be the traditional Meeting of Accordionists and Concertinas – sounds that warm us up like a good soup at the end of the afternoon.
URL:https://eventosagenda.com/event/sopas-tradicionais-encontro-de-acordeonistas-e-concertinas-proenca-a-velha/
LOCATION:Proença-A-Velha\, Proença-A-Velha\, Idanha-A-Nova\, Castelo Branco\, Portugal
CATEGORIES:Festas & Festivals,Food & Drink
ATTACH;FMTTYPE=image/jpeg:https://eventosagenda.com/wp-content/uploads/2025/05/Sopas.jpg
END:VEVENT
BEGIN:VEVENT
DTSTART;TZID=Europe/Lisbon:20250510T160000
DTEND;TZID=Europe/Lisbon:20250511T130000
DTSTAMP:20260421T151454
CREATED:20250429T164855Z
LAST-MODIFIED:20250429T164928Z
UID:714-1746892800-1746968400@eventosagenda.com
SUMMARY:Festa da Francesinha - Salão Paroquial da Reguenga
DESCRIPTION:O Salão Paroquial da Reguenga vai acolher a Festa da Francesinha nos dias 10 e 11 de maio.\n\n\nA cantora Marta Miranda é a grande atração da festa na noite de sábado.\n\n\nGaranta a sua reserva!
URL:https://eventosagenda.com/event/festa-da-francesinha-salao-paroquial-da-reguenga/
LOCATION:Salão Paroquial da Reguenga\, Salão Paroquial da Reguenga\, Porto\, Portugal
CATEGORIES:Festas & Festivals,Food & Drink
ATTACH;FMTTYPE=image/jpeg:https://eventosagenda.com/wp-content/uploads/2025/04/facebook_1745709253462_7322035304637855736.jpg
END:VEVENT
END:VCALENDAR