BEGIN:VCALENDAR
VERSION:2.0
PRODID:-// - ECPv6.15.20//NONSGML v1.0//EN
CALSCALE:GREGORIAN
METHOD:PUBLISH
X-ORIGINAL-URL:https://eventosagenda.com
X-WR-CALDESC:Events for 
REFRESH-INTERVAL;VALUE=DURATION:PT1H
X-Robots-Tag:noindex
X-PUBLISHED-TTL:PT1H
BEGIN:VTIMEZONE
TZID:Europe/Lisbon
BEGIN:DAYLIGHT
TZOFFSETFROM:+0000
TZOFFSETTO:+0100
TZNAME:WEST
DTSTART:20240331T010000
END:DAYLIGHT
BEGIN:STANDARD
TZOFFSETFROM:+0100
TZOFFSETTO:+0000
TZNAME:WET
DTSTART:20241027T010000
END:STANDARD
BEGIN:DAYLIGHT
TZOFFSETFROM:+0000
TZOFFSETTO:+0100
TZNAME:WEST
DTSTART:20250330T010000
END:DAYLIGHT
BEGIN:STANDARD
TZOFFSETFROM:+0100
TZOFFSETTO:+0000
TZNAME:WET
DTSTART:20251026T010000
END:STANDARD
BEGIN:DAYLIGHT
TZOFFSETFROM:+0000
TZOFFSETTO:+0100
TZNAME:WEST
DTSTART:20260329T010000
END:DAYLIGHT
BEGIN:STANDARD
TZOFFSETFROM:+0100
TZOFFSETTO:+0000
TZNAME:WET
DTSTART:20261025T010000
END:STANDARD
END:VTIMEZONE
BEGIN:VEVENT
DTSTART;VALUE=DATE:20250425
DTEND;VALUE=DATE:20250428
DTSTAMP:20260421T151349
CREATED:20250418T083139Z
LAST-MODIFIED:20250418T083552Z
UID:401-1745539200-1745798399@eventosagenda.com
SUMMARY:Gastronomy Weekend - Castanheira de Pêra
DESCRIPTION:
URL:https://eventosagenda.com/event/gastronomy-weekend-castanheira-de-pera/
LOCATION:Castanheira de Pêra\, Castanheira de Pêra\, Leiria\, Portugal
CATEGORIES:Festas & Festivals,Food & Drink
ATTACH;FMTTYPE=image/png:https://eventosagenda.com/wp-content/uploads/2025/04/Castanheira-de-Pera-2.png
END:VEVENT
BEGIN:VEVENT
DTSTART;TZID=Europe/Lisbon:20250426T160000
DTEND;TZID=Europe/Lisbon:20250427T180000
DTSTAMP:20260421T151349
CREATED:20250414T122611Z
LAST-MODIFIED:20250414T123020Z
UID:262-1745683200-1745776800@eventosagenda.com
SUMMARY:Festival do Arroz Doce
DESCRIPTION:
URL:https://eventosagenda.com/event/festival-do-arroz-doce/
LOCATION:Vila do Ferro\, Vila do Ferro\, Covilhã\, Castelo Branco\, Portugal
CATEGORIES:Festas & Festivals,Food & Drink
ATTACH;FMTTYPE=image/jpeg:https://eventosagenda.com/wp-content/uploads/2025/04/Festival-fo-Arroz-Doce.jpg
END:VEVENT
END:VCALENDAR