BEGIN:VCALENDAR
VERSION:2.0
PRODID:-// - ECPv6.15.20//NONSGML v1.0//EN
CALSCALE:GREGORIAN
METHOD:PUBLISH
X-ORIGINAL-URL:https://eventosagenda.com
X-WR-CALDESC:Events for 
REFRESH-INTERVAL;VALUE=DURATION:PT1H
X-Robots-Tag:noindex
X-PUBLISHED-TTL:PT1H
BEGIN:VTIMEZONE
TZID:Europe/Lisbon
BEGIN:DAYLIGHT
TZOFFSETFROM:+0000
TZOFFSETTO:+0100
TZNAME:WEST
DTSTART:20240331T010000
END:DAYLIGHT
BEGIN:STANDARD
TZOFFSETFROM:+0100
TZOFFSETTO:+0000
TZNAME:WET
DTSTART:20241027T010000
END:STANDARD
BEGIN:DAYLIGHT
TZOFFSETFROM:+0000
TZOFFSETTO:+0100
TZNAME:WEST
DTSTART:20250330T010000
END:DAYLIGHT
BEGIN:STANDARD
TZOFFSETFROM:+0100
TZOFFSETTO:+0000
TZNAME:WET
DTSTART:20251026T010000
END:STANDARD
BEGIN:DAYLIGHT
TZOFFSETFROM:+0000
TZOFFSETTO:+0100
TZNAME:WEST
DTSTART:20260329T010000
END:DAYLIGHT
BEGIN:STANDARD
TZOFFSETFROM:+0100
TZOFFSETTO:+0000
TZNAME:WET
DTSTART:20261025T010000
END:STANDARD
END:VTIMEZONE
BEGIN:VEVENT
DTSTART;TZID=Europe/Lisbon:20250522T180000
DTEND;TZID=Europe/Lisbon:20250526T213000
DTSTAMP:20260422T174650
CREATED:20250502T114009Z
LAST-MODIFIED:20250502T114027Z
UID:935-1747936800-1748295000@eventosagenda.com
SUMMARY:Festa em honra de Santa Rita e São Gonçalo - Grijó
DESCRIPTION:
URL:https://eventosagenda.com/event/festa-em-honra-de-santa-rita-e-sao-goncalo-grijo/
LOCATION:Grijó\, Vila Nova de Gaia\, Porto\, Portugal
CATEGORIES:Festas & Festivals
ATTACH;FMTTYPE=image/jpeg:https://eventosagenda.com/wp-content/uploads/2025/05/facebook_1746172632633_7323978857745583184.jpg
END:VEVENT
BEGIN:VEVENT
DTSTART;TZID=Europe/Lisbon:20250523T140000
DTEND;TZID=Europe/Lisbon:20250529T203000
DTSTAMP:20260422T174650
CREATED:20250502T182012Z
LAST-MODIFIED:20250502T182026Z
UID:968-1748008800-1748550600@eventosagenda.com
SUMMARY:Grocinas Festa 2025 - Penela
DESCRIPTION:
URL:https://eventosagenda.com/event/grocinas-festa-2025-penela/
LOCATION:Grocinas\, Penela\, Coimbra\, Portugal
CATEGORIES:Festas & Festivals
ATTACH;FMTTYPE=image/jpeg:https://eventosagenda.com/wp-content/uploads/2025/05/Grocinas-Penela.jpg
END:VEVENT
BEGIN:VEVENT
DTSTART;TZID=Europe/Lisbon:20250523T210000
DTEND;TZID=Europe/Lisbon:20250526T223000
DTSTAMP:20260422T174650
CREATED:20250430T114543Z
LAST-MODIFIED:20250430T114603Z
UID:836-1748034000-1748298600@eventosagenda.com
SUMMARY:Festa Nossa Senhora da Hora 2025 - Gião / Feira
DESCRIPTION:
URL:https://eventosagenda.com/event/festa-nossa-senhora-da-hora-2025-giao-feira/
LOCATION:Gião / Feira\, Santa Maria da Feira\, Aveiro\, Portugal
CATEGORIES:Festas & Festivals
ATTACH;FMTTYPE=image/jpeg:https://eventosagenda.com/wp-content/uploads/2025/04/493933782_1376248400164247_5665312132347054969_n.jpg
END:VEVENT
BEGIN:VEVENT
DTSTART;TZID=Europe/Lisbon:20250523T220000
DTEND;TZID=Europe/Lisbon:20250526T220000
DTSTAMP:20260422T174650
CREATED:20250506T152552Z
LAST-MODIFIED:20250517T104803Z
UID:1134-1748037600-1748296800@eventosagenda.com
SUMMARY:Festa de Póvoa de Sobrinhos 2025
DESCRIPTION:Festa de Póvoa de Sobrinhos 2025\n4 dias de muitas animação!\nDia 23 – Banda Europa\nDia 23 – ONE GROUP\nDia 24 – GRUPO K7\nDia 25 – BANDA TIME\n\n\nVamos lá?\n\n  \nNephews Shower Party 2025\n4 days of much excitement!\nDay 23 – Band Europe\nDia 23 – ONE GROUP\nDay 24 – K7 GROUP\nDay 25 – TEAM BAND
URL:https://eventosagenda.com/event/festa-de-povoa-de-sobrinhos-2025/
LOCATION:Póvoa de Sobrinhos\, Viseu\, Viseu\, Portugal
CATEGORIES:Festas & Festivals
ATTACH;FMTTYPE=image/jpeg:https://eventosagenda.com/wp-content/uploads/2025/05/facebook_1747401513594_7329133158076186037.jpg
END:VEVENT
BEGIN:VEVENT
DTSTART;TZID=Europe/Lisbon:20250523T223000
DTEND;TZID=Europe/Lisbon:20250526T220000
DTSTAMP:20260422T174650
CREATED:20250425T165610Z
LAST-MODIFIED:20250425T165643Z
UID:618-1748039400-1748296800@eventosagenda.com
SUMMARY:Festa do Parque - São João da Madeira
DESCRIPTION:
URL:https://eventosagenda.com/event/festa-do-parque-sao-joao-da-madeira/
LOCATION:São João da Madeira\, São João da Madeira\, Aveiro\, Portugal
CATEGORIES:Festas & Festivals
ATTACH;FMTTYPE=image/jpeg:https://eventosagenda.com/wp-content/uploads/2025/04/facebook_1745427037897_7320851606762023493.jpg
END:VEVENT
BEGIN:VEVENT
DTSTART;VALUE=DATE:20250524
DTEND;VALUE=DATE:20250602
DTSTAMP:20260422T174650
CREATED:20250506T204658Z
LAST-MODIFIED:20250506T204658Z
UID:1140-1748044800-1748822399@eventosagenda.com
SUMMARY:Ascensão e na Chamusca 2025
DESCRIPTION:
URL:https://eventosagenda.com/event/ascensao-e-na-chamusca-2025/
LOCATION:Chamusca\, Ribatejo\, Santarém\, Portugal
CATEGORIES:Festas & Festivals
ATTACH;FMTTYPE=image/jpeg:https://eventosagenda.com/wp-content/uploads/2025/05/Chamusca.jpg
END:VEVENT
BEGIN:VEVENT
DTSTART;TZID=Europe/Lisbon:20250524T180000
DTEND;TZID=Europe/Lisbon:20250601T170000
DTSTAMP:20260422T174650
CREATED:20250510T133228Z
LAST-MODIFIED:20250510T133228Z
UID:1361-1748109600-1748797200@eventosagenda.com
SUMMARY:Festa Nossa Senhora da Piedade - Lousã
DESCRIPTION:
URL:https://eventosagenda.com/event/festa-nossa-senhora-da-piedade-lousa/
LOCATION:Lousã\, Lousa\, Coimbra\, Portugal
CATEGORIES:Festas & Festivals
ATTACH;FMTTYPE=image/jpeg:https://eventosagenda.com/wp-content/uploads/2025/05/490910908_1127002609470369_7070471782831924307_n.jpg
END:VEVENT
BEGIN:VEVENT
DTSTART;TZID=Europe/Lisbon:20250524T220000
DTEND;TZID=Europe/Lisbon:20250526T190000
DTSTAMP:20260422T174650
CREATED:20250507T160911Z
LAST-MODIFIED:20250507T160911Z
UID:1182-1748124000-1748286000@eventosagenda.com
SUMMARY:Festa de Poives 2025
DESCRIPTION:
URL:https://eventosagenda.com/event/festa-de-poives-2025/
LOCATION:Poives\, Poives\, Viseu\, Portugal
CATEGORIES:Festas & Festivals
ATTACH;FMTTYPE=image/jpeg:https://eventosagenda.com/wp-content/uploads/2025/05/494718493_122210619338257975_4397471995913197431_n.jpg
END:VEVENT
END:VCALENDAR