BEGIN:VCALENDAR
VERSION:2.0
PRODID:-// - ECPv6.15.20//NONSGML v1.0//EN
CALSCALE:GREGORIAN
METHOD:PUBLISH
X-ORIGINAL-URL:https://eventosagenda.com
X-WR-CALDESC:Events for 
REFRESH-INTERVAL;VALUE=DURATION:PT1H
X-Robots-Tag:noindex
X-PUBLISHED-TTL:PT1H
BEGIN:VTIMEZONE
TZID:Europe/Lisbon
BEGIN:DAYLIGHT
TZOFFSETFROM:+0000
TZOFFSETTO:+0100
TZNAME:WEST
DTSTART:20240331T010000
END:DAYLIGHT
BEGIN:STANDARD
TZOFFSETFROM:+0100
TZOFFSETTO:+0000
TZNAME:WET
DTSTART:20241027T010000
END:STANDARD
BEGIN:DAYLIGHT
TZOFFSETFROM:+0000
TZOFFSETTO:+0100
TZNAME:WEST
DTSTART:20250330T010000
END:DAYLIGHT
BEGIN:STANDARD
TZOFFSETFROM:+0100
TZOFFSETTO:+0000
TZNAME:WET
DTSTART:20251026T010000
END:STANDARD
BEGIN:DAYLIGHT
TZOFFSETFROM:+0000
TZOFFSETTO:+0100
TZNAME:WEST
DTSTART:20260329T010000
END:DAYLIGHT
BEGIN:STANDARD
TZOFFSETFROM:+0100
TZOFFSETTO:+0000
TZNAME:WET
DTSTART:20261025T010000
END:STANDARD
END:VTIMEZONE
BEGIN:VEVENT
DTSTART;TZID=Europe/Lisbon:20250517T200000
DTEND;TZID=Europe/Lisbon:20250518T010000
DTSTAMP:20260422T161524
CREATED:20250416T203156Z
LAST-MODIFIED:20250416T203208Z
UID:384-1747512000-1747530000@eventosagenda.com
SUMMARY:A Dance Party with Disco\, Soul and Pop music from 70s\, 80s and 90s
DESCRIPTION:Reserve já esta data!Sábado\, dia 17 de Maio de 2025 das 20h00 às 01h00. Entrada gratuita.\nUma Festa de Dança com música Disco\, Soul e Pop dos anos 70\, 80 e 90 para todas as idades e nacionalidades. O DJ Steve Campion\, com o seu show de luzes maravilhoso\, tocará as melhores canções de dança dessa época.\nHá bebidas e petiscos deliciosos à venda para quando tiver fome antes ou depois de dançar. E para quem gostar junta-se a dança ‘Saturday Night Fever’.De novo em parceria com o RIJu em Côja.\nCaso tencione vir\, inscreva-se para este evento. Partilhe com amigos e peça também que se inscrevam. Para sabermos quantas pessoas virão e estão interessadas. Spread the news!\nO nosso agradecimento aos nossos estimados patrocinadores:Villa Montês Guesthouse (Côja)Moto Carvalho (Côja)George and Dragon (Venda do Porco)Restaurante Lagar do Alva (Côja)\n————————\n\nSave the date!Saturday 17th of May 2025 from 20h00 till 01h00. Free entrance.\nA Dance Party with Disco\, Soul and Pop music from 70s\, 80s and 90s for all ages and nationalities. DJ Steve Campion\, with his stunning light show\, will play the greatest dance hits from that era.\nYou can buy drinks and delicious petiscos for when you’re hungry before or after dancing. And for those who fancy it\, join the dance ‘Saturday Night Fever’.Again in cooperation with RIJu in Côja.\nIf you are planning to come\, please sign-up for this event! Share it with your friends and ask them to sign up too. So we know how many people will come and are interested.Spread the news!\nA big shout out to our great sponsors:Villa Montês Guesthouse (Côja)Moto Carvalho (Côja)George and Dragon (Venda do Porco)Restaurante Lagar do Alva (Côja)
URL:https://eventosagenda.com/event/a-dance-party-with-disco-soul-and-pop-music-from-70s-80s-and-90s/
LOCATION:Côja\, Coja\, Arganil\, Coimbra\, Portugal
CATEGORIES:Fado, Concerts & Music
ATTACH;FMTTYPE=image/jpeg:https://eventosagenda.com/wp-content/uploads/2025/04/A-Dance-Party-with-Disco-Soul-and-Pop-music-from-70s-80s-and-90s.jpg
END:VEVENT
END:VCALENDAR