BEGIN:VCALENDAR
VERSION:2.0
PRODID:-// - ECPv6.15.20//NONSGML v1.0//EN
CALSCALE:GREGORIAN
METHOD:PUBLISH
X-ORIGINAL-URL:https://eventosagenda.com
X-WR-CALDESC:Events for 
REFRESH-INTERVAL;VALUE=DURATION:PT1H
X-Robots-Tag:noindex
X-PUBLISHED-TTL:PT1H
BEGIN:VTIMEZONE
TZID:Europe/Lisbon
BEGIN:DAYLIGHT
TZOFFSETFROM:+0000
TZOFFSETTO:+0100
TZNAME:WEST
DTSTART:20240331T010000
END:DAYLIGHT
BEGIN:STANDARD
TZOFFSETFROM:+0100
TZOFFSETTO:+0000
TZNAME:WET
DTSTART:20241027T010000
END:STANDARD
BEGIN:DAYLIGHT
TZOFFSETFROM:+0000
TZOFFSETTO:+0100
TZNAME:WEST
DTSTART:20250330T010000
END:DAYLIGHT
BEGIN:STANDARD
TZOFFSETFROM:+0100
TZOFFSETTO:+0000
TZNAME:WET
DTSTART:20251026T010000
END:STANDARD
BEGIN:DAYLIGHT
TZOFFSETFROM:+0000
TZOFFSETTO:+0100
TZNAME:WEST
DTSTART:20260329T010000
END:DAYLIGHT
BEGIN:STANDARD
TZOFFSETFROM:+0100
TZOFFSETTO:+0000
TZNAME:WET
DTSTART:20261025T010000
END:STANDARD
END:VTIMEZONE
BEGIN:VEVENT
DTSTART;TZID=Europe/Lisbon:20250712T090000
DTEND;TZID=Europe/Lisbon:20250727T170000
DTSTAMP:20260422T114110
CREATED:20250430T105917Z
LAST-MODIFIED:20250430T105933Z
UID:808-1752310800-1753635600@eventosagenda.com
SUMMARY:Festa do Santíssimo Sacramento de Gião-Vila do Conde 2025
DESCRIPTION:
URL:https://eventosagenda.com/event/festa-do-santissimo-sacramento-de-giao-vila-do-conde-2025/
LOCATION:Gião\, Vila do Conde\, Porto\, Portugal
CATEGORIES:Fado, Concerts & Music,Festas & Festivals
ATTACH;FMTTYPE=image/jpeg:https://eventosagenda.com/wp-content/uploads/2025/04/facebook_1745971928886_7323137045218052479.jpg
END:VEVENT
BEGIN:VEVENT
DTSTART;TZID=Europe/Lisbon:20250712T210000
DTEND;TZID=Europe/Lisbon:20250712T210000
DTSTAMP:20260422T114110
CREATED:20250509T214838Z
LAST-MODIFIED:20250509T215004Z
UID:1323-1752354000-1752354000@eventosagenda.com
SUMMARY:I Festival de Folclore - Nespereira Altata
DESCRIPTION:
URL:https://eventosagenda.com/event/i-festival-de-folclore-nespereira-altata/
LOCATION:Nespereira Altata\, Nespereira Altata\, Viseu\, Portugal
CATEGORIES:Community,Fado, Concerts & Music,Festas & Festivals
ATTACH;FMTTYPE=image/jpeg:https://eventosagenda.com/wp-content/uploads/2025/05/IMG-20250509-WA00001.jpg
END:VEVENT
BEGIN:VEVENT
DTSTART;VALUE=DATE:20250713
DTEND;VALUE=DATE:20250714
DTSTAMP:20260422T114110
CREATED:20250523T102927Z
LAST-MODIFIED:20250523T102944Z
UID:1872-1752364800-1752451199@eventosagenda.com
SUMMARY:Afro Beats n Brunch - Portimão
DESCRIPTION:
URL:https://eventosagenda.com/event/afro-beats-n-brunch-portimao/
LOCATION:Portimão\, Portimão\, Faro\, Portugal
CATEGORIES:Fado, Concerts & Music,Food & Drink
ATTACH;FMTTYPE=image/jpeg:https://eventosagenda.com/wp-content/uploads/2025/05/facebook_1747942096741_7331400528130120496.jpg
END:VEVENT
BEGIN:VEVENT
DTSTART;VALUE=DATE:20250714
DTEND;VALUE=DATE:20250721
DTSTAMP:20260422T114110
CREATED:20250518T093932Z
LAST-MODIFIED:20250518T093932Z
UID:1754-1752451200-1753055999@eventosagenda.com
SUMMARY:XXVII Festival de Folclore Internacional - Viana do Castelo
DESCRIPTION:
URL:https://eventosagenda.com/event/xxvii-festival-de-folclore-internacional-viana-do-castelo/
LOCATION:Viana do Castelo\, Viana do Castelo\, Alto Minho\, Portugal
CATEGORIES:Fado, Concerts & Music,Festas & Festivals
ATTACH;FMTTYPE=image/jpeg:https://eventosagenda.com/wp-content/uploads/2025/05/facebook_1747490537669_7329506552107696227.jpg
END:VEVENT
BEGIN:VEVENT
DTSTART;VALUE=DATE:20250718
DTEND;VALUE=DATE:20250719
DTSTAMP:20260422T114110
CREATED:20250707T134622Z
LAST-MODIFIED:20250707T134622Z
UID:3110-1752796800-1752883199@eventosagenda.com
SUMMARY:Play-along World Folk Music Course - Capinha
DESCRIPTION:
URL:https://eventosagenda.com/event/play-along-world-folk-music-course-capinha/
LOCATION:Capinha\, Capinha\, Fundão\, Castelo Branco\, Portugal
CATEGORIES:Arts & Culture,Fado, Concerts & Music
ATTACH;FMTTYPE=image/jpeg:https://eventosagenda.com/wp-content/uploads/2025/07/facebook_1751609178469_7346781383690333945.jpg
END:VEVENT
BEGIN:VEVENT
DTSTART;VALUE=DATE:20250731
DTEND;VALUE=DATE:20250804
DTSTAMP:20260422T114110
CREATED:20250604T064608Z
LAST-MODIFIED:20250608T014339Z
UID:2396-1753920000-1754265599@eventosagenda.com
SUMMARY:Vagos Metal Fest 2025
DESCRIPTION:
URL:https://eventosagenda.com/event/vagos-metal-fest-2025/
LOCATION:Relvinha\, Relvinha\, Coimbra\, Portugal
CATEGORIES:Fado, Concerts & Music,Festas & Festivals
ATTACH;FMTTYPE=image/jpeg:https://eventosagenda.com/wp-content/uploads/2025/06/07.31-08.03-Vagos.-Aveiro.jpg
END:VEVENT
END:VCALENDAR