BEGIN:VCALENDAR
VERSION:2.0
PRODID:-// - ECPv6.15.20//NONSGML v1.0//EN
CALSCALE:GREGORIAN
METHOD:PUBLISH
X-ORIGINAL-URL:https://eventosagenda.com
X-WR-CALDESC:Events for 
REFRESH-INTERVAL;VALUE=DURATION:PT1H
X-Robots-Tag:noindex
X-PUBLISHED-TTL:PT1H
BEGIN:VTIMEZONE
TZID:Europe/Lisbon
BEGIN:DAYLIGHT
TZOFFSETFROM:+0000
TZOFFSETTO:+0100
TZNAME:WEST
DTSTART:20240331T010000
END:DAYLIGHT
BEGIN:STANDARD
TZOFFSETFROM:+0100
TZOFFSETTO:+0000
TZNAME:WET
DTSTART:20241027T010000
END:STANDARD
BEGIN:DAYLIGHT
TZOFFSETFROM:+0000
TZOFFSETTO:+0100
TZNAME:WEST
DTSTART:20250330T010000
END:DAYLIGHT
BEGIN:STANDARD
TZOFFSETFROM:+0100
TZOFFSETTO:+0000
TZNAME:WET
DTSTART:20251026T010000
END:STANDARD
BEGIN:DAYLIGHT
TZOFFSETFROM:+0000
TZOFFSETTO:+0100
TZNAME:WEST
DTSTART:20260329T010000
END:DAYLIGHT
BEGIN:STANDARD
TZOFFSETFROM:+0100
TZOFFSETTO:+0000
TZNAME:WET
DTSTART:20261025T010000
END:STANDARD
END:VTIMEZONE
BEGIN:VEVENT
DTSTART;VALUE=DATE:20250524
DTEND;VALUE=DATE:20250525
DTSTAMP:20260421T203744
CREATED:20250507T215316Z
LAST-MODIFIED:20250507T215327Z
UID:1250-1748044800-1748131199@eventosagenda.com
SUMMARY:Alcains Conecta - Casa do Povo de Alcains
DESCRIPTION:O cartaz oficial do Alcains Conecta chegou!\n\n\nNo dia 24 de maio\, a Casa do Povo de Alcains transforma-se num palco de celebração com música\, teatro\, artes plásticas e workshops.\n\n\nDe Custódio Castelo a Bons Rapazes\, de Freimatt a Terceira Pessoa\, a vila vai vibrar com talento\, energia e criatividade.\n\n\nE tu\, qual é o teu tipo de arte?\n\n\n\n\nThe official Alcains Connect poster has arrived!\n\n\nOn May 24\, the House of the People of Alcains transforms into a stage of celebration with music\, theater\, fine arts and workshops.\n\n\nFrom Castle Custodian to Good Guys\, Freimatt to Third Person\, the town will vibrate with talent\, energy and creativity.\n\n\nAnd you\, what’s your type of art?
URL:https://eventosagenda.com/event/alcains-conecta-casa-do-povo-de-alcains/
LOCATION:Casa do Povo de Alcains\, Alcains\, Castelo Branco\, Portugal
CATEGORIES:Arts & Culture,Festas & Festivals
ATTACH;FMTTYPE=image/jpeg:https://eventosagenda.com/wp-content/uploads/2025/05/Alcains.jpg
END:VEVENT
END:VCALENDAR