BEGIN:VCALENDAR
VERSION:2.0
PRODID:-// - ECPv6.15.20//NONSGML v1.0//EN
CALSCALE:GREGORIAN
METHOD:PUBLISH
X-ORIGINAL-URL:https://eventosagenda.com
X-WR-CALDESC:Events for 
REFRESH-INTERVAL;VALUE=DURATION:PT1H
X-Robots-Tag:noindex
X-PUBLISHED-TTL:PT1H
BEGIN:VTIMEZONE
TZID:Europe/Lisbon
BEGIN:DAYLIGHT
TZOFFSETFROM:+0000
TZOFFSETTO:+0100
TZNAME:WEST
DTSTART:20240331T010000
END:DAYLIGHT
BEGIN:STANDARD
TZOFFSETFROM:+0100
TZOFFSETTO:+0000
TZNAME:WET
DTSTART:20241027T010000
END:STANDARD
BEGIN:DAYLIGHT
TZOFFSETFROM:+0000
TZOFFSETTO:+0100
TZNAME:WEST
DTSTART:20250330T010000
END:DAYLIGHT
BEGIN:STANDARD
TZOFFSETFROM:+0100
TZOFFSETTO:+0000
TZNAME:WET
DTSTART:20251026T010000
END:STANDARD
BEGIN:DAYLIGHT
TZOFFSETFROM:+0000
TZOFFSETTO:+0100
TZNAME:WEST
DTSTART:20260329T010000
END:DAYLIGHT
BEGIN:STANDARD
TZOFFSETFROM:+0100
TZOFFSETTO:+0000
TZNAME:WET
DTSTART:20261025T010000
END:STANDARD
END:VTIMEZONE
BEGIN:VEVENT
DTSTART;TZID=Europe/Lisbon:20250827T210000
DTEND;TZID=Europe/Lisbon:20250831T233000
DTSTAMP:20260422T130700
CREATED:20250508T113618Z
LAST-MODIFIED:20250508T113618Z
UID:1301-1756328400-1756683000@eventosagenda.com
SUMMARY:Festa em Honra do Divino Salvador '25 - Real\, Vila-Mea
DESCRIPTION:
URL:https://eventosagenda.com/event/festa-em-honra-do-divino-salvador-25-real-vila-mea/
LOCATION:Real\, Vila-Mea\, Real\, Vila-Mea\, Porto\, Portugal
CATEGORIES:Festas & Festivals
ATTACH;FMTTYPE=image/jpeg:https://eventosagenda.com/wp-content/uploads/2025/05/facebook_1746656579775_7326008679177143920.jpg
END:VEVENT
BEGIN:VEVENT
DTSTART;VALUE=DATE:20250828
DTEND;VALUE=DATE:20250902
DTSTAMP:20260422T130700
CREATED:20250423T153531Z
LAST-MODIFIED:20250423T153531Z
UID:573-1756339200-1756771199@eventosagenda.com
SUMMARY:Festas do Mar - Praia de Esmoriz
DESCRIPTION:
URL:https://eventosagenda.com/event/festas-do-mar-praia-de-esmoriz/
LOCATION:Praia de Esmoriz\, Praia de Esmoriz\, Esmoriz\, Aveiro
CATEGORIES:Festas & Festivals
ATTACH;FMTTYPE=image/jpeg:https://eventosagenda.com/wp-content/uploads/2025/04/facebook_1745342636891_7320497603282886923.jpg
END:VEVENT
BEGIN:VEVENT
DTSTART;TZID=Europe/Lisbon:20250828T200000
DTEND;TZID=Europe/Lisbon:20250901T220000
DTSTAMP:20260422T130700
CREATED:20250427T221918Z
LAST-MODIFIED:20250427T222024Z
UID:650-1756411200-1756764000@eventosagenda.com
SUMMARY:Vitórias 1834 - Lixa
DESCRIPTION:Apresentamos o cartaz oficial Vitórias 2025.\nDe 28 de Agosto a 1 de Setembro.\nTodos os caminhos vão dar à Cidade da Lixa.\nCom um cartaz repleto de tradição e animação\, contamos com a presença de todos para que mais um ano se faça história na Lixa.\n\n\nIntroducing the official Victories 2025 poster.\nAugust 28 – September 1\nAll roads will lead to Sand City.\nWith a poster full of tradition and excitement\, we count on the presence of everyone to make history in Lixa another year.
URL:https://eventosagenda.com/event/vitorias/
LOCATION:Cidade da Lixa\, Cidade da Lixa\, Felgueiras\, Porto\, Portugal
CATEGORIES:Festas & Festivals
ATTACH;FMTTYPE=image/jpeg:https://eventosagenda.com/wp-content/uploads/2025/04/facebook_1745706785735_7322024954236023117.jpg
END:VEVENT
BEGIN:VEVENT
DTSTART;TZID=Europe/Lisbon:20250828T200000
DTEND;TZID=Europe/Lisbon:20250901T235900
DTSTAMP:20260422T130700
CREATED:20250709T190409Z
LAST-MODIFIED:20250709T190515Z
UID:3189-1756411200-1756771140@eventosagenda.com
SUMMARY:Festa Moita da Roda 2025
DESCRIPTION:
URL:https://eventosagenda.com/event/festa-moita-da-roda-2025/
LOCATION:Moita da Roda\, Moita da Roda\, Leiria\, Portugal
CATEGORIES:Festas & Festivals
ATTACH;FMTTYPE=image/jpeg:https://eventosagenda.com/wp-content/uploads/2025/07/facebook_1751222416732_7345159187390447481.jpg
END:VEVENT
BEGIN:VEVENT
DTSTART;TZID=Europe/Lisbon:20250828T220000
DTEND;TZID=Europe/Lisbon:20250901T220000
DTSTAMP:20260422T130700
CREATED:20250806T125649Z
LAST-MODIFIED:20250806T125649Z
UID:3540-1756418400-1756764000@eventosagenda.com
SUMMARY:Festas em Honra Nossa Senhora da Piedade - Poutena
DESCRIPTION:
URL:https://eventosagenda.com/event/festas-em-honra-nossa-senhora-da-piedade-poutena/
LOCATION:Poutena\, Poutena\, Anadia\, Aveiro\, Portugal
CATEGORIES:Festas & Festivals
ATTACH;FMTTYPE=image/jpeg:https://eventosagenda.com/wp-content/uploads/2025/08/08-28-Poutena.jpg
END:VEVENT
BEGIN:VEVENT
DTSTART;VALUE=DATE:20250829
DTEND;VALUE=DATE:20250901
DTSTAMP:20260422T130700
CREATED:20250702T152914Z
LAST-MODIFIED:20250707T124958Z
UID:3059-1756425600-1756684799@eventosagenda.com
SUMMARY:Festas Pereiro - Mação
DESCRIPTION:
URL:https://eventosagenda.com/event/festas-pereiro-macao/
LOCATION:Pereiro\, Pereiro\, Mação\, Santarém\, Portugal
CATEGORIES:Festas & Festivals
ATTACH;FMTTYPE=image/jpeg:https://eventosagenda.com/wp-content/uploads/2025/07/facebook_1751446652767_7346099701489298374.jpg
END:VEVENT
BEGIN:VEVENT
DTSTART;TZID=Europe/Lisbon:20250829T150000
DTEND;TZID=Europe/Lisbon:20250901T235900
DTSTAMP:20260422T130700
CREATED:20250812T085042Z
LAST-MODIFIED:20250815T143912Z
UID:3584-1756479600-1756771140@eventosagenda.com
SUMMARY:Festas em Louvor de Nossa Senhora do Perpétuo Socorro - Altalaias
DESCRIPTION:A melhor festa do ano está para vir\ne o cartaz acabou de sair\nNão fiques de fora da gandaia\,\nvem ver o nascer do sol à Atalaia! \n\nThe best party of the year is coming up\n\n\n\n\n\n\n\n\n\n\nand the poster is just up\nStay out of the gang\,\ncome to see the sunrise in Atalaia!
URL:https://eventosagenda.com/event/festas-em-louvor-de-nossa-senhora-do-perpetuo-socorro-altalaias/
LOCATION:Atalaias\, Atalaias\, Proença-a-Nova\, Castelo Branco\, Portugal
CATEGORIES:Festas & Festivals
ATTACH;FMTTYPE=image/jpeg:https://eventosagenda.com/wp-content/uploads/2025/08/08-29-Atalaias.jpg
END:VEVENT
BEGIN:VEVENT
DTSTART;TZID=Europe/Lisbon:20250829T170000
DTEND;TZID=Europe/Lisbon:20250901T143000
DTSTAMP:20260422T130700
CREATED:20250815T151456Z
LAST-MODIFIED:20250815T151456Z
UID:3606-1756486800-1756737000@eventosagenda.com
SUMMARY:Festa Casal D'Anja - Vieira de Leiria
DESCRIPTION:
URL:https://eventosagenda.com/event/festa-casal-danja-vieira-de-leiria/
LOCATION:Casal D’Anja\, Casal D'Anja\, Vieira de Leiria\, Leiria\, Portugal
CATEGORIES:Festas & Festivals
ATTACH;FMTTYPE=image/jpeg:https://eventosagenda.com/wp-content/uploads/2025/08/08-29-Casal-D-Anja.jpg
END:VEVENT
BEGIN:VEVENT
DTSTART;TZID=Europe/Lisbon:20250829T220000
DTEND;TZID=Europe/Lisbon:20250830T220000
DTSTAMP:20260422T130700
CREATED:20250806T210737Z
LAST-MODIFIED:20250806T210737Z
UID:3559-1756504800-1756591200@eventosagenda.com
SUMMARY:Festa do Padrão 2025 - Proença-a-Nova
DESCRIPTION:
URL:https://eventosagenda.com/event/festa-do-padrao-2025-proenca-a-nova/
LOCATION:Padrão\, Padrão\, Proença-a-Nova\, Castelo Branco\, Portugal
CATEGORIES:Festas & Festivals
ATTACH;FMTTYPE=image/jpeg:https://eventosagenda.com/wp-content/uploads/2025/08/08-29-Padrao.jpg
END:VEVENT
BEGIN:VEVENT
DTSTART;TZID=Europe/Lisbon:20250830T120000
DTEND;TZID=Europe/Lisbon:20250830T200000
DTSTAMP:20260422T130700
CREATED:20250620T142346Z
LAST-MODIFIED:20250620T142434Z
UID:2804-1756555200-1756584000@eventosagenda.com
SUMMARY:Crafts & Craft Beer Fest - Amigos Café & Bar\, Alvaiázere
DESCRIPTION:Saturday 30th August\, 12.00 till 20.00\nAmigos Café & Bar- Feira de Artesanato e Comida will be a little different – incorporating a mini beer festival!\nThere will be three breweries represented serving craft beer on tap\, plus beer and cider in bottles/cans to take away. There will be several stalls serving food to eat in or takeaway and many others with homemade crafts. Live music will add to the atmosphere.\nSomething to look forward to!\nQuinta do Olival\,52\, Estr. do Nabão\, 3250-144 Alvaiázere
URL:https://eventosagenda.com/event/crafts-craft-beer-fest/
LOCATION:Alvaiázere\, Alvaiázere\, Leiria\, Portugal
CATEGORIES:Festas & Festivals,Food & Drink,Markets & Fairs
ATTACH;FMTTYPE=image/jpeg:https://eventosagenda.com/wp-content/uploads/2025/06/facebook_1750428204832_7341828021240468406.jpg
END:VEVENT
END:VCALENDAR