BEGIN:VCALENDAR
VERSION:2.0
PRODID:-// - ECPv6.15.20//NONSGML v1.0//EN
CALSCALE:GREGORIAN
METHOD:PUBLISH
X-ORIGINAL-URL:https://eventosagenda.com
X-WR-CALDESC:Events for 
REFRESH-INTERVAL;VALUE=DURATION:PT1H
X-Robots-Tag:noindex
X-PUBLISHED-TTL:PT1H
BEGIN:VTIMEZONE
TZID:Europe/Lisbon
BEGIN:DAYLIGHT
TZOFFSETFROM:+0000
TZOFFSETTO:+0100
TZNAME:WEST
DTSTART:20240331T010000
END:DAYLIGHT
BEGIN:STANDARD
TZOFFSETFROM:+0100
TZOFFSETTO:+0000
TZNAME:WET
DTSTART:20241027T010000
END:STANDARD
BEGIN:DAYLIGHT
TZOFFSETFROM:+0000
TZOFFSETTO:+0100
TZNAME:WEST
DTSTART:20250330T010000
END:DAYLIGHT
BEGIN:STANDARD
TZOFFSETFROM:+0100
TZOFFSETTO:+0000
TZNAME:WET
DTSTART:20251026T010000
END:STANDARD
BEGIN:DAYLIGHT
TZOFFSETFROM:+0000
TZOFFSETTO:+0100
TZNAME:WEST
DTSTART:20260329T010000
END:DAYLIGHT
BEGIN:STANDARD
TZOFFSETFROM:+0100
TZOFFSETTO:+0000
TZNAME:WET
DTSTART:20261025T010000
END:STANDARD
END:VTIMEZONE
BEGIN:VEVENT
DTSTART;VALUE=DATE:20250805
DTEND;VALUE=DATE:20250818
DTSTAMP:20260422T130659
CREATED:20250505T162937Z
LAST-MODIFIED:20250505T163009Z
UID:1086-1754352000-1755475199@eventosagenda.com
SUMMARY:Festas em Honra de Nossa Senhora da Guia - Vila de Apúlia
DESCRIPTION:
URL:https://eventosagenda.com/event/festas-em-honra-de-nossa-senhora-da-guia-vila-de-apulia/
LOCATION:Vila de Apúlia\, Apúlia\, Braga\, Portugal
CATEGORIES:Festas & Festivals
ATTACH;FMTTYPE=image/jpeg:https://eventosagenda.com/wp-content/uploads/2025/05/489063017_1109289464575881_423264258881854945_n.jpg
END:VEVENT
BEGIN:VEVENT
DTSTART;VALUE=DATE:20250806
DTEND;VALUE=DATE:20250818
DTSTAMP:20260422T130659
CREATED:20250513T200102Z
LAST-MODIFIED:20250513T200119Z
UID:1561-1754438400-1755475199@eventosagenda.com
SUMMARY:2025 Volta a Portugal
DESCRIPTION:The 2025 Volta a Portugal em Bicicleta is scheduled to take place from 6 to 17 August 2025\, as confirmed by the official event website. This prestigious race is a cornerstone of the Portuguese cycling calendar and is part of the UCI Europe Tour. It attracts a diverse mix of UCI WorldTeams\, ProTeams\, Continental teams\, and national squads\, offering a platform for both seasoned professionals and emerging talents.
URL:https://eventosagenda.com/event/2025-volta-a-portugal/
LOCATION:Coimbra
CATEGORIES:Sports & Games
ATTACH;FMTTYPE=image/png:https://eventosagenda.com/wp-content/uploads/2025/05/Volta_a_Portugal_logo.png
END:VEVENT
BEGIN:VEVENT
DTSTART;VALUE=DATE:20250808
DTEND;VALUE=DATE:20250814
DTSTAMP:20260422T130659
CREATED:20250619T072840Z
LAST-MODIFIED:20250619T072939Z
UID:2694-1754611200-1755129599@eventosagenda.com
SUMMARY:Festas do Concelho de Góis
DESCRIPTION:Festas do Concelho de Góis 2025: Música\, Cultura e Emoção no Coração da Beira Serra 🎶 \nEste agosto\, Góis volta a ser palco de uma das festas mais aguardadas da região — as Festas do Concelho de Góis 2025. Com entrada gratuita e um cartaz de luxo\, o evento promete cinco dias de animação para todas as idades\, entre concertos\, DJs\, tasquinhas\, mercadinhos e atividades para crianças. \n📍 Onde: Parque de Lazer do Baião & Largo Francisco Inácio Dias Nogueira📅 Quando: De 8 a 13 de agosto🎟️ Entrada livre \n\n🎤 Programa em Destaque:\n\n\nDia 8: Abertura em grande com Katedral Music e animação DJ no Parque do Baião. O ambiente certo para dar início à festa com muita energia. \n\n\nDia 9: O carismático Nininho Vaz Maia sobe ao palco\, prometendo um espetáculo cheio de emoção. A noite continua com Insert Coin e animação DJ. \n\n\nDia 10: Um dos nomes mais queridos da música portuguesa\, João Pedro Pais\, traz os seus grandes êxitos a Góis. A noite conta ainda com Sara Ribeiro e mais música com DJ. \n\n\nDia 12: Tradição e boa disposição com os Marotos da Concertina\, no Largo Francisco Inácio Dias Nogueira. \n\n\nDia 13 (Feriado Municipal): Homenagem à música filarmónica com as atuações da AERG e da FILVAR\, num momento que une gerações e celebra a cultura local. \n\n\n\n🍽️ Para além da música…\nAs festas contam também com tasquinhas de petiscos\, mercadinho de artesanato e produtos locais\, e insufláveis para os mais pequenos — tudo para garantir momentos inesquecíveis em família ou entre amigos. \n\n🌟 Organização: Município de GóisCom o apoio de parceiros locais e a aposta numa programação sustentável e inclusiva\, estas festas reforçam Góis como destino de cultura\, tradição e hospitalidade. \n\nEste verão\, todos os caminhos vão dar a Góis. Marca na agenda e vem celebrar connosco!
URL:https://eventosagenda.com/event/festas-do-concelho-de-gois/
LOCATION:Góis\, Góis\, Coimbra\, Portugal
CATEGORIES:Festas & Festivals
ATTACH;FMTTYPE=image/jpeg:https://eventosagenda.com/wp-content/uploads/2025/06/facebook_1750232322322_7341006430445411016.jpg
END:VEVENT
BEGIN:VEVENT
DTSTART;TZID=Europe/Lisbon:20250808T090000
DTEND;TZID=Europe/Lisbon:20250815T235900
DTSTAMP:20260422T130659
CREATED:20250730T174305Z
LAST-MODIFIED:20250730T174305Z
UID:3419-1754643600-1755302340@eventosagenda.com
SUMMARY:Festas de Lordelo 2025 - Vila Real
DESCRIPTION:
URL:https://eventosagenda.com/event/festas-de-lordelo-2025-vila-real/
LOCATION:Vila Real\, Vila Real\, Vila Real\, Portugal
CATEGORIES:Festas & Festivals
ATTACH;FMTTYPE=image/jpeg:https://eventosagenda.com/wp-content/uploads/2025/07/08-08-Vila-Real.jpg
END:VEVENT
BEGIN:VEVENT
DTSTART;TZID=Europe/Lisbon:20250808T100000
DTEND;TZID=Europe/Lisbon:20250815T220000
DTSTAMP:20260422T130659
CREATED:20250722T103329Z
LAST-MODIFIED:20250722T103329Z
UID:3336-1754647200-1755295200@eventosagenda.com
SUMMARY:Festas São Lourenço - Lapela
DESCRIPTION:
URL:https://eventosagenda.com/event/festas-sao-lourenco-lapela/
LOCATION:Lapela\, Lapela\, Monção\, Viana do Castelo\, Portugal
CATEGORIES:Festas & Festivals
ATTACH;FMTTYPE=image/jpeg:https://eventosagenda.com/wp-content/uploads/2025/07/facebook_1752674644031_7351250270160840285.jpg
END:VEVENT
BEGIN:VEVENT
DTSTART;VALUE=DATE:20250809
DTEND;VALUE=DATE:20250815
DTSTAMP:20260422T130659
CREATED:20250701T141148Z
LAST-MODIFIED:20250701T141148Z
UID:2983-1754697600-1755215999@eventosagenda.com
SUMMARY:Festival do Marisco - Olhão
DESCRIPTION:Tickets for the 2025 Seafood Festival are on sale now!\n\n\nSecure your place now in what is one of the biggest and tastiest events of the Algarvian summer\, which takes place from August 9th to 14th at the Olhanense Fishing Garden.\n\n\nBuy your tickets in advance from Ticketline and don’t miss out on this party full of music\, seafood and good vibes.\n\n\nDaily tickets: €10 (adults) | €5 (children 7-12 years) | Free <6 years\n6-day pass: €54 (adults) | €27 (children)
URL:https://eventosagenda.com/event/festival-do-marisco-olhao-2/
LOCATION:Olhão\, Olhão\, Algarve\, Faro\, Portugal
CATEGORIES:Festas & Festivals
ATTACH;FMTTYPE=image/jpeg:https://eventosagenda.com/wp-content/uploads/2025/07/503498496_1255250016160299_2090730047738922207_n.jpg
END:VEVENT
BEGIN:VEVENT
DTSTART;TZID=Europe/Lisbon:20250809T200000
DTEND;TZID=Europe/Lisbon:20250815T220000
DTSTAMP:20260422T130659
CREATED:20250721T115107Z
LAST-MODIFIED:20250721T115107Z
UID:3259-1754769600-1755295200@eventosagenda.com
SUMMARY:Alvite 2025
DESCRIPTION:A FESTA MAIS ESPERADA DO VERÃO ESTÁ DE VOLTA! \n Festa em Honra de Nossa Senhora das Queimas 2025 \n De 9 a 15 de agosto\n\n\nPrepara-te para 7 dias de pura emoção\, tradição\, música e convívio como só o nosso povo sabe fazer! \n\n\n Este ano trazemos o MELHOR e MAIS AGUARDADO CARTAZ de sempre — com artistas que prometem pôr toda a gente a dançar noite dentro! \n\n\n Grandes concertos\, animação constante e um ambiente único que mistura fé\, cultura e muita festa!\n\n\n E de 11 a 14 de agosto\, reserva o apetite porque temos os nossos já famosos:\n JANTARES COM COMIDAS TÍPICAS\n Sabores da nossa terra\n Receitas tradicionais\n E\, claro\, aquele ambiente familiar que aquece o coração \n\n\n Haverá também momentos religiosos e a união de uma comunidade que sabe celebrar a vida\, a fé e a alegria de estarmos juntos.\n\n\n Marca na agenda\, partilha com os teus amigos e junta-te a nós!\nEsta é a festa que faz história todos os anos – e 2025 promete ser ainda mais inesquecível!\n\n\n\n\n THE MOST AWAITED PARTY OF THE SUMMER IS BACK! \n Party in Honor of Our Lady of Burns 2025 \n From August 9th to 15th\n\n\nGet ready for 7 days of pure emotion\, tradition\, music and togetherness as only our people know how to do! \n\n\n This year we’re bringing you the BEST and MOST AWAITED POSTER ever — featuring artists that promise to have everyone dancing the night in! \n\n\n Great concerts\, constant excitement and a unique atmosphere that mixes faith\, culture and lots of party!\n\n\n And from August 11 to 14\, reserve your appetite because we have our already famous ones:\n DINNERS WITH TYPICAL FOODS\n Flavors of our land\n Traditional recipes\n And\, of course\, that familiar atmosphere that warms the heart \n\n\n There will also be religious moments and the unity of a community that knows how to celebrate life\, faith and the joy of being together.\n\n\n Mark your calendar\, share with your friends and join us!\nThis is the party that makes history every year – and 2025 promises to be even more unforgettable!
URL:https://eventosagenda.com/event/alvite-2025/
LOCATION:Alvite\, Alvite\, Cabeceiras de Basto\, Braga\, Portugal
CATEGORIES:Festas & Festivals
ATTACH;FMTTYPE=image/jpeg:https://eventosagenda.com/wp-content/uploads/2025/07/facebook_1752528885523_7350638914667115198.jpg
END:VEVENT
BEGIN:VEVENT
DTSTART;VALUE=DATE:20250813
DTEND;VALUE=DATE:20250818
DTSTAMP:20260422T130659
CREATED:20250603T145014Z
LAST-MODIFIED:20250603T145046Z
UID:2363-1755043200-1755475199@eventosagenda.com
SUMMARY:Festival do Bacalhau - Gafanha da Nazaré
DESCRIPTION:
URL:https://eventosagenda.com/event/festival-do-bacalhau-gafanha-da-nazare/
LOCATION:Gafanha da Nazaré\, Gafanha da Nazaré\, Aveiro\, Portugal
CATEGORIES:Festas & Festivals,Food & Drink
ATTACH;FMTTYPE=image/png:https://eventosagenda.com/wp-content/uploads/2025/06/08.13-17-Ilhavo.png
END:VEVENT
BEGIN:VEVENT
DTSTART;TZID=Europe/Lisbon:20250813T180000
DTEND;TZID=Europe/Lisbon:20250817T210000
DTSTAMP:20260422T130659
CREATED:20250805T174641Z
LAST-MODIFIED:20250805T174641Z
UID:3502-1755108000-1755464400@eventosagenda.com
SUMMARY:Festas em Honra de Nossa Senhora da Alegria - Alegrete
DESCRIPTION:
URL:https://eventosagenda.com/event/festas-em-honra-de-nossa-senhora-da-alegria-alegrete/
LOCATION:Alegrete\, Alegrete\, Portalegre\, Portalegre\, Portugal
CATEGORIES:Festas & Festivals
ATTACH;FMTTYPE=image/jpeg:https://eventosagenda.com/wp-content/uploads/2025/08/08-15-Alegrete.jpg
END:VEVENT
BEGIN:VEVENT
DTSTART;TZID=Europe/Lisbon:20250813T200000
DTEND;TZID=Europe/Lisbon:20250817T220000
DTSTAMP:20260422T130659
CREATED:20250730T170737Z
LAST-MODIFIED:20250730T170748Z
UID:3388-1755115200-1755468000@eventosagenda.com
SUMMARY:Festejos em Honra de Sao Pedro - Festas do Fratel 2025
DESCRIPTION:
URL:https://eventosagenda.com/event/festejos-em-honra-de-sao-pedro-festas-do-fratel-2025/
LOCATION:Fratel\, Fratel\, Vila Velha de Ródão\, Castelo Branco\, Portugal
CATEGORIES:Festas & Festivals
ATTACH;FMTTYPE=image/jpeg:https://eventosagenda.com/wp-content/uploads/2025/07/08-13-Fratel.jpg
END:VEVENT
BEGIN:VEVENT
DTSTART;TZID=Europe/Lisbon:20250813T210000
DTEND;TZID=Europe/Lisbon:20250817T213000
DTSTAMP:20260422T130659
CREATED:20250805T174208Z
LAST-MODIFIED:20250805T174221Z
UID:3499-1755118800-1755466200@eventosagenda.com
SUMMARY:Festas em honra Nossa Senhora da Vitória - Pataias
DESCRIPTION:
URL:https://eventosagenda.com/event/festas-em-honra-nossa-senhora-da-vitoria-pataias/
LOCATION:Pataias\, Alcobaça\, Leiria\, Portugal
CATEGORIES:Festas & Festivals
ATTACH;FMTTYPE=image/jpeg:https://eventosagenda.com/wp-content/uploads/2025/08/08-13-Pataias.jpg
END:VEVENT
BEGIN:VEVENT
DTSTART;TZID=Europe/Lisbon:20250813T223000
DTEND;TZID=Europe/Lisbon:20250815T183000
DTSTAMP:20260422T130659
CREATED:20250730T174706Z
LAST-MODIFIED:20250730T174706Z
UID:3423-1755124200-1755282600@eventosagenda.com
SUMMARY:Festas em Honra do Santissimo Sacramento e Nossa Senhora da Apresentação - Várzea Cova
DESCRIPTION:
URL:https://eventosagenda.com/event/festas-em-honra-do-santissimo-sacramento-e-nossa-senhora-da-apresentacao-varzea-cova/
LOCATION:Várzea Cova\, Várzea Cova\, Fafe\, Braga\, Portugal
CATEGORIES:Festas & Festivals
ATTACH;FMTTYPE=image/jpeg:https://eventosagenda.com/wp-content/uploads/2025/07/08-13-Varzea-Cova.jpg
END:VEVENT
END:VCALENDAR