BEGIN:VCALENDAR
VERSION:2.0
PRODID:-// - ECPv6.15.20//NONSGML v1.0//EN
CALSCALE:GREGORIAN
METHOD:PUBLISH
X-ORIGINAL-URL:https://eventosagenda.com
X-WR-CALDESC:Events for 
REFRESH-INTERVAL;VALUE=DURATION:PT1H
X-Robots-Tag:noindex
X-PUBLISHED-TTL:PT1H
BEGIN:VTIMEZONE
TZID:Europe/Lisbon
BEGIN:DAYLIGHT
TZOFFSETFROM:+0000
TZOFFSETTO:+0100
TZNAME:WEST
DTSTART:20240331T010000
END:DAYLIGHT
BEGIN:STANDARD
TZOFFSETFROM:+0100
TZOFFSETTO:+0000
TZNAME:WET
DTSTART:20241027T010000
END:STANDARD
BEGIN:DAYLIGHT
TZOFFSETFROM:+0000
TZOFFSETTO:+0100
TZNAME:WEST
DTSTART:20250330T010000
END:DAYLIGHT
BEGIN:STANDARD
TZOFFSETFROM:+0100
TZOFFSETTO:+0000
TZNAME:WET
DTSTART:20251026T010000
END:STANDARD
BEGIN:DAYLIGHT
TZOFFSETFROM:+0000
TZOFFSETTO:+0100
TZNAME:WEST
DTSTART:20260329T010000
END:DAYLIGHT
BEGIN:STANDARD
TZOFFSETFROM:+0100
TZOFFSETTO:+0000
TZNAME:WET
DTSTART:20261025T010000
END:STANDARD
END:VTIMEZONE
BEGIN:VEVENT
DTSTART;VALUE=DATE:20250730
DTEND;VALUE=DATE:20250806
DTSTAMP:20260422T130659
CREATED:20250528T155209Z
LAST-MODIFIED:20250528T155234Z
UID:2101-1753833600-1754438399@eventosagenda.com
SUMMARY:Cortejo Alegórico 2025 – Lomba da Fazenda
DESCRIPTION:
URL:https://eventosagenda.com/event/cortejo-alegorico-2025-lomba-da-fazenda/
LOCATION:Lomba da Fazenda\, Lomba da Fazenda\, São Miguel\, Açores\, Portugal
CATEGORIES:Festas & Festivals
ATTACH;FMTTYPE=image/jpeg:https://eventosagenda.com/wp-content/uploads/2025/05/facebook_1747668420888_7330252648407477259.jpg
END:VEVENT
BEGIN:VEVENT
DTSTART;VALUE=DATE:20250731
DTEND;VALUE=DATE:20250811
DTSTAMP:20260422T130659
CREATED:20250604T073044Z
LAST-MODIFIED:20250604T073143Z
UID:2432-1753920000-1754870399@eventosagenda.com
SUMMARY:Expofacic  - Cantanhede 2025
DESCRIPTION:
URL:https://eventosagenda.com/event/expo-facic-cantanhede-2025/
LOCATION:Cantanhede\, Cantanhede\, Coimbra\, Portugal
CATEGORIES:Festas & Festivals,Food & Drink,Markets & Fairs
ATTACH;FMTTYPE=image/jpeg:https://eventosagenda.com/wp-content/uploads/2025/06/07.31-08.10-Cantanhede.jpg
END:VEVENT
BEGIN:VEVENT
DTSTART;TZID=Europe/Lisbon:20250731T180000
DTEND;TZID=Europe/Lisbon:20250805T220000
DTSTAMP:20260422T130659
CREATED:20250423T120320Z
LAST-MODIFIED:20250423T120320Z
UID:552-1753984800-1754431200@eventosagenda.com
SUMMARY:Festa Favaios - em Honra do Senhor Jesus do Outeiro
DESCRIPTION:
URL:https://eventosagenda.com/event/festa-favaios-em-honra-do-senhor-jesus-do-outeiro/
LOCATION:Favaios\, Favaios\, Vila Real\, Portugal
CATEGORIES:Festas & Festivals
ATTACH;FMTTYPE=image/jpeg:https://eventosagenda.com/wp-content/uploads/2025/04/facebook_1745342693734_7320497841700053953.jpg
END:VEVENT
BEGIN:VEVENT
DTSTART;TZID=Europe/Lisbon:20250801T160000
DTEND;TZID=Europe/Lisbon:20250805T235900
DTSTAMP:20260422T130659
CREATED:20250709T175722Z
LAST-MODIFIED:20250709T175722Z
UID:3142-1754064000-1754438340@eventosagenda.com
SUMMARY:Festa em honra de Santo António – Atalaia do Campo
DESCRIPTION:FESTA DE VERÃO 2025 – ATALAIA DO CAMPO \n\n\nApresentamos o cartaz oficial da nossa grandiosa festa em honra de Santo António!\n\n\n De 1 a 5 de agosto\n\n\n Atalaia do Campo\n\n\nEstá quase a chegar a festa mais esperada do ano!\nPrepara-te para cinco dias inesquecíveis\, com muita música e animação.\nMarca já na tua agenda e junta-te a nós.\n\n\nComissão 205\n‘Festejamos Juntos’\n\n  \n\n SUMMER PARTY 2025 – CAMP ATALAIA \n\n\nIntroducing the official poster of our great party in honor of Saint Anthony!\n\n\n From 1 to 5 August\n\n\n Field Atalaia\n\n\nThe most anticipated party of the year is almost here!\nGet ready for five unforgettable days\, with lots of music and excitement.\nMark our calendar now and join us.\n\n\nCommission 205\n‘Let’s Celebrate Together’
URL:https://eventosagenda.com/event/festa-em-honra-de-santo-antonio-atalaia-do-campo/
LOCATION:Atalaia do Campo\, Atalaia do Campo\, Fundão\, Castelo Branco\, Portugal
CATEGORIES:Festas & Festivals
ATTACH;FMTTYPE=image/jpeg:https://eventosagenda.com/wp-content/uploads/2025/07/facebook_1752042285797_7348597967491457607.jpg
END:VEVENT
BEGIN:VEVENT
DTSTART;TZID=Europe/Lisbon:20250801T180000
DTEND;TZID=Europe/Lisbon:20250805T223000
DTSTAMP:20260422T130659
CREATED:20250730T164425Z
LAST-MODIFIED:20250730T164636Z
UID:3373-1754071200-1754433000@eventosagenda.com
SUMMARY:Festas em Honra de Nossa Senhora da Conceição - Louriceira
DESCRIPTION:
URL:https://eventosagenda.com/event/festas-em-honra-de-nossa-senhora-da-conceicao-louriceira/
LOCATION:Louriceira\, Louriceira\, Alcanena\, Santarém\, Portugal
CATEGORIES:Festas & Festivals
ATTACH;FMTTYPE=image/jpeg:https://eventosagenda.com/wp-content/uploads/2025/07/08-01-Louriceira.jpg
END:VEVENT
BEGIN:VEVENT
DTSTART;TZID=Europe/Lisbon:20250802T190000
DTEND;TZID=Europe/Lisbon:20250805T220000
DTSTAMP:20260422T130659
CREATED:20250722T104202Z
LAST-MODIFIED:20250722T104202Z
UID:3342-1754161200-1754431200@eventosagenda.com
SUMMARY:Tradicional Festa do Pé Descalço - Asseiceria\, Rio Maior
DESCRIPTION:TRADICIONAL FESTA DO PÉ DESCALÇO em HONRA DE SÃO DOMINGOS  \n\n\nVoltamos para mais uma edição\, de 2 a 5 de Agosto de 2025 em Asseiceira – Rio Maior\n\n\nPROGRAMA:\nSÁBADO\, 2 de Agosto\n19h00 – Abertura do restaurante\n22h30 – Baile com Ritmo Certo\nAfter Hours com o DJ Micael Bento\n\n\nDOMINGO\, 3 de Agosto\n12h00 – Abertura do restaurante\nAnimação com Grupo de Concertinas\, Escola de Acordeão José Cláudio e Catarina Brilha\n18h00 – Missa campal em honra de São Domingos\, seguida de procissão\n19h00 – Abertura do restaurante\n22h00 – Baile com Nelson Lord’s\n\n\nSEGUNDA\, 4 de Agosto\n19h00 – Abertura do restaurante\n22h00 – Atuação de Dyana e os DFB\nAfter Hours com o DJ Johnny Q\n\n\nTERÇA\, 5 de Agosto – Dia do Pé Descalço\n12h00 – Tradicional Feijoada à Pé Descalço\n19h00 – Abertura do restaurante\n22h00 – Atuação da banda Bico D’Obra\n\n\nRESTAURANTE aberto ao jantar todos os dias\, almoços apenas domingo e terça.\n\n\nENTRADA LIVRE todos os dias!\nMarca já na tua agenda e vem festejar connosco! Partilha com os teus amigos e familiares.\n\n\nA Festa do Pé Descalço é de todos! Juntos somos mais fortes
URL:https://eventosagenda.com/event/tradicional-festa-do-pe-descalco-asseiceria-rio-maior/
LOCATION:Asseiceria\, Rio Maior\, Asseiceria\, Rio Maior\, Santarém\, Portugal
CATEGORIES:Festas & Festivals
ATTACH;FMTTYPE=image/jpeg:https://eventosagenda.com/wp-content/uploads/2025/07/facebook_1752264449992_7349529791659842318.jpg
END:VEVENT
BEGIN:VEVENT
DTSTART;TZID=Europe/Lisbon:20250803T083000
DTEND;TZID=Europe/Lisbon:20250811T233000
DTSTAMP:20260422T130659
CREATED:20250504T110246Z
LAST-MODIFIED:20250512T134029Z
UID:1021-1754209800-1754955000@eventosagenda.com
SUMMARY:Festsas de La Salette - Oliveira de Azeméis
DESCRIPTION:
URL:https://eventosagenda.com/event/festsas-de-la-salette-oliveira-de-azemeis/
LOCATION:Oliveira de Azeméis\, Oliveira de Azeméis\, Porto\, Portugal
CATEGORIES:Festas & Festivals
ATTACH;FMTTYPE=image/jpeg:https://eventosagenda.com/wp-content/uploads/2025/05/facebook_1746994842329_7327427455163576819.jpg
END:VEVENT
BEGIN:VEVENT
DTSTART;VALUE=DATE:20250805
DTEND;VALUE=DATE:20250818
DTSTAMP:20260422T130659
CREATED:20250505T162937Z
LAST-MODIFIED:20250505T163009Z
UID:1086-1754352000-1755475199@eventosagenda.com
SUMMARY:Festas em Honra de Nossa Senhora da Guia - Vila de Apúlia
DESCRIPTION:
URL:https://eventosagenda.com/event/festas-em-honra-de-nossa-senhora-da-guia-vila-de-apulia/
LOCATION:Vila de Apúlia\, Apúlia\, Braga\, Portugal
CATEGORIES:Festas & Festivals
ATTACH;FMTTYPE=image/jpeg:https://eventosagenda.com/wp-content/uploads/2025/05/489063017_1109289464575881_423264258881854945_n.jpg
END:VEVENT
BEGIN:VEVENT
DTSTART;TZID=Europe/Lisbon:20250805T200000
DTEND;TZID=Europe/Lisbon:20250810T235900
DTSTAMP:20260422T130659
CREATED:20250620T111057Z
LAST-MODIFIED:20250620T111115Z
UID:2770-1754424000-1754870340@eventosagenda.com
SUMMARY:Festas Nossa Senhora das Neves - Rendufe\, Amares
DESCRIPTION:
URL:https://eventosagenda.com/event/festas-nossa-senhora-das-neves-rendufe-amares/
LOCATION:Rendufe\, Rendufe\, Amares\, Braga\, Portugal
CATEGORIES:Festas & Festivals
ATTACH;FMTTYPE=image/jpeg:https://eventosagenda.com/wp-content/uploads/2025/06/facebook_1749868516604_7339480518667245171.jpg
END:VEVENT
END:VCALENDAR