BEGIN:VCALENDAR
VERSION:2.0
PRODID:-// - ECPv6.15.20//NONSGML v1.0//EN
CALSCALE:GREGORIAN
METHOD:PUBLISH
X-ORIGINAL-URL:https://eventosagenda.com
X-WR-CALDESC:Events for 
REFRESH-INTERVAL;VALUE=DURATION:PT1H
X-Robots-Tag:noindex
X-PUBLISHED-TTL:PT1H
BEGIN:VTIMEZONE
TZID:Europe/Lisbon
BEGIN:DAYLIGHT
TZOFFSETFROM:+0000
TZOFFSETTO:+0100
TZNAME:WEST
DTSTART:20240331T010000
END:DAYLIGHT
BEGIN:STANDARD
TZOFFSETFROM:+0100
TZOFFSETTO:+0000
TZNAME:WET
DTSTART:20241027T010000
END:STANDARD
BEGIN:DAYLIGHT
TZOFFSETFROM:+0000
TZOFFSETTO:+0100
TZNAME:WEST
DTSTART:20250330T010000
END:DAYLIGHT
BEGIN:STANDARD
TZOFFSETFROM:+0100
TZOFFSETTO:+0000
TZNAME:WET
DTSTART:20251026T010000
END:STANDARD
BEGIN:DAYLIGHT
TZOFFSETFROM:+0000
TZOFFSETTO:+0100
TZNAME:WEST
DTSTART:20260329T010000
END:DAYLIGHT
BEGIN:STANDARD
TZOFFSETFROM:+0100
TZOFFSETTO:+0000
TZNAME:WET
DTSTART:20261025T010000
END:STANDARD
END:VTIMEZONE
BEGIN:VEVENT
DTSTART;VALUE=DATE:20250725
DTEND;VALUE=DATE:20250804
DTSTAMP:20260422T130603
CREATED:20250430T170049Z
LAST-MODIFIED:20250430T170059Z
UID:884-1753401600-1754265599@eventosagenda.com
SUMMARY:Festa do Nadadouro 2025
DESCRIPTION:
URL:https://eventosagenda.com/event/festa-do-nadadouro-2025/
LOCATION:Nadadouro\, Caldas da Rainha\, Leiria\, Portugal
CATEGORIES:Festas & Festivals
ATTACH;FMTTYPE=image/webp:https://eventosagenda.com/wp-content/uploads/2025/04/Tasquinha-Da-Lagoa.webp
END:VEVENT
BEGIN:VEVENT
DTSTART;TZID=Europe/Lisbon:20250725T070000
DTEND;TZID=Europe/Lisbon:20250728T230000
DTSTAMP:20260422T130603
CREATED:20250701T191501Z
LAST-MODIFIED:20250701T191501Z
UID:3013-1753426800-1753743600@eventosagenda.com
SUMMARY:Festas em Honra de Nossa Senhora das Dores – Castedo do Douro
DESCRIPTION:Festas em Honra de Nossa Senhora das Dores – Castedo do Douro \n 25 a 28 de Julho de 2025\n Castedo do Douro – Alijó\n\n\nÉ com enorme alegria que anunciamos as tradicionais Festas em Honra de Nossa Senhora das Dores\, em Castedo do Douro! Quatro dias repletos de fé\, tradição\, música e convívio\, onde a comunidade se une para celebrar com entusiasmo a nossa padroeira.\n\n\n Programa Religioso\nCelebrações solenes em honra de Nossa Senhora das Dores\, com procissões\, missas e momentos de recolhimento\, que mantêm viva a devoção e a identidade do nosso povo.\n\n\n Animação Musical\nGrupos musicais\, bandas populares e DJs prometem animar as noites de festa com muita música\, dança e alegria!\n\n\n Outros Destaques\nAtividades culturais e recreativas\n\n\nTradicional procissão pelas ruas da aldeia\n\n\nSessões de fogo de artifício\n\n\nEncontros de gerações\, amigos e famílias\n\n\n Traga a sua família\, convide os amigos e venha celebrar connosco!\nCastedo do Douro espera por si de braços abertos. Viva as Festas! Viva Nossa Senhora das Dores!\n\n  \n\n Parties in Honor of Our Lady of Sorrows – Castedo do Douro \n July 25-28\, 2025\n Castle of Gold – Alijó\n\n\nIt is with great joy that we announce the traditional Festivities in Honor of Our Lady of Sorrows\, in Castedo do Douro! Four days full of faith\, tradition\, music and fellowship\, where the community comes together to celebrate with enthusiasm our patron saint.\n\n\n Religious Program\nSolemn celebrations in honor of Our Lady of Sorrows\, with processions\, masses and moments of collection\, that keep alive the devotion and identity of our people.\n\n\n Musical Animation\nMusical groups\, popular bands and DJs promise to liven up the party nights with lots of music\, dance and joy!\n\n\n Other Highlights\nCultural and recreational activities\n\n\nTraditional procession through the village streets\n\n\nFireworks sessions\n\n\nGathering of generations\, friends and families\n\n\n Bring your family\, invite your friends and come celebrate with us!\nCastedo do Douro awaits you with open arms. Cheers to the Holidays! Hail Our Lady of Sorrows!
URL:https://eventosagenda.com/event/festas-em-honra-de-nossa-senhora-das-dores-castedo-do-douro/
LOCATION:Castedo do Douro\, Castedo do Douro\, Vila Real\, Portugal
CATEGORIES:Festas & Festivals
ATTACH;FMTTYPE=image/jpeg:https://eventosagenda.com/wp-content/uploads/2025/07/510483127_1082924853951127_9015147694404743145_n.jpg
END:VEVENT
BEGIN:VEVENT
DTSTART;TZID=Europe/Lisbon:20250725T160000
DTEND;TZID=Europe/Lisbon:20250728T235900
DTSTAMP:20260422T130603
CREATED:20250711T153213Z
LAST-MODIFIED:20250711T153213Z
UID:3231-1753459200-1753747140@eventosagenda.com
SUMMARY:Ribeira da Isna Festa 2025
DESCRIPTION:
URL:https://eventosagenda.com/event/ribeira-da-isna-festa-2025/
LOCATION:Ribeira da Isna\, Ribeira da Isna\, Olerios\, Castelo Branco\, Portugal
CATEGORIES:Festas & Festivals
ATTACH;FMTTYPE=image/jpeg:https://eventosagenda.com/wp-content/uploads/2025/07/514353223_1211762587657499_2646365576830800116_n.jpg
END:VEVENT
BEGIN:VEVENT
DTSTART;TZID=Europe/Lisbon:20250725T180000
DTEND;TZID=Europe/Lisbon:20250728T235900
DTSTAMP:20260422T130603
CREATED:20250709T182231Z
LAST-MODIFIED:20250709T182416Z
UID:3162-1753466400-1753747140@eventosagenda.com
SUMMARY:Festas em Honra de Santa Rita - Castelo
DESCRIPTION:
URL:https://eventosagenda.com/event/festas-em-honra-de-santa-rita-castelo/
LOCATION:Castelo\, Castelo\, Sertã\, Castelo Branco\, Portugal
CATEGORIES:Festas & Festivals
ATTACH;FMTTYPE=image/jpeg:https://eventosagenda.com/wp-content/uploads/2025/07/facebook_1752042647281_7348599483661877204.jpg
END:VEVENT
BEGIN:VEVENT
DTSTART;TZID=Europe/Lisbon:20250725T180000
DTEND;TZID=Europe/Lisbon:20250803T220000
DTSTAMP:20260422T130603
CREATED:20250707T140741Z
LAST-MODIFIED:20250707T140741Z
UID:3114-1753466400-1754258400@eventosagenda.com
SUMMARY:Achada 2025 - Achada\, Mafra
DESCRIPTION:
URL:https://eventosagenda.com/event/achada-2025-achada-mafra/
LOCATION:Achada\, Achada\, Mafra\, Lisboa\, Portugal
CATEGORIES:Festas & Festivals
ATTACH;FMTTYPE=image/jpeg:https://eventosagenda.com/wp-content/uploads/2025/07/facebook_1751572699637_7346628380379931092.jpg
END:VEVENT
BEGIN:VEVENT
DTSTART;TZID=Europe/Lisbon:20250725T190000
DTEND;TZID=Europe/Lisbon:20250728T235900
DTSTAMP:20260422T130603
CREATED:20250722T101320Z
LAST-MODIFIED:20250722T101342Z
UID:3324-1753470000-1753747140@eventosagenda.com
SUMMARY:Festas em Honra do Divino Espírito Santo - Monsanto\, Alcanena
DESCRIPTION:Festas em Honra do Divino Espírito Santo – Monsanto 2025\n De 25 a 28 de julho\n\n\nQuatro dias de festa em Monsanto com muita animação\, música\, tradição e boa comida!\n\n\n Cada dia tem um tema especial:\n Dia do Emigrante\n Dia da Juventude\n Dia da Tradição\n Dia de Monsanto\n\n\n Jantares\, procissão\, música e muita diversão para todas as idades!\n\n\n Não faltes! Vem celebrar com a tua comunidade!\n Organização: Comissão de Festas de Monsanto 2025\n\n\n\n\n\n Parties in Honor of the Divine Holy Spirit – Monsanto 2025\n From July 25 to 28\n\n\nFour days of party in Monsanto with a lot of excitement\, music\, tradition and good food!\n\n\n Each day has a special theme:\n Emigrant Day\n Youth Day\n Tradition Day\n Monsanto Day\n\n\n Dinners\, procession\, music and lots of fun for all ages!\n\n\n Don’t miss out! Come celebrate with your community!\n Organization: Monsanto Festival Committee 2025
URL:https://eventosagenda.com/event/festas-em-honra-do-divino-espirito-santo-monsanto-alcanena/
LOCATION:Monsanto\, Alcanena\, Monsanto\, Alcanena\, Santarém\, Portugal
CATEGORIES:Festas & Festivals
ATTACH;FMTTYPE=image/jpeg:https://eventosagenda.com/wp-content/uploads/2025/07/facebook_1753120064724_7353118499953423661.jpg
END:VEVENT
BEGIN:VEVENT
DTSTART;VALUE=DATE:20250726
DTEND;VALUE=DATE:20250804
DTSTAMP:20260422T130603
CREATED:20250416T203942Z
LAST-MODIFIED:20250416T204234Z
UID:388-1753488000-1754265599@eventosagenda.com
SUMMARY:XXXIV Feira de Enchidos Queijo e Mel 2025 - Vila de Rei
DESCRIPTION:he Municipality of Vila de Rei is already finalizing preparations for the XXXIV Sausage\, Cheese and Honey Fair (FEQM)\, which will take place at the Vila de Rei Fair Park\, between July 26 and August 3\, 2025 . \nRecognized as one of the most important events in the central region\, the event once again brings together the best of music\, gastronomy and crafts\, promising nine days of celebration\, socializing and entertainment. The main stage will once again feature a lineup packed with nationally renowned artists\, which will\, in itself\, attract thousands of visitors. \nMain stage show poster:\n\nJuly 26 – Forever Marco\nJuly 27 – Marco Rodrigues\nJuly 28th – Augusto Canario\nJuly 29 – David Antunes\nJuly 30th – Quim Barreiros\nJuly 31st – Zé Amaro\nAugust 1st – Julinho KSD\nAugust 2 – Fernando Daniel\nAugust 3rd – Prof. Idalécio / Luis Sequeira\n\nThe organization promises to soon release the full schedule of secondary stages and other activities that will take place throughout the event. \nFor more information and updates\, interested parties can follow the news through the official FEQM page on Facebook:  https://www.facebook.com/profile.php?id=100057590374343 \n34th Sausage\, Cheese and Honey Fair – from July 26th to August 3rd. Don’t miss this encounter with the flavors and traditions of Vila de Rei!
URL:https://eventosagenda.com/event/xxxiv-feira-de-enchidos-queijo-e-mel-2025-vila-de-rei/
LOCATION:Vila de Rei\, Vila de Rei\, Castelo Branco\, Portugal
CATEGORIES:Festas & Festivals,Food & Drink
ATTACH;FMTTYPE=image/webp:https://eventosagenda.com/wp-content/uploads/2025/04/vila-de-rei-queijo-e-mel-2025.webp
END:VEVENT
BEGIN:VEVENT
DTSTART;TZID=Europe/Lisbon:20250726T083000
DTEND;TZID=Europe/Lisbon:20250804T233000
DTSTAMP:20260422T130603
CREATED:20250425T172041Z
LAST-MODIFIED:20250425T172041Z
UID:634-1753518600-1754350200@eventosagenda.com
SUMMARY:Grandiosas Festas Honra de Nossa Senhora dos Remédios - Carvalho Santo\, Leça do Balio
DESCRIPTION:
URL:https://eventosagenda.com/event/grandiosas-festas-honra-de-nossa-senhora-dos-remedios-carvalho-santo-leca-do-balio/
LOCATION:Carvalho Santo\, Carvalho Santo\,\, Leça do Balio\, Porto\, Portugal
CATEGORIES:Festas & Festivals
ATTACH;FMTTYPE=image/jpeg:https://eventosagenda.com/wp-content/uploads/2025/04/492154493_122160800900547369_7974088744422187893_n.jpg
END:VEVENT
BEGIN:VEVENT
DTSTART;TZID=Europe/Lisbon:20250727T083000
DTEND;TZID=Europe/Lisbon:20250803T223000
DTSTAMP:20260422T130603
CREATED:20250711T154110Z
LAST-MODIFIED:20250711T154110Z
UID:3240-1753605000-1754260200@eventosagenda.com
SUMMARY:Festa em Honra da Nossa Senhora do Bom Sucesso - Nadadouro
DESCRIPTION:
URL:https://eventosagenda.com/event/festa-em-honra-da-nossa-senhora-do-bom-sucesso-nadadouro/
LOCATION:Nadadouro\, Caldas da Rainha\, Leiria\, Portugal
CATEGORIES:Festas & Festivals
ATTACH;FMTTYPE=image/jpeg:https://eventosagenda.com/wp-content/uploads/2025/07/facebook_1752221988077_7349351693482139148.jpg
END:VEVENT
BEGIN:VEVENT
DTSTART;TZID=Europe/Lisbon:20250728T210000
DTEND;TZID=Europe/Lisbon:20250803T220000
DTSTAMP:20260422T130603
CREATED:20250707T132839Z
LAST-MODIFIED:20250707T132859Z
UID:3092-1753736400-1754258400@eventosagenda.com
SUMMARY:Festas em honra de Nossa Senhora da Saúde - Urgeira\, Valença
DESCRIPTION:
URL:https://eventosagenda.com/event/festas-em-honra-de-nossa-senhora-da-saude-urgeira-valenca/
LOCATION:Urgeira\, Urgeira\, Valença\, Viana do Castelo\, Portugal
CATEGORIES:Festas & Festivals
ATTACH;FMTTYPE=image/jpeg:https://eventosagenda.com/wp-content/uploads/2025/07/facebook_1751826488671_7347692848740930639.jpg
END:VEVENT
END:VCALENDAR