BEGIN:VCALENDAR
VERSION:2.0
PRODID:-// - ECPv6.15.20//NONSGML v1.0//EN
CALSCALE:GREGORIAN
METHOD:PUBLISH
X-ORIGINAL-URL:https://eventosagenda.com
X-WR-CALDESC:Events for 
REFRESH-INTERVAL;VALUE=DURATION:PT1H
X-Robots-Tag:noindex
X-PUBLISHED-TTL:PT1H
BEGIN:VTIMEZONE
TZID:Europe/Lisbon
BEGIN:DAYLIGHT
TZOFFSETFROM:+0000
TZOFFSETTO:+0100
TZNAME:WEST
DTSTART:20240331T010000
END:DAYLIGHT
BEGIN:STANDARD
TZOFFSETFROM:+0100
TZOFFSETTO:+0000
TZNAME:WET
DTSTART:20241027T010000
END:STANDARD
BEGIN:DAYLIGHT
TZOFFSETFROM:+0000
TZOFFSETTO:+0100
TZNAME:WEST
DTSTART:20250330T010000
END:DAYLIGHT
BEGIN:STANDARD
TZOFFSETFROM:+0100
TZOFFSETTO:+0000
TZNAME:WET
DTSTART:20251026T010000
END:STANDARD
BEGIN:DAYLIGHT
TZOFFSETFROM:+0000
TZOFFSETTO:+0100
TZNAME:WEST
DTSTART:20260329T010000
END:DAYLIGHT
BEGIN:STANDARD
TZOFFSETFROM:+0100
TZOFFSETTO:+0000
TZNAME:WET
DTSTART:20261025T010000
END:STANDARD
END:VTIMEZONE
BEGIN:VEVENT
DTSTART;VALUE=DATE:20250705
DTEND;VALUE=DATE:20250728
DTSTAMP:20260422T143835
CREATED:20250605T114826Z
LAST-MODIFIED:20250605T114837Z
UID:2494-1751673600-1753660799@eventosagenda.com
SUMMARY:AgitÁgueda - Águeda
DESCRIPTION:AgitÁgueda is a vibrant\, multi-week summer festival held annually in Águeda\, a small city in central Portugal. It’s most famous for its colourful umbrella sky installation\, which has become an iconic symbol of Portuguese summer creativity and design. \n\n🌂 What Makes AgitÁgueda Special?\n\n\n🌈 Umbrella Sky ProjectStreets are covered with floating umbrellas suspended in mid-air\, casting colourful shadows and creating a whimsical\, Instagram-famous atmosphere. \n\n\n🎶 Free ConcertsEvery night during the festival\, national and international artists perform for free on open-air stages\, covering a range of genres from pop to rock to electronic music. \n\n\n🎨 Urban ArtThe city transforms into an open-air art gallery with street art murals\, sculptures\, and creative installations by artists from around the world. \n\n\n🎭 Street PerformancesThere are daily performances including theatre\, dance\, circus acts\, and parades\, often interactive and playful. \n\n\n👨‍👩‍👧 Family ActivitiesWorkshops\, kids’ zones\, and cultural exhibitions make it a very family-friendly event. \n\n\n🍽️ Food and Artisan MarketsLocal food stalls and crafts markets give visitors a taste of Portuguese cuisine and handmade goods.
URL:https://eventosagenda.com/event/agitagueda-agueda/
LOCATION:Águeda\, Águeda\, Aveiro\, Portugal
CATEGORIES:Arts & Culture,Festas & Festivals,Theatre & Performing Arts
ATTACH;FMTTYPE=image/jpeg:https://eventosagenda.com/wp-content/uploads/2025/06/06.05-27-AGUEDA.jpg
END:VEVENT
BEGIN:VEVENT
DTSTART;TZID=Europe/Lisbon:20250712T090000
DTEND;TZID=Europe/Lisbon:20250727T170000
DTSTAMP:20260422T143835
CREATED:20250430T105917Z
LAST-MODIFIED:20250430T105933Z
UID:808-1752310800-1753635600@eventosagenda.com
SUMMARY:Festa do Santíssimo Sacramento de Gião-Vila do Conde 2025
DESCRIPTION:
URL:https://eventosagenda.com/event/festa-do-santissimo-sacramento-de-giao-vila-do-conde-2025/
LOCATION:Gião\, Vila do Conde\, Porto\, Portugal
CATEGORIES:Fado, Concerts & Music,Festas & Festivals
ATTACH;FMTTYPE=image/jpeg:https://eventosagenda.com/wp-content/uploads/2025/04/facebook_1745971928886_7323137045218052479.jpg
END:VEVENT
BEGIN:VEVENT
DTSTART;TZID=Europe/Lisbon:20250717T190000
DTEND;TZID=Europe/Lisbon:20250724T190000
DTSTAMP:20260422T143835
CREATED:20250508T114152Z
LAST-MODIFIED:20250508T114231Z
UID:1305-1752778800-1753383600@eventosagenda.com
SUMMARY:Festas em Honra de Santa Cristina e Santo António 2025 -
DESCRIPTION:
URL:https://eventosagenda.com/event/festas-em-honra-de-santa-cristina-e-santo-antonio-2025/
LOCATION:Afife\, Afife\, Viana do Castelo\, Portugal
CATEGORIES:Festas & Festivals
ATTACH;FMTTYPE=image/jpeg:https://eventosagenda.com/wp-content/uploads/2025/05/Afife-1.jpg
END:VEVENT
BEGIN:VEVENT
DTSTART;TZID=Europe/Lisbon:20250719T210000
DTEND;TZID=Europe/Lisbon:20250724T200000
DTSTAMP:20260422T143835
CREATED:20250505T162324Z
LAST-MODIFIED:20250505T162527Z
UID:1079-1752958800-1753387200@eventosagenda.com
SUMMARY:Festas de São Tiago de Carapeços 2025
DESCRIPTION:
URL:https://eventosagenda.com/event/festas/
LOCATION:Carapecos\, Barcelos\, Braga\, Portugal
CATEGORIES:Festas & Festivals
ATTACH;FMTTYPE=image/jpeg:https://eventosagenda.com/wp-content/uploads/2025/05/Carapecos.jpg
END:VEVENT
BEGIN:VEVENT
DTSTART;VALUE=DATE:20250723
DTEND;VALUE=DATE:20250728
DTSTAMP:20260422T143835
CREATED:20250430T221716Z
LAST-MODIFIED:20250430T221731Z
UID:911-1753228800-1753660799@eventosagenda.com
SUMMARY:Festas de Verão & Expoarte 2025 - Pedrógão Grande
DESCRIPTION:Festas de Verão & Expoarte 2025 – Inscrições Abertas!\n\n\nO verão está a chegar e\, com ele\, as Festas de Verão & Expoarte 2025! De 23 a 27 de julho\, Pedrógão Grande volta a encher-se de música\, animação\, artesanato e gastronomia\, num evento que celebra a cultura\, a tradição e as pessoas da nossa terra.\n\n\nSe és artesão\, produtor ou comerciante\, associa-te a esta festa: inscreve-te já e garante o teu lugar!\n\n\nConsulta já as normas de participação e o formulário em https://bit.ly/FestasdeVeraoPG\n\n\n Para mais informações e inscrições\, contacta-nos através do email festasdeverao@cm-pedrogaogrande.pt ou pelo telefone 236480150.\n\n\n#FestasDeVerão2025 #Expoarte2025 #PedrógãoGrande – Sinta-se em Casa\, com a Natureza.
URL:https://eventosagenda.com/event/festas-de-verao-expoarte-2025-pedrogao-grande/
LOCATION:Pedrógão Grande\, Pedrógão Grande\, Leiria\, Portugal
CATEGORIES:Festas & Festivals
ATTACH;FMTTYPE=image/jpeg:https://eventosagenda.com/wp-content/uploads/2025/04/Pedrogao.jpg
END:VEVENT
BEGIN:VEVENT
DTSTART;VALUE=DATE:20250723
DTEND;VALUE=DATE:20250728
DTSTAMP:20260422T143835
CREATED:20250512T203425Z
LAST-MODIFIED:20250512T203425Z
UID:1457-1753228800-1753660799@eventosagenda.com
SUMMARY:expoh - Oliveira do Hospital
DESCRIPTION:
URL:https://eventosagenda.com/event/expoh-oliveira-do-hospital/
LOCATION:Oliveira do Hospital\, Quinta da Carva\, Oliveira do Hospital
CATEGORIES:Festas & Festivals
ATTACH;FMTTYPE=image/jpeg:https://eventosagenda.com/wp-content/uploads/2025/05/facebook_1747073769188_7327758498401282525.jpg
END:VEVENT
BEGIN:VEVENT
DTSTART;VALUE=DATE:20250724
DTEND;VALUE=DATE:20250728
DTSTAMP:20260422T143835
CREATED:20250601T091743Z
LAST-MODIFIED:20250601T091819Z
UID:2282-1753315200-1753660799@eventosagenda.com
SUMMARY:Romaria S. Tome - Ferreira-a-Nova
DESCRIPTION:
URL:https://eventosagenda.com/event/romaria-s-tome-ferreira-a-nova/
LOCATION:Ferreira-a-Nova\, Ferreira-a-Nova\, Coimbra\, Portugal
CATEGORIES:Festas & Festivals
ATTACH;FMTTYPE=image/jpeg:https://eventosagenda.com/wp-content/uploads/2025/06/494696295_672807582174194_2080081506681122231_n.jpg
END:VEVENT
BEGIN:VEVENT
DTSTART;VALUE=DATE:20250724
DTEND;VALUE=DATE:20250728
DTSTAMP:20260422T143835
CREATED:20250623T150037Z
LAST-MODIFIED:20250623T150059Z
UID:2882-1753315200-1753660799@eventosagenda.com
SUMMARY:Nisa em Festa 2025
DESCRIPTION:Nisa in Fiesta 2025 \n\n\nFinally our complete poster \n\n\nOnline and physical ticket sale starting soon! Stay tuned \n\n\nHere we leave you the daily ticket prices and pass \n\n\n Daily Tickets:\n\n\njul July 24 – FREE;\n25 July 25 – €5;\n July 26 – €15;\n July 27 – €5.\n\n\n 4 day pass – 20€.\n\n\nJuly 24-27 we have a date!
URL:https://eventosagenda.com/event/nisa-em-festa-2025/
LOCATION:Nisa\, Nisa\, Portalegre\, Portugal
CATEGORIES:Festas & Festivals
ATTACH;FMTTYPE=image/jpeg:https://eventosagenda.com/wp-content/uploads/2025/06/facebook_1750687053365_7342913710679182133.jpg
END:VEVENT
BEGIN:VEVENT
DTSTART;TZID=Europe/Lisbon:20250724T080000
DTEND;TZID=Europe/Lisbon:20250727T200000
DTSTAMP:20260422T143835
CREATED:20250505T163753Z
LAST-MODIFIED:20250505T163753Z
UID:1090-1753344000-1753646400@eventosagenda.com
SUMMARY:Festas em Honra de Nossa Senhora do Socorro 2025
DESCRIPTION:Em Honra de Nossa Senhora do Socorro\nÉ com grande alegria que apresentamos o cartaz da Festa em Honra de Nossa Senhora do Socorro\, que se realiza ao longo de 3 noites Inesquecíveis!!!\nDe 24 de Julho a 27 de Julho a nossa terra enche-se de fé\, tradição e alegria com música ao vivo\, DJ’S e as tão acostumadas Barraquinhas que nos acompanham ao longos dos anos e muita animação.\nE como é óbvio não nos podemos esquecer da tão grandiosa sessão de Fogo de Artifício a que estamos acostumados\nJunta-te a nós para celebrar a padroeira da nossa terra e viver momentos Inesquecíveis!!\nContamos com o vosso apoio nesta grande caminhada!!\nObrigado a Comissão de festas de 2025\n\n\nIn Honor of Our Lady of Help.\nIt is with great pleasure that we present the poster of the Feast in Honor of Our Lady of Help\, which takes place over 3 unforgettable nights!!!\nFrom July 24th to July 27th our land is filled with faith\, tradition and joy with live music\, DJ’S and the familiar Barraquinhas that accompany us throughout the years and a lot of excitement.\nAnd of course we can’t forget about such a great Firework session we’re accustomed to\nJoin us to celebrate the patroness of our land and live unforgettable moments!!\nWe count on your support in this great walk!!\nThank you to the Party Committee of 2025
URL:https://eventosagenda.com/event/festas-em-honra-de-nossa-senhora-do-socorro-2025/
LOCATION:Paredes de Viadores\, Marco de Canaveses\, Porto\, Portugal
CATEGORIES:Festas & Festivals
ATTACH;FMTTYPE=image/jpeg:https://eventosagenda.com/wp-content/uploads/2025/05/facebook_1746330647201_7324641618882073444.jpg
END:VEVENT
BEGIN:VEVENT
DTSTART;TZID=Europe/Lisbon:20250724T090000
DTEND;TZID=Europe/Lisbon:20250727T230000
DTSTAMP:20260422T143835
CREATED:20250709T193904Z
LAST-MODIFIED:20250709T193915Z
UID:3219-1753347600-1753657200@eventosagenda.com
SUMMARY:Festa Grande Romaria de S.Tomé - Ferreira-a-Nova
DESCRIPTION:
URL:https://eventosagenda.com/event/festa-grande-romaria-de-s-tome-ferreira-a-nova/
LOCATION:Ferreira-a-Nova\, Ferreira-a-Nova\, Coimbra\, Portugal
CATEGORIES:Festas & Festivals
ATTACH;FMTTYPE=image/jpeg:https://eventosagenda.com/wp-content/uploads/2025/07/facebook_1751291523752_7345449043240936978.jpg
END:VEVENT
END:VCALENDAR