BEGIN:VCALENDAR
VERSION:2.0
PRODID:-// - ECPv6.15.20//NONSGML v1.0//EN
CALSCALE:GREGORIAN
METHOD:PUBLISH
X-ORIGINAL-URL:https://eventosagenda.com
X-WR-CALDESC:Events for 
REFRESH-INTERVAL;VALUE=DURATION:PT1H
X-Robots-Tag:noindex
X-PUBLISHED-TTL:PT1H
BEGIN:VTIMEZONE
TZID:Europe/Lisbon
BEGIN:DAYLIGHT
TZOFFSETFROM:+0000
TZOFFSETTO:+0100
TZNAME:WEST
DTSTART:20240331T010000
END:DAYLIGHT
BEGIN:STANDARD
TZOFFSETFROM:+0100
TZOFFSETTO:+0000
TZNAME:WET
DTSTART:20241027T010000
END:STANDARD
BEGIN:DAYLIGHT
TZOFFSETFROM:+0000
TZOFFSETTO:+0100
TZNAME:WEST
DTSTART:20250330T010000
END:DAYLIGHT
BEGIN:STANDARD
TZOFFSETFROM:+0100
TZOFFSETTO:+0000
TZNAME:WET
DTSTART:20251026T010000
END:STANDARD
BEGIN:DAYLIGHT
TZOFFSETFROM:+0000
TZOFFSETTO:+0100
TZNAME:WEST
DTSTART:20260329T010000
END:DAYLIGHT
BEGIN:STANDARD
TZOFFSETFROM:+0100
TZOFFSETTO:+0000
TZNAME:WET
DTSTART:20261025T010000
END:STANDARD
END:VTIMEZONE
BEGIN:VEVENT
DTSTART;VALUE=DATE:20250705
DTEND;VALUE=DATE:20250728
DTSTAMP:20260422T143839
CREATED:20250605T114826Z
LAST-MODIFIED:20250605T114837Z
UID:2494-1751673600-1753660799@eventosagenda.com
SUMMARY:AgitÁgueda - Águeda
DESCRIPTION:AgitÁgueda is a vibrant\, multi-week summer festival held annually in Águeda\, a small city in central Portugal. It’s most famous for its colourful umbrella sky installation\, which has become an iconic symbol of Portuguese summer creativity and design. \n\n🌂 What Makes AgitÁgueda Special?\n\n\n🌈 Umbrella Sky ProjectStreets are covered with floating umbrellas suspended in mid-air\, casting colourful shadows and creating a whimsical\, Instagram-famous atmosphere. \n\n\n🎶 Free ConcertsEvery night during the festival\, national and international artists perform for free on open-air stages\, covering a range of genres from pop to rock to electronic music. \n\n\n🎨 Urban ArtThe city transforms into an open-air art gallery with street art murals\, sculptures\, and creative installations by artists from around the world. \n\n\n🎭 Street PerformancesThere are daily performances including theatre\, dance\, circus acts\, and parades\, often interactive and playful. \n\n\n👨‍👩‍👧 Family ActivitiesWorkshops\, kids’ zones\, and cultural exhibitions make it a very family-friendly event. \n\n\n🍽️ Food and Artisan MarketsLocal food stalls and crafts markets give visitors a taste of Portuguese cuisine and handmade goods.
URL:https://eventosagenda.com/event/agitagueda-agueda/
LOCATION:Águeda\, Águeda\, Aveiro\, Portugal
CATEGORIES:Arts & Culture,Festas & Festivals,Theatre & Performing Arts
ATTACH;FMTTYPE=image/jpeg:https://eventosagenda.com/wp-content/uploads/2025/06/06.05-27-AGUEDA.jpg
END:VEVENT
BEGIN:VEVENT
DTSTART;TZID=Europe/Lisbon:20250712T090000
DTEND;TZID=Europe/Lisbon:20250727T170000
DTSTAMP:20260422T143839
CREATED:20250430T105917Z
LAST-MODIFIED:20250430T105933Z
UID:808-1752310800-1753635600@eventosagenda.com
SUMMARY:Festa do Santíssimo Sacramento de Gião-Vila do Conde 2025
DESCRIPTION:
URL:https://eventosagenda.com/event/festa-do-santissimo-sacramento-de-giao-vila-do-conde-2025/
LOCATION:Gião\, Vila do Conde\, Porto\, Portugal
CATEGORIES:Fado, Concerts & Music,Festas & Festivals
ATTACH;FMTTYPE=image/jpeg:https://eventosagenda.com/wp-content/uploads/2025/04/facebook_1745971928886_7323137045218052479.jpg
END:VEVENT
BEGIN:VEVENT
DTSTART;VALUE=DATE:20250714
DTEND;VALUE=DATE:20250721
DTSTAMP:20260422T143839
CREATED:20250518T093932Z
LAST-MODIFIED:20250518T093932Z
UID:1754-1752451200-1753055999@eventosagenda.com
SUMMARY:XXVII Festival de Folclore Internacional - Viana do Castelo
DESCRIPTION:
URL:https://eventosagenda.com/event/xxvii-festival-de-folclore-internacional-viana-do-castelo/
LOCATION:Viana do Castelo\, Viana do Castelo\, Alto Minho\, Portugal
CATEGORIES:Fado, Concerts & Music,Festas & Festivals
ATTACH;FMTTYPE=image/jpeg:https://eventosagenda.com/wp-content/uploads/2025/05/facebook_1747490537669_7329506552107696227.jpg
END:VEVENT
BEGIN:VEVENT
DTSTART;VALUE=DATE:20250717
DTEND;VALUE=DATE:20250721
DTSTAMP:20260422T143839
CREATED:20250414T214903Z
LAST-MODIFIED:20250414T214903Z
UID:302-1752710400-1753055999@eventosagenda.com
SUMMARY:Festival de Gastronomia Maranho - Serta
DESCRIPTION:
URL:https://eventosagenda.com/event/festival-de-gastronomia-maranho-serta/
LOCATION:Sertã\, Sertã\, Castelo Branco\, Portugal
CATEGORIES:Festas & Festivals,Food & Drink
ATTACH;FMTTYPE=image/jpeg:https://eventosagenda.com/wp-content/uploads/2025/04/Festival-de-Gastronomia-Maranho.jpg
END:VEVENT
BEGIN:VEVENT
DTSTART;TZID=Europe/Lisbon:20250717T090000
DTEND;TZID=Europe/Lisbon:20250720T220000
DTSTAMP:20260422T143839
CREATED:20250701T190201Z
LAST-MODIFIED:20250701T190201Z
UID:3000-1752742800-1753048800@eventosagenda.com
SUMMARY:Festa em Honra de Nossa Senhora do Rosário - Valongo de Milhais
DESCRIPTION:
URL:https://eventosagenda.com/event/festa-em-honra-de-nossa-senhora-do-rosario-valongo-de-milhais/
LOCATION:Valongo de Milhais\, Valongo de Milhais\, Vila Real\, Portugal
CATEGORIES:Festas & Festivals
ATTACH;FMTTYPE=image/jpeg:https://eventosagenda.com/wp-content/uploads/2025/07/facebook_1751387595957_7345851999273719670.jpg
END:VEVENT
BEGIN:VEVENT
DTSTART;TZID=Europe/Lisbon:20250717T100000
DTEND;TZID=Europe/Lisbon:20250720T140000
DTSTAMP:20260422T143839
CREATED:20250514T202553Z
LAST-MODIFIED:20250514T202553Z
UID:1623-1752746400-1753020000@eventosagenda.com
SUMMARY:43.ª Concentração Internacional de motos do Moto Clube Faro
DESCRIPTION:Agora sim  aqui está o cartaz oficial da 43.ª Concentração Internacional de motos do Moto Clube Faro\nPrepara-te para dias e noites inesquecíveis ao som do melhor rock\, em julho de 2025!\nBilhetes disponíveis no site\, sede e app! \n–\n It’s here  the official poster for the 43rd International Motorcycle Rally by Moto Clube Faro\nGet ready for unforgettable days and nights filled with rock and pure biker energy this July 2025!\nTickets available on the website\, HQ and app! \n–\n Ahora sí  llega el cartel oficial de la 43ª Concentración Internacional de motos del Moto Clube Faro\n¡Prepárate para días y noches inolvidables al ritmo del mejor rock\, en julio de 2025!\nEntradas disponibles en la web\, sede y app \n–\n Cette fois c’est parti  voici l’affiche officielle de la 43e Concentration Internationale de motos du Moto Clube Faro\nPrépare-toi pour des jours et des nuits inoubliables au son du meilleur rock\, en juillet 2025 !\nBillets disponibles sur le site\, au siège et via l’application \n–\n Es ist soweit  hier ist das offizielle Plakat für das 43. Internationale Motorradtreffen vom Moto Clube Faro\nMach dich bereit für unvergessliche Tage und Nächte mit Rock vom Feinsten – im Juli 2025!\nTickets erhältlich auf der Website\, in der Zentrale und in der App
URL:https://eventosagenda.com/event/43-a-concentracao-internacional-de-motos-do-moto-clube-faro/
LOCATION:Faro\, Faro\, Algarve\, Faro\, Portugal
CATEGORIES:Festas & Festivals
ATTACH;FMTTYPE=image/jpeg:https://eventosagenda.com/wp-content/uploads/2025/05/495293157_1088556629967465_5489984668810478892_n.jpg
END:VEVENT
BEGIN:VEVENT
DTSTART;TZID=Europe/Lisbon:20250717T190000
DTEND;TZID=Europe/Lisbon:20250717T190000
DTSTAMP:20260422T143839
CREATED:20250530T133231Z
LAST-MODIFIED:20250530T133231Z
UID:2198-1752778800-1752778800@eventosagenda.com
SUMMARY:Aulas de Pilates - São Domingos
DESCRIPTION:
URL:https://eventosagenda.com/event/aulas-de-pilates-sao-domingos/
LOCATION:São Domingos\, São Domingos\, Sarzedas\, Castelo Branco\, Portugal
CATEGORIES:Sports & Games
ATTACH;FMTTYPE=image/jpeg:https://eventosagenda.com/wp-content/uploads/2025/05/facebook_1748602153305_7334169006017956436.jpg
END:VEVENT
BEGIN:VEVENT
DTSTART;TZID=Europe/Lisbon:20250717T190000
DTEND;TZID=Europe/Lisbon:20250724T190000
DTSTAMP:20260422T143839
CREATED:20250508T114152Z
LAST-MODIFIED:20250508T114231Z
UID:1305-1752778800-1753383600@eventosagenda.com
SUMMARY:Festas em Honra de Santa Cristina e Santo António 2025 -
DESCRIPTION:
URL:https://eventosagenda.com/event/festas-em-honra-de-santa-cristina-e-santo-antonio-2025/
LOCATION:Afife\, Afife\, Viana do Castelo\, Portugal
CATEGORIES:Festas & Festivals
ATTACH;FMTTYPE=image/jpeg:https://eventosagenda.com/wp-content/uploads/2025/05/Afife-1.jpg
END:VEVENT
BEGIN:VEVENT
DTSTART;TZID=Europe/Lisbon:20250717T200000
DTEND;TZID=Europe/Lisbon:20250721T220000
DTSTAMP:20260422T143839
CREATED:20250709T192135Z
LAST-MODIFIED:20250709T192157Z
UID:3201-1752782400-1753135200@eventosagenda.com
SUMMARY:Santo Aleixo - Vodra\, Seia
DESCRIPTION:
URL:https://eventosagenda.com/event/santo-aleixo-vodra-seia/
LOCATION:Vodra\, Vodra\, Seia\, Guarda\, Portugal
CATEGORIES:Festas & Festivals
ATTACH;FMTTYPE=image/jpeg:https://eventosagenda.com/wp-content/uploads/2025/07/facebook_1751351948174_7345702481636064602.jpg
END:VEVENT
BEGIN:VEVENT
DTSTART;TZID=Europe/Lisbon:20250717T210000
DTEND;TZID=Europe/Lisbon:20250720T235900
DTSTAMP:20260422T143839
CREATED:20250627T131049Z
LAST-MODIFIED:20250627T131049Z
UID:2927-1752786000-1753055940@eventosagenda.com
SUMMARY:Festas em Honra da Nossa Senhora do Rosário - Burinhosa
DESCRIPTION:
URL:https://eventosagenda.com/event/festas-em-honra-da-nossa-senhora-do-rosario-burinhosa/
LOCATION:Burninhosa\, Burinhosa\, Alcobaça\, Leiria\, Portugal
CATEGORIES:Festas & Festivals
ATTACH;FMTTYPE=image/jpeg:https://eventosagenda.com/wp-content/uploads/2025/06/facebook_1751028474247_7344345733648319964.jpg
END:VEVENT
BEGIN:VEVENT
DTSTART;TZID=Europe/Lisbon:20250717T230000
DTEND;TZID=Europe/Lisbon:20250720T210000
DTSTAMP:20260422T143839
CREATED:20250601T090828Z
LAST-MODIFIED:20250601T090828Z
UID:2273-1752793200-1753045200@eventosagenda.com
SUMMARY:Festa da Amizade 2025 - Santiago da Guarda
DESCRIPTION: AÍ ESTÁ ELA A FESTA DA AMIZADE 25 está de volta e é já nos próximos dias 17\, 18\, 19 e 20 de Julho Partilhamos convosco algumas das novidades e momentos que teremos este ano  sendo que ainda muito mais está para vir Fiquem atentos às nossas Redes Sociais e vão conhecendo o programa completo para estes 4 dias de animação e folia em Santiago da Guarda Marquem já nas vossas agendas … temos ainda MUITAS SURPRESAS para vos anunciar para a FdA 2025 
URL:https://eventosagenda.com/event/festa-da-amizade-2025-santiago-da-guarda/
LOCATION:Santiago da Guarda\, Santiago da Guarda\, Ansião\, Leiria\, Portugal
CATEGORIES:Festas & Festivals
ATTACH;FMTTYPE=image/jpeg:https://eventosagenda.com/wp-content/uploads/2025/06/facebook_1748674268880_7334471480663012440.jpg
END:VEVENT
END:VCALENDAR