BEGIN:VCALENDAR
VERSION:2.0
PRODID:-// - ECPv6.15.20//NONSGML v1.0//EN
CALSCALE:GREGORIAN
METHOD:PUBLISH
X-ORIGINAL-URL:https://eventosagenda.com
X-WR-CALDESC:Events for 
REFRESH-INTERVAL;VALUE=DURATION:PT1H
X-Robots-Tag:noindex
X-PUBLISHED-TTL:PT1H
BEGIN:VTIMEZONE
TZID:Europe/Lisbon
BEGIN:DAYLIGHT
TZOFFSETFROM:+0000
TZOFFSETTO:+0100
TZNAME:WEST
DTSTART:20240331T010000
END:DAYLIGHT
BEGIN:STANDARD
TZOFFSETFROM:+0100
TZOFFSETTO:+0000
TZNAME:WET
DTSTART:20241027T010000
END:STANDARD
BEGIN:DAYLIGHT
TZOFFSETFROM:+0000
TZOFFSETTO:+0100
TZNAME:WEST
DTSTART:20250330T010000
END:DAYLIGHT
BEGIN:STANDARD
TZOFFSETFROM:+0100
TZOFFSETTO:+0000
TZNAME:WET
DTSTART:20251026T010000
END:STANDARD
BEGIN:DAYLIGHT
TZOFFSETFROM:+0000
TZOFFSETTO:+0100
TZNAME:WEST
DTSTART:20260329T010000
END:DAYLIGHT
BEGIN:STANDARD
TZOFFSETFROM:+0100
TZOFFSETTO:+0000
TZNAME:WET
DTSTART:20261025T010000
END:STANDARD
END:VTIMEZONE
BEGIN:VEVENT
DTSTART;VALUE=DATE:20250531
DTEND;VALUE=DATE:20250629
DTSTAMP:20260422T173937
CREATED:20250510T162126Z
LAST-MODIFIED:20250510T162126Z
UID:1374-1748649600-1751155199@eventosagenda.com
SUMMARY:São João na Freguesia de Paranhos
DESCRIPTION:
URL:https://eventosagenda.com/event/sao-joao-na-freguesia-de-paranhos/
LOCATION:Paranhos\, Paranhos\, Porto\, Portugal
CATEGORIES:Festas & Festivals
ATTACH;FMTTYPE=image/jpeg:https://eventosagenda.com/wp-content/uploads/2025/05/facebook_1746734304059_7326334678454106251.jpg
END:VEVENT
BEGIN:VEVENT
DTSTART;VALUE=DATE:20250619
DTEND;VALUE=DATE:20250701
DTSTAMP:20260422T173937
CREATED:20250516T114603Z
LAST-MODIFIED:20250516T114603Z
UID:1636-1750291200-1751327999@eventosagenda.com
SUMMARY:São Pedro da Afurada - Vila Nova de Gaia
DESCRIPTION:
URL:https://eventosagenda.com/event/sao-pedro-da-afurada-vila-nova-de-gaia/
LOCATION:Vila Nova de Gaia\, São Pedro da Afurada\, Porto\, Portugal
CATEGORIES:Festas & Festivals
ATTACH;FMTTYPE=image/jpeg:https://eventosagenda.com/wp-content/uploads/2025/05/facebook_1747346213928_7328901214464961624.jpg
END:VEVENT
BEGIN:VEVENT
DTSTART;TZID=Europe/Lisbon:20250619T080000
DTEND;TZID=Europe/Lisbon:20250630T233000
DTSTAMP:20260422T173937
CREATED:20250429T161933Z
LAST-MODIFIED:20250429T161945Z
UID:697-1750320000-1751326200@eventosagenda.com
SUMMARY:Império de São João 2025 - Largo das Pias\, Livramento
DESCRIPTION:
URL:https://eventosagenda.com/event/imperio-de-sao-joao-2025-largo-das-pias-livramento/
LOCATION:Largo das Pias\, Largo das Pias\, Livramento\, Açores\, Portugal
CATEGORIES:Festas & Festivals
ATTACH;FMTTYPE=image/jpeg:https://eventosagenda.com/wp-content/uploads/2025/04/Sao-Joao.jpg
END:VEVENT
BEGIN:VEVENT
DTSTART;TZID=Europe/Lisbon:20250620T190000
DTEND;TZID=Europe/Lisbon:20250629T140000
DTSTAMP:20260422T173937
CREATED:20250523T172313Z
LAST-MODIFIED:20250523T172332Z
UID:1934-1750446000-1751205600@eventosagenda.com
SUMMARY:São João Festa - Tabuaço
DESCRIPTION:
URL:https://eventosagenda.com/event/sao-joao-festa-tabuaco/
LOCATION:Tabuaço\, Tabuaço\, Viseu\, Portugal
CATEGORIES:Festas & Festivals
ATTACH;FMTTYPE=image/jpeg:https://eventosagenda.com/wp-content/uploads/2025/05/facebook_1748018503967_7331721003266913421.jpg
END:VEVENT
BEGIN:VEVENT
DTSTART;TZID=Europe/Lisbon:20250620T210000
DTEND;TZID=Europe/Lisbon:20250629T170000
DTSTAMP:20260422T173937
CREATED:20250512T134709Z
LAST-MODIFIED:20250512T134728Z
UID:1407-1750453200-1751216400@eventosagenda.com
SUMMARY:Festa das Colertividades 2025 - São Paio de Oleiros
DESCRIPTION:
URL:https://eventosagenda.com/event/festa-das-colertividades-2025-sao-paio-de-oleiros/
LOCATION:São Paio de Oleiros\, Santa Maria da Feira\, Aveiro\, Portugal
CATEGORIES:Festas & Festivals
ATTACH;FMTTYPE=image/jpeg:https://eventosagenda.com/wp-content/uploads/2025/05/facebook_1746954003584_7327256165052454769.jpg
END:VEVENT
BEGIN:VEVENT
DTSTART;TZID=Europe/Lisbon:20250622T180000
DTEND;TZID=Europe/Lisbon:20250629T190000
DTSTAMP:20260422T173937
CREATED:20250601T093148Z
LAST-MODIFIED:20250601T093148Z
UID:2292-1750615200-1751223600@eventosagenda.com
SUMMARY:Festa em Honra São João do Carvalhinho - Burgães
DESCRIPTION:
URL:https://eventosagenda.com/event/festa-em-honra-sao-joao-do-carvalhinho-burgaes/
LOCATION:Burgães\, Burgães\, Porto\, Portugal
CATEGORIES:Festas & Festivals
ATTACH;FMTTYPE=image/jpeg:https://eventosagenda.com/wp-content/uploads/2025/06/facebook_1748719324623_7334660458143682752.jpg
END:VEVENT
BEGIN:VEVENT
DTSTART;TZID=Europe/Lisbon:20250623T080000
DTEND;TZID=Europe/Lisbon:20250630T220000
DTSTAMP:20260422T173937
CREATED:20250603T145652Z
LAST-MODIFIED:20250603T145652Z
UID:2366-1750665600-1751320800@eventosagenda.com
SUMMARY:Festa em Honra de São João - São João de Loure
DESCRIPTION:
URL:https://eventosagenda.com/event/festa-em-honra-de-sao-joao-sao-joao-de-loure/
LOCATION:São João de Loure\, São João de Loure\, Aveiro\, Portugal
CATEGORIES:Festas & Festivals
ATTACH;FMTTYPE=image/jpeg:https://eventosagenda.com/wp-content/uploads/2025/06/06.23-30-Sao-Joao-de-Loure.-Eixo.jpg
END:VEVENT
BEGIN:VEVENT
DTSTART;TZID=Europe/Lisbon:20250624T200000
DTEND;TZID=Europe/Lisbon:20250629T190000
DTSTAMP:20260422T173937
CREATED:20250430T215515Z
LAST-MODIFIED:20250430T215515Z
UID:905-1750795200-1751223600@eventosagenda.com
SUMMARY:Festas São João de Rande - Milhundos Penafiel
DESCRIPTION:Another great São João de Rande festival is coming up in Milhundos Penafiel…\nFor the first time\, 3 days of a lot of party\, music and excitement. Do you want to miss it?\nSave the date\nJune 24th to 29th
URL:https://eventosagenda.com/event/festas-sao-joao-de-rande-milhundos-penafiel/
LOCATION:Rande\, Milhundos\, Penafiel\, Porto\, Portugal
CATEGORIES:Festas & Festivals
ATTACH;FMTTYPE=image/jpeg:https://eventosagenda.com/wp-content/uploads/2025/04/facebook_1746043650331_7323437866759197944.jpg
END:VEVENT
BEGIN:VEVENT
DTSTART;VALUE=DATE:20250626
DTEND;VALUE=DATE:20250630
DTSTAMP:20260422T173937
CREATED:20250421T123219Z
LAST-MODIFIED:20250421T123311Z
UID:514-1750896000-1751241599@eventosagenda.com
SUMMARY:Comissão de Festas Sto. António e S. Sebastião 2025 - Duas Igrejas
DESCRIPTION:
URL:https://eventosagenda.com/event/comissao-de-festas-sto-antonio-e-s-sebastiao-2025-duas-igrejas/
LOCATION:Duas Igrejas\, Duas Igrejas\, Vila Verde\, Braga\, Portugal
CATEGORIES:Festas & Festivals
ATTACH;FMTTYPE=image/jpeg:https://eventosagenda.com/wp-content/uploads/2025/04/488207674_638661275594838_5358223429898183990_n.jpg
END:VEVENT
BEGIN:VEVENT
DTSTART;VALUE=DATE:20250626
DTEND;VALUE=DATE:20250630
DTSTAMP:20260422T173937
CREATED:20250512T172032Z
LAST-MODIFIED:20250512T172054Z
UID:1439-1750896000-1751241599@eventosagenda.com
SUMMARY:XXXVI Festival Internacional Cavalo Lusitano - Cascais
DESCRIPTION:XXXVI FESTIVAL INTERNACIONAL DO CAVALO LUSITANO!\n\n\nO MAIOR EVENTO DE CAVALOS LUSITANOS DO MUNDO ESTÁ A CHEGAR!\n\n\nDE 26 A 29 DE JUNHO DE 2025\, EM CASCAIS\, PORTUGAL.\n\n\nUM EVENTO IMPERDÍVEL PARA TODOS OS APAIXONADOS PELO CAVALO LUSITANO!\nCONTAMOS CONSIGO!\n\n\n\nXXXVI INTERNATIONAL LUSITANO HORSE FESTIVAL!\n\n\nTHE WORLD’S BIGGEST LUSITANO HORSE EVENT IS COMING!\n\n\nFROM 26 TO 29 JUNE 2025\, IN CASCAIS\, PORTUGAL.\n\n\nA MUST-ATTEND EVENT FOR ALL LUSITANO HORSE LOVERS!\nWE’RE COUNTING ON YOU!
URL:https://eventosagenda.com/event/xxxvi-festival-internacional-cavalo-lusitano-cascais/
LOCATION:Cascais\, Cascais\, Lisboa\, Portugal
CATEGORIES:Festas & Festivals,Markets & Fairs
ATTACH;FMTTYPE=image/jpeg:https://eventosagenda.com/wp-content/uploads/2025/05/496096032_23989824747316471_3851564997649339397_n.jpg
END:VEVENT
BEGIN:VEVENT
DTSTART;TZID=Europe/Lisbon:20250626T210000
DTEND;TZID=Europe/Lisbon:20250629T170000
DTSTAMP:20260422T173937
CREATED:20250620T111411Z
LAST-MODIFIED:20250620T111411Z
UID:2774-1750971600-1751216400@eventosagenda.com
SUMMARY:Festas em Honra de São Pedro - Gordos\, Coimbra
DESCRIPTION:
URL:https://eventosagenda.com/event/festas-em-honra-de-sao-pedro-gordos-coimbra/
LOCATION:Gordos\, Coimbra\, Gordos\, Coimbra\, Portugal
CATEGORIES:Festas & Festivals
ATTACH;FMTTYPE=image/jpeg:https://eventosagenda.com/wp-content/uploads/2025/06/facebook_1749374232194_7337407339591991207.jpg
END:VEVENT
BEGIN:VEVENT
DTSTART;TZID=Europe/Lisbon:20250626T210000
DTEND;TZID=Europe/Lisbon:20250629T233000
DTSTAMP:20260422T173937
CREATED:20250604T081022Z
LAST-MODIFIED:20250604T081022Z
UID:2462-1750971600-1751239800@eventosagenda.com
SUMMARY:Festa de São João Baptista - Maceirinha
DESCRIPTION:
URL:https://eventosagenda.com/event/festa-de-sao-joao-baptista-maceirinha/
LOCATION:Maceirinha\, Maceirinha\, Leiria\, Portugal
CATEGORIES:Festas & Festivals
ATTACH;FMTTYPE=image/jpeg:https://eventosagenda.com/wp-content/uploads/2025/06/facebook_1749023923975_7335938040427230160.jpg
END:VEVENT
END:VCALENDAR