BEGIN:VCALENDAR
VERSION:2.0
PRODID:-// - ECPv6.15.20//NONSGML v1.0//EN
CALSCALE:GREGORIAN
METHOD:PUBLISH
X-ORIGINAL-URL:https://eventosagenda.com
X-WR-CALDESC:Events for 
REFRESH-INTERVAL;VALUE=DURATION:PT1H
X-Robots-Tag:noindex
X-PUBLISHED-TTL:PT1H
BEGIN:VTIMEZONE
TZID:Europe/Lisbon
BEGIN:DAYLIGHT
TZOFFSETFROM:+0000
TZOFFSETTO:+0100
TZNAME:WEST
DTSTART:20240331T010000
END:DAYLIGHT
BEGIN:STANDARD
TZOFFSETFROM:+0100
TZOFFSETTO:+0000
TZNAME:WET
DTSTART:20241027T010000
END:STANDARD
BEGIN:DAYLIGHT
TZOFFSETFROM:+0000
TZOFFSETTO:+0100
TZNAME:WEST
DTSTART:20250330T010000
END:DAYLIGHT
BEGIN:STANDARD
TZOFFSETFROM:+0100
TZOFFSETTO:+0000
TZNAME:WET
DTSTART:20251026T010000
END:STANDARD
BEGIN:DAYLIGHT
TZOFFSETFROM:+0000
TZOFFSETTO:+0100
TZNAME:WEST
DTSTART:20260329T010000
END:DAYLIGHT
BEGIN:STANDARD
TZOFFSETFROM:+0100
TZOFFSETTO:+0000
TZNAME:WET
DTSTART:20261025T010000
END:STANDARD
END:VTIMEZONE
BEGIN:VEVENT
DTSTART;VALUE=DATE:20250530
DTEND;VALUE=DATE:20250616
DTSTAMP:20260422T161041
CREATED:20250517T104249Z
LAST-MODIFIED:20250517T104336Z
UID:1744-1748563200-1750031999@eventosagenda.com
SUMMARY:Festas de Oeiras 2025
DESCRIPTION:The council’s most awaited parties are back. The Oeiras Festivities 2025 will take place from May 30 to June 15\, bringing music\, joy and unforgettable moments for all ages. Ornatos Violeta\, Kicks and Kicks\, Buba Espinho and Ana Moura are part of this year’s poster.\n\n\nThe press conference of the official presentation of the event takes place this Thursday\, at 12 o’clock\, at the Patio das Amendoeiras\, in Linda a Velha\, with the presence of the President of the Municipal Council of Oeiras\, Isaltino Morais.\n\n\nKnown for their vibrant banner\, the Oeiras Parties offer unforgettable moments for all family and friends.\n\n\nThe courtyard features dining spaces\, street food\, crafts\, lounge area\, fun for all ages and many surprises throughout the days.\n\n\nNews available on https://tinyurl.com/y86b7crd
URL:https://eventosagenda.com/event/festas-de-oeiras-2025/
LOCATION:Oeiras\, Oeiras\, Lisboa\, Portugal
CATEGORIES:Festas & Festivals
ATTACH;FMTTYPE=image/jpeg:https://eventosagenda.com/wp-content/uploads/2025/05/facebook_1747401744055_7329134124698956192.jpg
END:VEVENT
BEGIN:VEVENT
DTSTART;VALUE=DATE:20250531
DTEND;VALUE=DATE:20250629
DTSTAMP:20260422T161041
CREATED:20250510T162126Z
LAST-MODIFIED:20250510T162126Z
UID:1374-1748649600-1751155199@eventosagenda.com
SUMMARY:São João na Freguesia de Paranhos
DESCRIPTION:
URL:https://eventosagenda.com/event/sao-joao-na-freguesia-de-paranhos/
LOCATION:Paranhos\, Paranhos\, Porto\, Portugal
CATEGORIES:Festas & Festivals
ATTACH;FMTTYPE=image/jpeg:https://eventosagenda.com/wp-content/uploads/2025/05/facebook_1746734304059_7326334678454106251.jpg
END:VEVENT
BEGIN:VEVENT
DTSTART;VALUE=DATE:20250606
DTEND;VALUE=DATE:20250615
DTSTAMP:20260422T161041
CREATED:20250605T133049Z
LAST-MODIFIED:20250605T133427Z
UID:2546-1749168000-1749945599@eventosagenda.com
SUMMARY:Festas de Abrantes 2025
DESCRIPTION: 
URL:https://eventosagenda.com/event/festas-de-abrantes-2025/
LOCATION:Abrantes\, Abrantes\, Santarém\, Portugal
CATEGORIES:Festas & Festivals
ATTACH;FMTTYPE=image/png:https://eventosagenda.com/wp-content/uploads/2025/06/Abrantes.png
END:VEVENT
BEGIN:VEVENT
DTSTART;VALUE=DATE:20250606
DTEND;VALUE=DATE:20250616
DTSTAMP:20260422T161041
CREATED:20250530T131135Z
LAST-MODIFIED:20250530T131605Z
UID:2181-1749168000-1750031999@eventosagenda.com
SUMMARY:Festa em Honra do Divino Espírito Santo - Eiras
DESCRIPTION:
URL:https://eventosagenda.com/event/festa-em-honra-do-divino-espirito-santo-eiras/
LOCATION:Eiras\, Eiras\, Coimbra\, Portugal
CATEGORIES:Festas & Festivals
ATTACH;FMTTYPE=image/jpeg:https://eventosagenda.com/wp-content/uploads/2025/05/499928761_696612106449173_1643084778288383281_n.jpg
END:VEVENT
BEGIN:VEVENT
DTSTART;VALUE=DATE:20250606
DTEND;VALUE=DATE:20250616
DTSTAMP:20260422T161041
CREATED:20250603T134739Z
LAST-MODIFIED:20250603T134739Z
UID:2321-1749168000-1750031999@eventosagenda.com
SUMMARY:Festas Estarreja 2025
DESCRIPTION:
URL:https://eventosagenda.com/event/festas-estarreja-2025/
LOCATION:Estarreja\, Estarreja\, Aveiro\, Portugal
CATEGORIES:Festas & Festivals
ATTACH;FMTTYPE=image/jpeg:https://eventosagenda.com/wp-content/uploads/2025/06/06.06-15-Estarreja.jpeg
END:VEVENT
BEGIN:VEVENT
DTSTART;TZID=Europe/Lisbon:20250606T200000
DTEND;TZID=Europe/Lisbon:20250621T233000
DTSTAMP:20260422T161041
CREATED:20250516T125850Z
LAST-MODIFIED:20250516T130031Z
UID:1705-1749240000-1750548600@eventosagenda.com
SUMMARY:Noites Quentes - Moreira em Festa 2025
DESCRIPTION:HOT NIGHTS 2025\nFrom June 6th\, Moreira is in Party with Hot Nights 2025!\nJoin us at Vieira de Carvalho Elementary and Secondary School and come celebrate the arrival of summer with music\, animation and many snacks prepared by the collectives of Vila de Moreira.\n\n\nWe’re counting on you! Admission is free!\n\n\nProgram:\n\n\nJUNE 6 – LATINA SOUL DUO\nJUNE 7 – PAULO COSTA | TELMO F\nJUNE 9 – CHARISMA\n\n\nJUNE 18 – IMPACT DUO | PAULO RIBEIRO\nJUNE 20 – PHILIP BAPTISTA | QUINITO\nJUNE 21 – DJ ZÉ PAULO | RICARDO GOMES
URL:https://eventosagenda.com/event/noites-quentes-moreira-em-festa-2025/
LOCATION:Moreira\, Moreira\, Maia\, Porto\, Portugal
CATEGORIES:Festas & Festivals
ATTACH;FMTTYPE=image/jpeg:https://eventosagenda.com/wp-content/uploads/2025/05/facebook_1747319417542_7328788822276815972.jpg
END:VEVENT
BEGIN:VEVENT
DTSTART;VALUE=DATE:20250607
DTEND;VALUE=DATE:20250616
DTSTAMP:20260422T161041
CREATED:20250420T182319Z
LAST-MODIFIED:20250420T182319Z
UID:471-1749254400-1750031999@eventosagenda.com
SUMMARY:Festa em Honra de Santo António - Silva Escura\, Maia
DESCRIPTION:
URL:https://eventosagenda.com/event/festa-em-honra-de-santo-antonio-silva-escura-maia/
LOCATION:Silva Escura\, Silva Escura\, Maia\, Porto\, Portugal
CATEGORIES:Festas & Festivals
ATTACH;FMTTYPE=image/jpeg:https://eventosagenda.com/wp-content/uploads/2025/04/facebook_1745098427927_7319473316651552904.jpg
END:VEVENT
BEGIN:VEVENT
DTSTART;VALUE=DATE:20250607
DTEND;VALUE=DATE:20250625
DTSTAMP:20260422T161041
CREATED:20250510T132306Z
LAST-MODIFIED:20250510T132325Z
UID:1354-1749254400-1750809599@eventosagenda.com
SUMMARY:Festas em Honra a São João Baptista - Seixo de Gatoes
DESCRIPTION:
URL:https://eventosagenda.com/event/festas-em-honra-a-sao-joao-baptista-seixo-de-gatoes/
LOCATION:Seixo de Gatões\, Seixo de Gatões\, Coimbra\, Portugal
CATEGORIES:Festas & Festivals
ATTACH;FMTTYPE=image/jpeg:https://eventosagenda.com/wp-content/uploads/2025/05/facebook_1746733161462_7326329886056757319.jpg
END:VEVENT
BEGIN:VEVENT
DTSTART;TZID=Europe/Lisbon:20250607T160000
DTEND;TZID=Europe/Lisbon:20250620T230000
DTSTAMP:20260422T161041
CREATED:20250527T124605Z
LAST-MODIFIED:20250528T163100Z
UID:1964-1749312000-1750460400@eventosagenda.com
SUMMARY:Festa Alcogulhe de Cima 2025
DESCRIPTION:
URL:https://eventosagenda.com/event/festa-alcogulhe-de-cima-2025/
LOCATION:Alcogulhe de Cima\, Alcogulhe de Cima\, Maceira\, Leiria\, Portugal
CATEGORIES:Festas & Festivals
ATTACH;FMTTYPE=image/jpeg:https://eventosagenda.com/wp-content/uploads/2025/05/facebook_1748342470314_7333079816609703658.jpg
END:VEVENT
BEGIN:VEVENT
DTSTART;TZID=Europe/Lisbon:20250609T190000
DTEND;TZID=Europe/Lisbon:20250615T180000
DTSTAMP:20260422T161041
CREATED:20250604T071738Z
LAST-MODIFIED:20250604T071752Z
UID:2421-1749495600-1750010400@eventosagenda.com
SUMMARY:Festa de Santo António da Seca - Longos Vales
DESCRIPTION:
URL:https://eventosagenda.com/event/festa-de-santo-antonio-da-seca-longos-vales/
LOCATION:Longos Vales\, Longos\, Vales\, Monção\, Viana do Castelo\, Portugal
CATEGORIES:Festas & Festivals
ATTACH;FMTTYPE=image/jpeg:https://eventosagenda.com/wp-content/uploads/2025/06/facebook_1748797268739_7334987379462382389.jpg
END:VEVENT
BEGIN:VEVENT
DTSTART;TZID=Europe/Lisbon:20250609T190000
DTEND;TZID=Europe/Lisbon:20250615T233000
DTSTAMP:20260422T161041
CREATED:20250510T114936Z
LAST-MODIFIED:20250510T114936Z
UID:1330-1749495600-1750030200@eventosagenda.com
SUMMARY:Festa do Caneco 2025 - Pedroso
DESCRIPTION:
URL:https://eventosagenda.com/event/festa-do-caneco-2025-pedroso/
LOCATION:Pedroso\, Pedroso\, Gaia\, Porto\, Portugal
CATEGORIES:Festas & Festivals
ATTACH;FMTTYPE=image/jpeg:https://eventosagenda.com/wp-content/uploads/2025/05/facebook_1746821057208_7326698547532087550.jpg
END:VEVENT
BEGIN:VEVENT
DTSTART;TZID=Europe/Lisbon:20250609T220000
DTEND;TZID=Europe/Lisbon:20250614T220000
DTSTAMP:20260422T161041
CREATED:20250510T115305Z
LAST-MODIFIED:20250510T115305Z
UID:1335-1749506400-1749938400@eventosagenda.com
SUMMARY:Festas do Município e de Santo António - Vale de Cambra
DESCRIPTION:Festas do Município e de Santo António\n9-14 de Junho de 2025 \n\n\nPorque o Santo António não casa só os noivos\, casa também a diversão com a tradição\, venha celebrar connosco e entre na “Nossa Dança” com os Calema que irá durar “Toda a noite” na companhia do Toy e que mostrará a toda a população que “Juntos Somos Mais Fortes” pela voz da Marisa Liz.\n\n\nAos nossos talentos locais juntar-se-ão as tradicionais Marchas Populares que vão pôr os mais tímidos a abanar a anca e as Bandas Filarmónicas que nos darão um ar mais sério… mas só até começar a festa! \n\n\nPrepara-se para dias alegria\, convívio e muita animação!\n\n\n\n\nMunicipality and Santo Anthony festivities\nJune 9-14\, 2025  9\n\n\nBecause Saint Anthony doesn’t only marry newlyweds\, it also marries fun with tradition\, come celebrate with us and enter “Our Dance” with Calema that will last “All night” in the company of Toy and will show the whole population that “Together We Are Stronger” by voice of the Marisa Liz .\n\n\nOur local talents will be joined by traditional Hip Marches for the most timid and the Philharmonic Bands for some serious music… but only until the party begins! \n\n\nGet ready for days of joy\, fellowship and lots of excitement!
URL:https://eventosagenda.com/event/festas-do-municipio-e-de-santo-antonio-vale-de-cambra/
LOCATION:Vale de Cambra\, Vale de Cambra\, Aveiro\, Portugal
CATEGORIES:Festas & Festivals
ATTACH;FMTTYPE=image/jpeg:https://eventosagenda.com/wp-content/uploads/2025/05/facebook_1746794383100_7326586668216450426.jpg
END:VEVENT
BEGIN:VEVENT
DTSTART;TZID=Europe/Lisbon:20250611T190000
DTEND;TZID=Europe/Lisbon:20250615T233000
DTSTAMP:20260422T161041
CREATED:20250505T171143Z
LAST-MODIFIED:20250505T171143Z
UID:1110-1749668400-1750030200@eventosagenda.com
SUMMARY:Festas em honra de São Francisco de Assis em Regadas Fafe 2025
DESCRIPTION:
URL:https://eventosagenda.com/event/festas-em-honra-de-sao-francisco-de-assis-em-regadas-fafe-2025/
LOCATION:Regadas\, Fafe\, Braga\, Portugal
CATEGORIES:Festas & Festivals
ATTACH;FMTTYPE=image/jpeg:https://eventosagenda.com/wp-content/uploads/2025/05/facebook_1746330574559_7324641314195273515.jpg
END:VEVENT
BEGIN:VEVENT
DTSTART;TZID=Europe/Lisbon:20250612T180000
DTEND;TZID=Europe/Lisbon:20250615T230000
DTSTAMP:20260422T161041
CREATED:20250415T125522Z
LAST-MODIFIED:20250415T130020Z
UID:346-1749751200-1750028400@eventosagenda.com
SUMMARY:FICA Festival • Alternative Eclectic Gathering 2025
DESCRIPTION:FICA FESTIVAL IS HAPPENING SOON!\nPlease read the important information below and help us create a beautiful and magical experience together.\n\n\nFICA FESTIVAL • ALTERNATIVE ECLECTIC GATHERING • JUNE 12th – 15th • PRAIA FLUVIAL DE CAMBAS\n\n\nARRIVAL\n\n\nThe festival gates open at 15:00 on Wednesday\, June 11th. Please do not arrive before this time—facilities will not be ready\, and camping/parking will be closed.\n\n\nAt the gate\, you must present your digital or printed ticket along with a photo ID (ID card\, passport\, or driving license).\n\n\nA vehicle pass is mandatory for each vehicle entering the festival.\n\n\nUpon arrival\, our crew will provide you with a wristband and a vehicle pass to enter FICA FESTIVAL.\n\n\nLOCATION\n\n\n Festival gate coordinates: 40.013072\, -7.847986\n Praia Fluvial de Cambas\, Oleiros\, Portugal\n\n\nTICKETS\n\n\n Available online (limited capacity: 500 people)\n Buy your ticket here\n\n\nhttps://ticketline.sapo.pt/evento/fica-festival-89716\n\n\nUntil May 1st: 36.5€+ 20€ membership (Total 56.5€)\n\n\nFrom May 2nd: 46.5€ + 20€ membership (Total 66.5€)\n\n\nWeekend pass: 20€ + 20€ membership (Total 40€) (June 14th-15th\, 10 AM):\n\n\nVehicle pass: €5\n\n\nGate ticket (if available): 55€ + 20€ membership (Total 75€)\n\n\nGate weekend pass (if available): 30€ + 20€ membership (Total 50€)\n\n\nGENERAL INFO\n\n\n FICA Festival takes place in a natural paradise\, with plenty of shade and direct access to the Rio Zêzere. However\, Portugal can get extremely hot in summer\, so protect yourself from the sun!\n\n\n Food & Drinks:\n\n\nDelicious vegetarian & non-vegetarian meals available\n\n\nBar with fair prices\n\n\nFree drinkable water on-site\n\n\n Facilities:\n\n\nShowers & toilets\n\n\nPAYMENTS\n\n\n FICA Festival accepts cash payments only.\nGate tickets must be paid in cash. No card terminals are available\, so please withdraw cash before arriving.\n\n\n Nearest ATMs: Orvalho\, Oleiros & Estreito.\n Some food & craft stalls may accept card payments\, but cash is accepted everywhere.\n\n\nRESTRICTIONS\n\n\n No dogs allowed at the festival.\n No glass items—please be responsible for your trash and leave no trace.\n TOTAL FIRE BAN—Portugal has a very high fire risk in summer!\n No campfires\, portable stoves\, or burners in the campsite\, campervan area\, or parking fields.\n\n\nSEE YOU SOON!\n\n\nGet ready for four unforgettable days filled with music\, nature\, and beautiful people! Bring your best energy\, your biggest smiles\, and let’s make this first edition of FICA Festival truly magical!
URL:https://eventosagenda.com/event/fica-festival-alternative-eclectic-gathering-2025/
LOCATION:Praia Fluvial Cambas\, Cambas\, Oleiros\, Castelo Branco\, Portugal
CATEGORIES:Fado, Concerts & Music,Festas & Festivals
ATTACH;FMTTYPE=image/jpeg:https://eventosagenda.com/wp-content/uploads/2025/04/Fica-Festival.jpg
END:VEVENT
BEGIN:VEVENT
DTSTART;TZID=Europe/Lisbon:20250612T190000
DTEND;TZID=Europe/Lisbon:20250615T000000
DTSTAMP:20260422T161041
CREATED:20250516T115930Z
LAST-MODIFIED:20250516T115945Z
UID:1643-1749754800-1749945600@eventosagenda.com
SUMMARY:Tasquinhas 2025 - A-dos-Francos\, Caldas da Rainha
DESCRIPTION:From June 12th to 15th all roads will lead to the Tasqinhas de A-dos-Francos!!\n\n\nPut this on your calendar!
URL:https://eventosagenda.com/event/tasquinhas-2025-a-dos-francos-caldas-da-rainha/
LOCATION:A-dos-Francos\, A-dos-Francos\, Caldas da Rainha\, Leiria\, Portugal
CATEGORIES:Festas & Festivals
ATTACH;FMTTYPE=image/jpeg:https://eventosagenda.com/wp-content/uploads/2025/05/facebook_1747386187449_7329068875564817884.jpg
END:VEVENT
BEGIN:VEVENT
DTSTART;TZID=Europe/Lisbon:20250612T193000
DTEND;TZID=Europe/Lisbon:20250615T233000
DTSTAMP:20260422T161041
CREATED:20250601T093522Z
LAST-MODIFIED:20250601T093539Z
UID:2296-1749756600-1750030200@eventosagenda.com
SUMMARY:Festa em Honra Santo António - Advagar
DESCRIPTION:Está a chegar o mês de junho e com o mês de junho vem as nossas festas em honra de Santo António!\nEste ano comemoramos 4 dias seguidos!\nComeçamos no dia 12 com o convívio e a sardinhada no largo junto à capela do nosso padroeiro\, seguindo sexta sábado e domingo cheios de animação\, vem e trás um amigo!\n\n\nThe month of June is coming and with June comes our festivals in honor of Saint Anthony!\n\n\n\n\n\n\n\n\n\n\nThis year we celebrate 4 days in a row!\nWe start on the 12th with the socializing and the sardine offshore next to the chapel of our patron\, following Friday Saturday and Sunday full of excitement\, come and bring a friend!
URL:https://eventosagenda.com/event/festa-em-honra-santo-antonio-advagar/
LOCATION:Advagar\, Advagar\, Santarém\, Portugal
CATEGORIES:Festas & Festivals
ATTACH;FMTTYPE=image/jpeg:https://eventosagenda.com/wp-content/uploads/2025/06/501056024_17904701724169440_5906432417528114490_n.jpg
END:VEVENT
BEGIN:VEVENT
DTSTART;TZID=Europe/Lisbon:20250612T200000
DTEND;TZID=Europe/Lisbon:20250615T220000
DTSTAMP:20260422T161041
CREATED:20250528T115727Z
LAST-MODIFIED:20250528T115744Z
UID:2082-1749758400-1750024800@eventosagenda.com
SUMMARY:Festa em Honra de Santo António - Fação
DESCRIPTION:
URL:https://eventosagenda.com/event/festa-em-honra-de-santo-antonio-facao/
LOCATION:Fação\, Fação\, Lisboa
CATEGORIES:Festas & Festivals
ATTACH;FMTTYPE=image/jpeg:https://eventosagenda.com/wp-content/uploads/2025/05/facebook_1748367329950_7333184085482629544.jpg
END:VEVENT
BEGIN:VEVENT
DTSTART;VALUE=DATE:20250613
DTEND;VALUE=DATE:20250616
DTSTAMP:20260422T161041
CREATED:20250404T172118Z
LAST-MODIFIED:20250603T140334Z
UID:120-1749772800-1750031999@eventosagenda.com
SUMMARY:Proença-a-Nova Festa do Municipio 2025
DESCRIPTION:Party of the Municipality of Proença-Nova | June 13\, 14 and 15\n\n\nThe Municipality Party is approaching and promises three days of celebration of local identity\, in the Municipal Year of Roots. With a diverse program that includes exhibitions\, theater\, gastronomy\, crafts\, sports and lots of music\, everyone is invited to participate!\n\n\nHighlights:\n Concerts with Van Zee\, Rui Veloso and Tiago Bettencourt\n Solemn session\n Workshops of gastronomy\, arts and crafts\n Book presentations\n Animation\, theater and live cooking\n\n\nAre we counting on you?
URL:https://eventosagenda.com/event/proenca-a-nova-festa-do-municipio-2025/
LOCATION:Proença-a-Nova\, Proença-a-Nova\, Castelo Branco\, Portugal
CATEGORIES:Festas & Festivals
ATTACH;FMTTYPE=image/jpeg:https://eventosagenda.com/wp-content/uploads/2025/04/FB_IMG_1743786949610-1.jpg
END:VEVENT
BEGIN:VEVENT
DTSTART;VALUE=DATE:20250613
DTEND;VALUE=DATE:20250616
DTSTAMP:20260422T161041
CREATED:20250415T122245Z
LAST-MODIFIED:20250415T122743Z
UID:328-1749772800-1750031999@eventosagenda.com
SUMMARY:Praxis Beer Fest - Coimbra
DESCRIPTION:13\, 14 and 15 June 2025 in Campo de Santa Cruz and Jardim da Sereia\, Coimbra: three days of beer\, music\, food\, party\, and lots of history and Coimbra in one event. \nHere is the Praxis Beer Fest 2025\, a festival that aims to help restore the city as the beer capital of Portugal. \nThe first edition of this festival celebrates the 100th anniversary of Topaz & Onyx\, historic Coimbra beers recovered by Praxis. \nWith national and international breweries of reference of the craft beer movement\, top restaurants\, cabins and biergartens areas\, this has everything to be a unique beer party in the national panorama. \nhttps://praxisbeerfest.pt/ \n 
URL:https://eventosagenda.com/event/praxis-beer-fest-coimbra/
LOCATION:Coimbra\, Coimbra\, Coimbra\, Portugal
CATEGORIES:Festas & Festivals,Food & Drink
ATTACH;FMTTYPE=image/jpeg:https://eventosagenda.com/wp-content/uploads/2025/04/Praxis-Beer-Fest.jpg
END:VEVENT
BEGIN:VEVENT
DTSTART;VALUE=DATE:20250613
DTEND;VALUE=DATE:20250616
DTSTAMP:20260422T161041
CREATED:20250420T181605Z
LAST-MODIFIED:20250420T181605Z
UID:466-1749772800-1750031999@eventosagenda.com
SUMMARY:Festa Em Honra ao Mártir São Félix - Ponte do Mouro\, Barbeita\, Monção
DESCRIPTION:
URL:https://eventosagenda.com/event/festa-em-honra-ao-martir-sao-felix-ponte-do-mouro-barbeita-moncao/
LOCATION:Ponte do Mouro\, Ponte do Mouro\, Barbeita\, Monção\, Viana do Castelo\, Portugal
CATEGORIES:Festas & Festivals
ATTACH;FMTTYPE=image/jpeg:https://eventosagenda.com/wp-content/uploads/2025/04/Ponte-do-Mouro-BarbeitaMoncao.jpg
END:VEVENT
BEGIN:VEVENT
DTSTART;VALUE=DATE:20250613
DTEND;VALUE=DATE:20250616
DTSTAMP:20260422T161041
CREATED:20250423T115022Z
LAST-MODIFIED:20250423T115316Z
UID:541-1749772800-1750031999@eventosagenda.com
SUMMARY:Festa de Verão - Pereiro de Palhacana
DESCRIPTION:
URL:https://eventosagenda.com/event/festa-de-verao-pereiro-de-palhacana/
LOCATION:Pereiro de Palhacana\, Pereiro de Palhacana\, Alenquer\, Lisboa\, Portugal
CATEGORIES:Festas & Festivals
ATTACH;FMTTYPE=image/jpeg:https://eventosagenda.com/wp-content/uploads/2025/04/facebook_1745372268043_7320621885344542720.jpg
END:VEVENT
BEGIN:VEVENT
DTSTART;TZID=Europe/Lisbon:20250613T080000
DTEND;TZID=Europe/Lisbon:20250616T170000
DTSTAMP:20260422T161041
CREATED:20250429T222214Z
LAST-MODIFIED:20250528T105454Z
UID:739-1749801600-1750093200@eventosagenda.com
SUMMARY:Mourisco Festa 2025
DESCRIPTION:
URL:https://eventosagenda.com/event/mourisco-festa-2025/
LOCATION:Mourisco\, Mourisco\, Serta\, Castelo Branco\, Portugal
CATEGORIES:Festas & Festivals
ATTACH;FMTTYPE=image/jpeg:https://eventosagenda.com/wp-content/uploads/2025/04/Mourisco.jpg
END:VEVENT
BEGIN:VEVENT
DTSTART;TZID=Europe/Lisbon:20250613T080000
DTEND;TZID=Europe/Lisbon:20250616T180000
DTSTAMP:20260422T161041
CREATED:20250603T144806Z
LAST-MODIFIED:20250603T144821Z
UID:2358-1749801600-1750096800@eventosagenda.com
SUMMARY:Festas em Honra de Santo António de Vagos
DESCRIPTION:
URL:https://eventosagenda.com/event/festas-em-honra-de-santo-antonio-de-vagos/
LOCATION:Vagos\, Vagos\, Aveiro\, Portugal
CATEGORIES:Festas & Festivals
ATTACH;FMTTYPE=image/jpeg:https://eventosagenda.com/wp-content/uploads/2025/06/06.13-16-Santo-Antonio-de-Vagos.jpg
END:VEVENT
BEGIN:VEVENT
DTSTART;TZID=Europe/Lisbon:20250613T090000
DTEND;TZID=Europe/Lisbon:20250615T200000
DTSTAMP:20260422T161041
CREATED:20250518T100735Z
LAST-MODIFIED:20250518T100748Z
UID:1778-1749805200-1750017600@eventosagenda.com
SUMMARY:Festa em Honra de Santo António de Vascões
DESCRIPTION:
URL:https://eventosagenda.com/event/festa-em-honra-de-santo-antonio-de-vascoes/
LOCATION:Vascões\, Vascões\, Viana do Castelo\, Portugal
CATEGORIES:Festas & Festivals
ATTACH;FMTTYPE=image/jpeg:https://eventosagenda.com/wp-content/uploads/2025/05/facebook_1747403487115_7329141435621504842.jpg
END:VEVENT
BEGIN:VEVENT
DTSTART;TZID=Europe/Lisbon:20250613T090000
DTEND;TZID=Europe/Lisbon:20250615T233000
DTSTAMP:20260422T161041
CREATED:20250528T115332Z
LAST-MODIFIED:20250528T115332Z
UID:2078-1749805200-1750030200@eventosagenda.com
SUMMARY:Festas Mártir São Sebastião - Vilarinho de Cima\, Gandra
DESCRIPTION:Poster of the Martyr Saint Sebastian Festivities 2025 \n Top Villager  GANDRA  Walls\n\n\nIt is with great pleasure and pride that we publish the poster of our festivities of 2025 to Martyr Saint Sebastian. It was a year of hard work and it will continue to be so that everything runs well and with the dignity that our Patron and our community deserve.\n\n\nTogether we celebrate the Feast of our Martyr.\n\n\nA very big thank you to our sponsors\, our community\, friends and followers.
URL:https://eventosagenda.com/event/festas-martir-sao-sebastiao-vilarinho-de-cima-gandra/
LOCATION:Gandra\, Gandra\, Paredes\, Porto
CATEGORIES:Festas & Festivals
ATTACH;FMTTYPE=image/jpeg:https://eventosagenda.com/wp-content/uploads/2025/05/facebook_1748330536244_7333029761492348198.jpg
END:VEVENT
BEGIN:VEVENT
DTSTART;TZID=Europe/Lisbon:20250613T090000
DTEND;TZID=Europe/Lisbon:20250616T230000
DTSTAMP:20260422T161041
CREATED:20250603T144317Z
LAST-MODIFIED:20250603T144317Z
UID:2355-1749805200-1750114800@eventosagenda.com
SUMMARY:Festa em Honra de Santo António de Vilarinho - Cacia
DESCRIPTION:
URL:https://eventosagenda.com/event/festa-em-honra-de-santo-antonio-de-vilarinho-cacia/
LOCATION:Cacia\, Cacia\, Aveiro\, Portugal
CATEGORIES:Festas & Festivals
ATTACH;FMTTYPE=image/jpeg:https://eventosagenda.com/wp-content/uploads/2025/06/06.13-16-Cacia.jpeg
END:VEVENT
BEGIN:VEVENT
DTSTART;TZID=Europe/Lisbon:20250613T150000
DTEND;TZID=Europe/Lisbon:20250614T233000
DTSTAMP:20260422T161041
CREATED:20250502T122040Z
LAST-MODIFIED:20250502T122040Z
UID:964-1749826800-1749943800@eventosagenda.com
SUMMARY:Picadeiro open sounds\, digital\, art
DESCRIPTION:Marcado para o dia 13 e 14 Junho 2025\, no incrível 𝐏𝐚𝐥𝐚́𝐜𝐢𝐨 𝐝𝐨 𝐏𝐢𝐜𝐚𝐝𝐞𝐢𝐫𝐨\, em Alpedrinha\, Fundão\, este evento fará uma fusão única de música eletrónica\, eletroacústica e experimental\, com cenários deslumbrantes que destacarão os elementos arquitetónicos do Palácio do Picadeiro e a beleza dos recursos naturais da Serra da Gardunha. \nMas não vai ser só música! Este será um dia dedicado à arte digital com: \nMUSIC \nEXHIBITIONS \nGASTRONOMY \nWORKSHOPS \nINNOVATION \nque vão expandir a vossa mente! \nJuntem-se a nós\, marquem nas vossas agendas. \n\n\n  \n\nScheduled for 13 and 14 June 2025\, at the incredible 𝐏𝐚𝐥𝐚́𝐜𝐢𝐨 𝐝𝐨 𝐏𝐢𝐜𝐚𝐝𝐞𝐢𝐫𝐨\, in Alpedrinha\, Fundão\, this event will bring together a unique fusion of electronic\, electroacoustic and experimental music\, electroacoustic and experimental music\, with stunning scenery that will highlight the architectural elements of the Palácio do Picadeiro and the beauty of the natural resources of Serra da Gardunha \nBut it won’t just be music! This will be a day dedicated to digital art with: \nMUSIC \nEXHIBITIONS \nGASTRONOMY \nWORKSHOPS \nINNOVATION \nthat will expand your mind! \nJoin us\, mark your diaries. \nTranslated with www.DeepL.com/Translator (free version)
URL:https://eventosagenda.com/event/picadeiro-open-sounds-digital-art/
LOCATION:Alpedrinha\, Alpedrinha\, Castelo Branco\, Portugal
CATEGORIES:Festas & Festivals
ATTACH;FMTTYPE=image/jpeg:https://eventosagenda.com/wp-content/uploads/2025/05/facebook_1745972808135_7323140733054931251.jpg
END:VEVENT
BEGIN:VEVENT
DTSTART;TZID=Europe/Lisbon:20250613T170000
DTEND;TZID=Europe/Lisbon:20250615T220000
DTSTAMP:20260422T161041
CREATED:20250425T122739Z
LAST-MODIFIED:20250425T122739Z
UID:585-1749834000-1750024800@eventosagenda.com
SUMMARY:Festa em Honra de Santo António - Machada 2025
DESCRIPTION:
URL:https://eventosagenda.com/event/festa-em-honra-de-santo-antonio-machada-2025/
LOCATION:Machada\, Machada\, Pombal\, Leiria\, Portugal
CATEGORIES:Festas & Festivals
ATTACH;FMTTYPE=image/jpeg:https://eventosagenda.com/wp-content/uploads/2025/04/Machada-2.jpg
END:VEVENT
BEGIN:VEVENT
DTSTART;TZID=Europe/Lisbon:20250613T170000
DTEND;TZID=Europe/Lisbon:20250615T220000
DTSTAMP:20260422T161041
CREATED:20250516T115154Z
LAST-MODIFIED:20250516T115154Z
UID:1640-1749834000-1750024800@eventosagenda.com
SUMMARY:Festa em Honra de Santo António- Soalheira
DESCRIPTION:
URL:https://eventosagenda.com/event/festa-em-honra-de-santo-antonio-soalheira/
LOCATION:Soalheira\, Soalheira\, Fundão\, Castelo Branco\, Portugal
CATEGORIES:Festas & Festivals
ATTACH;FMTTYPE=image/jpeg:https://eventosagenda.com/wp-content/uploads/2025/05/facebook_1747346514852_7328902476632253381.jpg
END:VEVENT
BEGIN:VEVENT
DTSTART;TZID=Europe/Lisbon:20250613T180000
DTEND;TZID=Europe/Lisbon:20250615T160000
DTSTAMP:20260422T161041
CREATED:20250604T070131Z
LAST-MODIFIED:20250604T070147Z
UID:2411-1749837600-1750003200@eventosagenda.com
SUMMARY:XI Festival do Caracol - Jerumelo
DESCRIPTION:
URL:https://eventosagenda.com/event/xi-festival-do-caracol-jerumelo/
LOCATION:Jerumelo\, Jerumelo\, Lisboa\, Portugal
CATEGORIES:Festas & Festivals,Food & Drink
ATTACH;FMTTYPE=image/jpeg:https://eventosagenda.com/wp-content/uploads/2025/06/facebook_1748929242407_7335540917145875192.jpg
END:VEVENT
END:VCALENDAR