BEGIN:VCALENDAR
VERSION:2.0
PRODID:-// - ECPv6.15.20//NONSGML v1.0//EN
CALSCALE:GREGORIAN
METHOD:PUBLISH
X-ORIGINAL-URL:https://eventosagenda.com
X-WR-CALDESC:Events for 
REFRESH-INTERVAL;VALUE=DURATION:PT1H
X-Robots-Tag:noindex
X-PUBLISHED-TTL:PT1H
BEGIN:VTIMEZONE
TZID:Europe/Lisbon
BEGIN:DAYLIGHT
TZOFFSETFROM:+0000
TZOFFSETTO:+0100
TZNAME:WEST
DTSTART:20240331T010000
END:DAYLIGHT
BEGIN:STANDARD
TZOFFSETFROM:+0100
TZOFFSETTO:+0000
TZNAME:WET
DTSTART:20241027T010000
END:STANDARD
BEGIN:DAYLIGHT
TZOFFSETFROM:+0000
TZOFFSETTO:+0100
TZNAME:WEST
DTSTART:20250330T010000
END:DAYLIGHT
BEGIN:STANDARD
TZOFFSETFROM:+0100
TZOFFSETTO:+0000
TZNAME:WET
DTSTART:20251026T010000
END:STANDARD
BEGIN:DAYLIGHT
TZOFFSETFROM:+0000
TZOFFSETTO:+0100
TZNAME:WEST
DTSTART:20260329T010000
END:DAYLIGHT
BEGIN:STANDARD
TZOFFSETFROM:+0100
TZOFFSETTO:+0000
TZNAME:WET
DTSTART:20261025T010000
END:STANDARD
END:VTIMEZONE
BEGIN:VEVENT
DTSTART;TZID=Europe/Lisbon:20250529T160000
DTEND;TZID=Europe/Lisbon:20250602T190000
DTSTAMP:20260422T161034
CREATED:20250516T124814Z
LAST-MODIFIED:20250516T124814Z
UID:1697-1748534400-1748890800@eventosagenda.com
SUMMARY:Casal do Pedregulho e Castelo Picão - Milharado\, Mafra
DESCRIPTION:
URL:https://eventosagenda.com/event/casal-do-pedregulho-e-castelo-picao-milharado-mafra/
LOCATION:Milharado\, Mafra\, Milharado\, Mafra\, Lisboa\, Portugal
CATEGORIES:Festas & Festivals
ATTACH;FMTTYPE=image/jpeg:https://eventosagenda.com/wp-content/uploads/2025/05/facebook_1747255250764_7328519687302814556.jpg
END:VEVENT
BEGIN:VEVENT
DTSTART;VALUE=DATE:20250530
DTEND;VALUE=DATE:20250616
DTSTAMP:20260422T161034
CREATED:20250517T104249Z
LAST-MODIFIED:20250517T104336Z
UID:1744-1748563200-1750031999@eventosagenda.com
SUMMARY:Festas de Oeiras 2025
DESCRIPTION:The council’s most awaited parties are back. The Oeiras Festivities 2025 will take place from May 30 to June 15\, bringing music\, joy and unforgettable moments for all ages. Ornatos Violeta\, Kicks and Kicks\, Buba Espinho and Ana Moura are part of this year’s poster.\n\n\nThe press conference of the official presentation of the event takes place this Thursday\, at 12 o’clock\, at the Patio das Amendoeiras\, in Linda a Velha\, with the presence of the President of the Municipal Council of Oeiras\, Isaltino Morais.\n\n\nKnown for their vibrant banner\, the Oeiras Parties offer unforgettable moments for all family and friends.\n\n\nThe courtyard features dining spaces\, street food\, crafts\, lounge area\, fun for all ages and many surprises throughout the days.\n\n\nNews available on https://tinyurl.com/y86b7crd
URL:https://eventosagenda.com/event/festas-de-oeiras-2025/
LOCATION:Oeiras\, Oeiras\, Lisboa\, Portugal
CATEGORIES:Festas & Festivals
ATTACH;FMTTYPE=image/jpeg:https://eventosagenda.com/wp-content/uploads/2025/05/facebook_1747401744055_7329134124698956192.jpg
END:VEVENT
BEGIN:VEVENT
DTSTART;TZID=Europe/Lisbon:20250530T203000
DTEND;TZID=Europe/Lisbon:20250608T000000
DTSTAMP:20260422T161034
CREATED:20250512T164754Z
LAST-MODIFIED:20250512T164754Z
UID:1427-1748637000-1749340800@eventosagenda.com
SUMMARY:Festa do Divino Espírito Santo 2025 - São Pedro de Sarracenos
DESCRIPTION:
URL:https://eventosagenda.com/event/festa-do-divino-espirito-santo-2025-sao-pedro-de-sarracenos/
LOCATION:São Pedro de Sarracenos\, São Pedro de Sarracenos\, Bragança\, Portugal
CATEGORIES:Festas & Festivals
ATTACH;FMTTYPE=image/jpeg:https://eventosagenda.com/wp-content/uploads/2025/05/496253991_24575775248691123_6965101232540381487_n.jpg
END:VEVENT
BEGIN:VEVENT
DTSTART;TZID=Europe/Lisbon:20250530T210000
DTEND;TZID=Europe/Lisbon:20250602T213000
DTSTAMP:20260422T161034
CREATED:20250514T201313Z
LAST-MODIFIED:20250514T201327Z
UID:1617-1748638800-1748899800@eventosagenda.com
SUMMARY:Festa em honra do Senhor da Agonia - São Martinho\, Orgens
DESCRIPTION:
URL:https://eventosagenda.com/event/festa-em-honra-do-senhor-da-agonia-sao-martinho-orgens/
LOCATION:Orgens\, Orgens\, Viseu\, Viseu\, Portugal
CATEGORIES:Festas & Festivals
ATTACH;FMTTYPE=image/jpeg:https://eventosagenda.com/wp-content/uploads/2025/05/facebook_1747253286612_7328511449052736860.jpg
END:VEVENT
BEGIN:VEVENT
DTSTART;TZID=Europe/Lisbon:20250530T210000
DTEND;TZID=Europe/Lisbon:20250608T160000
DTSTAMP:20260422T161034
CREATED:20250429T164301Z
LAST-MODIFIED:20250429T164319Z
UID:710-1748638800-1749398400@eventosagenda.com
SUMMARY:Festas em Honra a Nossa Senhora da Graça - Tojeiro '25
DESCRIPTION:
URL:https://eventosagenda.com/event/festas-em-honra-a-nossa-senhora-da-graca-tojeiro-25/
LOCATION:Tojeiro\, Tojeiro\, Arazede\, Montemor-o-Velho\, Coimbra\, Portugal
CATEGORIES:Festas & Festivals
ATTACH;FMTTYPE=image/jpeg:https://eventosagenda.com/wp-content/uploads/2025/04/facebook_1745709703579_7322037192560663069.jpg
END:VEVENT
BEGIN:VEVENT
DTSTART;TZID=Europe/Lisbon:20250530T220000
DTEND;TZID=Europe/Lisbon:20250608T220000
DTSTAMP:20260422T161034
CREATED:20250508T080338Z
LAST-MODIFIED:20250508T080338Z
UID:1277-1748642400-1749420000@eventosagenda.com
SUMMARY:Feira Festa Quinta do Conde 2025 - Sesimbra
DESCRIPTION:
URL:https://eventosagenda.com/event/feira-festa-quinta-do-conde-2025-sesimbra/
LOCATION:Quinta do Conde\, Quinta do Conde\, Lisboa\, Portugal
CATEGORIES:Festas & Festivals
ATTACH;FMTTYPE=image/jpeg:https://eventosagenda.com/wp-content/uploads/2025/05/facebook_1746673626173_7326080176952908392.jpg
END:VEVENT
BEGIN:VEVENT
DTSTART;VALUE=DATE:20250531
DTEND;VALUE=DATE:20250629
DTSTAMP:20260422T161034
CREATED:20250510T162126Z
LAST-MODIFIED:20250510T162126Z
UID:1374-1748649600-1751155199@eventosagenda.com
SUMMARY:São João na Freguesia de Paranhos
DESCRIPTION:
URL:https://eventosagenda.com/event/sao-joao-na-freguesia-de-paranhos/
LOCATION:Paranhos\, Paranhos\, Porto\, Portugal
CATEGORIES:Festas & Festivals
ATTACH;FMTTYPE=image/jpeg:https://eventosagenda.com/wp-content/uploads/2025/05/facebook_1746734304059_7326334678454106251.jpg
END:VEVENT
BEGIN:VEVENT
DTSTART;TZID=Europe/Lisbon:20250531T080000
DTEND;TZID=Europe/Lisbon:20250602T170000
DTSTAMP:20260422T161034
CREATED:20250502T183805Z
LAST-MODIFIED:20250502T183914Z
UID:987-1748678400-1748883600@eventosagenda.com
SUMMARY:Nossa Senhora da Hora São Bráz Senhor do Bonfim - Grijó - Vila Nova de Gaia
DESCRIPTION:The poster of our party in honor of the patrons:\nOur Lady of the Hour\nSão Braz\nLord of the Bonfim\nFrom May 31 to June 2 all roads lead to Póvoa de Grijó
URL:https://eventosagenda.com/event/nossa-senhora-da-hora-sao-braz-senhor-do-bonfim-grijo-vila-nova-de-gaia/
LOCATION:Grijó\, Vila Nova de Gaia\, Porto\, Portugal
CATEGORIES:Festas & Festivals
ATTACH;FMTTYPE=image/jpeg:https://eventosagenda.com/wp-content/uploads/2025/05/Povoa-de-Grijo.jpg
END:VEVENT
BEGIN:VEVENT
DTSTART;TZID=Europe/Lisbon:20250601T200000
DTEND;TZID=Europe/Lisbon:20250609T230000
DTSTAMP:20260422T161034
CREATED:20250520T122514Z
LAST-MODIFIED:20250520T122514Z
UID:1847-1748808000-1749510000@eventosagenda.com
SUMMARY:Império do Pentecostes - Pico da Pedra
DESCRIPTION:
URL:https://eventosagenda.com/event/imperio-do-pentecostes-pico-da-pedra/
LOCATION:Pico da Pedra\, Ribeira Grande\, São Miguel\, Açores\, Portugal
CATEGORIES:Festas & Festivals
ATTACH;FMTTYPE=image/jpeg:https://eventosagenda.com/wp-content/uploads/2025/05/facebook_1747320385439_7328792881932508415.jpg
END:VEVENT
BEGIN:VEVENT
DTSTART;VALUE=DATE:20250602
DTEND;VALUE=DATE:20250609
DTSTAMP:20260422T161034
CREATED:20250513T194101Z
LAST-MODIFIED:20250513T194101Z
UID:1557-1748822400-1749427199@eventosagenda.com
SUMMARY:Fluvial Beach Tennis Tour - Proença-a-Nova
DESCRIPTION:Proença-a-Nova returns to welcome the world elite of beach tennis.\n\n\n\nThe Fluvial Beach Playing Field of Ruiva Village\, in Proença-a-Nova\, transforms into the epicentre of international beach tennis again with the 2025 edition of the Fluvial Beach Tennis Tour\, which takes place from June 2 to 8. Over seven days\, the arena will host four international tournaments scoreable for the International Tennis Federation (ITF) rankings\, drawing dozens of elite athletes and fans of the modality.\n\n\n\nIn this edition\, the calendar integrates three BT 50 events – which award monetary prizes distributed equally between male and female pairs – and a BT 10\, exclusively to add up points on the circuit. The sports program is broken down as follows: BT 50\, June 2 and 3; BT 10 to June 4; BT 50 on June 5 and 6 and again another BT 50\, on June 7 and 8. The finals of each of the BT will be streamed live on the Aduane Sports Solutions channels and social media networks.\n\n\n\nWith a total prize value of over $12\,000 and 150 points for the international Beach Tennis ranking\, the event promises to attract athletes from multiple nationalities\, also contributing to the council’s tourism and economic projection.\n\n\n\nRead full story: https://shorturl.at/CDIod
URL:https://eventosagenda.com/event/fluvial-beach-tennis-tour-proenca-a-nova/
LOCATION:Proença-a-Nova\, Proença-a-Nova\, Castelo Branco\, Portugal
CATEGORIES:Sports & Games
ATTACH;FMTTYPE=image/jpeg:https://eventosagenda.com/wp-content/uploads/2025/05/GR0_4175-2.jpg
END:VEVENT
END:VCALENDAR