BEGIN:VCALENDAR
VERSION:2.0
PRODID:-// - ECPv6.15.20//NONSGML v1.0//EN
CALSCALE:GREGORIAN
METHOD:PUBLISH
X-ORIGINAL-URL:https://eventosagenda.com
X-WR-CALDESC:Events for 
REFRESH-INTERVAL;VALUE=DURATION:PT1H
X-Robots-Tag:noindex
X-PUBLISHED-TTL:PT1H
BEGIN:VTIMEZONE
TZID:Europe/Lisbon
BEGIN:DAYLIGHT
TZOFFSETFROM:+0000
TZOFFSETTO:+0100
TZNAME:WEST
DTSTART:20240331T010000
END:DAYLIGHT
BEGIN:STANDARD
TZOFFSETFROM:+0100
TZOFFSETTO:+0000
TZNAME:WET
DTSTART:20241027T010000
END:STANDARD
BEGIN:DAYLIGHT
TZOFFSETFROM:+0000
TZOFFSETTO:+0100
TZNAME:WEST
DTSTART:20250330T010000
END:DAYLIGHT
BEGIN:STANDARD
TZOFFSETFROM:+0100
TZOFFSETTO:+0000
TZNAME:WET
DTSTART:20251026T010000
END:STANDARD
BEGIN:DAYLIGHT
TZOFFSETFROM:+0000
TZOFFSETTO:+0100
TZNAME:WEST
DTSTART:20260329T010000
END:DAYLIGHT
BEGIN:STANDARD
TZOFFSETFROM:+0100
TZOFFSETTO:+0000
TZNAME:WET
DTSTART:20261025T010000
END:STANDARD
END:VTIMEZONE
BEGIN:VEVENT
DTSTART;TZID=Europe/Lisbon:20250523T140000
DTEND;TZID=Europe/Lisbon:20250529T203000
DTSTAMP:20260422T161043
CREATED:20250502T182012Z
LAST-MODIFIED:20250502T182026Z
UID:968-1748008800-1748550600@eventosagenda.com
SUMMARY:Grocinas Festa 2025 - Penela
DESCRIPTION:
URL:https://eventosagenda.com/event/grocinas-festa-2025-penela/
LOCATION:Grocinas\, Penela\, Coimbra\, Portugal
CATEGORIES:Festas & Festivals
ATTACH;FMTTYPE=image/jpeg:https://eventosagenda.com/wp-content/uploads/2025/05/Grocinas-Penela.jpg
END:VEVENT
BEGIN:VEVENT
DTSTART;VALUE=DATE:20250524
DTEND;VALUE=DATE:20250602
DTSTAMP:20260422T161043
CREATED:20250506T204658Z
LAST-MODIFIED:20250506T204658Z
UID:1140-1748044800-1748822399@eventosagenda.com
SUMMARY:Ascensão e na Chamusca 2025
DESCRIPTION:
URL:https://eventosagenda.com/event/ascensao-e-na-chamusca-2025/
LOCATION:Chamusca\, Ribatejo\, Santarém\, Portugal
CATEGORIES:Festas & Festivals
ATTACH;FMTTYPE=image/jpeg:https://eventosagenda.com/wp-content/uploads/2025/05/Chamusca.jpg
END:VEVENT
BEGIN:VEVENT
DTSTART;TZID=Europe/Lisbon:20250524T180000
DTEND;TZID=Europe/Lisbon:20250601T170000
DTSTAMP:20260422T161043
CREATED:20250510T133228Z
LAST-MODIFIED:20250510T133228Z
UID:1361-1748109600-1748797200@eventosagenda.com
SUMMARY:Festa Nossa Senhora da Piedade - Lousã
DESCRIPTION:
URL:https://eventosagenda.com/event/festa-nossa-senhora-da-piedade-lousa/
LOCATION:Lousã\, Lousa\, Coimbra\, Portugal
CATEGORIES:Festas & Festivals
ATTACH;FMTTYPE=image/jpeg:https://eventosagenda.com/wp-content/uploads/2025/05/490910908_1127002609470369_7070471782831924307_n.jpg
END:VEVENT
BEGIN:VEVENT
DTSTART;TZID=Europe/Lisbon:20250527T203000
DTEND;TZID=Europe/Lisbon:20250601T170000
DTSTAMP:20260422T161043
CREATED:20250516T120930Z
LAST-MODIFIED:20250516T120954Z
UID:1655-1748377800-1748797200@eventosagenda.com
SUMMARY:Festas em Honra de Nossa Senhora do Rosário - Fermentões\, Guimarães
DESCRIPTION:
URL:https://eventosagenda.com/event/festas-em-honra-de-nossa-senhora-do-rosario-fermentoes-guimaraes/
LOCATION:Fermentões\, Fermentões\, Guimarães\, Braga\, Portugal
CATEGORIES:Festas & Festivals
ATTACH;FMTTYPE=image/jpeg:https://eventosagenda.com/wp-content/uploads/2025/05/facebook_1747331769861_7328840631656204644.jpg
END:VEVENT
BEGIN:VEVENT
DTSTART;VALUE=DATE:20250529
DTEND;VALUE=DATE:20250602
DTSTAMP:20260422T161043
CREATED:20250502T121450Z
LAST-MODIFIED:20250502T121450Z
UID:960-1748476800-1748822399@eventosagenda.com
SUMMARY:XIII Festival da Codorniz - Caldas da Rainha
DESCRIPTION:
URL:https://eventosagenda.com/event/xiii-festival-da-codorniz-caldas-da-rainha/
LOCATION:Caldas da Rainha\, Landal\, Caldas da Rainha\, Leiria\, Portugal
CATEGORIES:Festas & Festivals
ATTACH;FMTTYPE=image/jpeg:https://eventosagenda.com/wp-content/uploads/2025/05/facebook_1746086824495_7323618952329990517.jpg
END:VEVENT
BEGIN:VEVENT
DTSTART;TZID=Europe/Lisbon:20250529T100000
DTEND;TZID=Europe/Lisbon:20250601T213000
DTSTAMP:20260422T161043
CREATED:20250520T113255Z
LAST-MODIFIED:20250520T113312Z
UID:1810-1748512800-1748813400@eventosagenda.com
SUMMARY:Festas em honra da Ascensão do Senhor ao Céu - Vale de Vargo
DESCRIPTION:
URL:https://eventosagenda.com/event/festas-em-honra-da-ascensao-do-senhor-ao-ceu-vale-de-vargo/
LOCATION:Vale de Vargo\, Vale de Vargo\, Serpa\, Beja\, Portugal
CATEGORIES:Festas & Festivals
ATTACH;FMTTYPE=image/jpeg:https://eventosagenda.com/wp-content/uploads/2025/05/facebook_1747720447179_7330470862487094978.jpg
END:VEVENT
BEGIN:VEVENT
DTSTART;TZID=Europe/Lisbon:20250529T103000
DTEND;TZID=Europe/Lisbon:20250601T180000
DTSTAMP:20260422T161043
CREATED:20250528T103459Z
LAST-MODIFIED:20250528T103459Z
UID:2004-1748514600-1748800800@eventosagenda.com
SUMMARY:Serra da Santa - Cernache do Bonjardim
DESCRIPTION:
URL:https://eventosagenda.com/event/serra-da-santa-cernache-do-bonjardim/
LOCATION:Cernache do Bonjardim\, Cernache do Bonjardim\, Castelo Branco\, Portugal
CATEGORIES:Festas & Festivals
ATTACH;FMTTYPE=image/jpeg:https://eventosagenda.com/wp-content/uploads/2025/05/facebook_1748039062821_7331807233349988375.jpg
END:VEVENT
BEGIN:VEVENT
DTSTART;TZID=Europe/Lisbon:20250529T160000
DTEND;TZID=Europe/Lisbon:20250602T190000
DTSTAMP:20260422T161043
CREATED:20250516T124814Z
LAST-MODIFIED:20250516T124814Z
UID:1697-1748534400-1748890800@eventosagenda.com
SUMMARY:Casal do Pedregulho e Castelo Picão - Milharado\, Mafra
DESCRIPTION:
URL:https://eventosagenda.com/event/casal-do-pedregulho-e-castelo-picao-milharado-mafra/
LOCATION:Milharado\, Mafra\, Milharado\, Mafra\, Lisboa\, Portugal
CATEGORIES:Festas & Festivals
ATTACH;FMTTYPE=image/jpeg:https://eventosagenda.com/wp-content/uploads/2025/05/facebook_1747255250764_7328519687302814556.jpg
END:VEVENT
BEGIN:VEVENT
DTSTART;TZID=Europe/Lisbon:20250529T180000
DTEND;TZID=Europe/Lisbon:20250601T210000
DTSTAMP:20260422T161043
CREATED:20250520T112724Z
LAST-MODIFIED:20250520T112857Z
UID:1806-1748541600-1748811600@eventosagenda.com
SUMMARY:Dia das Criancas - Praça Ernesto Melo Antunes\, Amadora
DESCRIPTION:
URL:https://eventosagenda.com/event/dia-das-criancas-praca-ernesto-melo-antunes-amadora/
LOCATION:Amadora\, Praça Ernesto Melo Antunes\, Amadora\, Lisboa\, Portugal
CATEGORIES:Festas & Festivals
ATTACH;FMTTYPE=image/jpeg:https://eventosagenda.com/wp-content/uploads/2025/05/facebook_1747720229726_7330469950421451282.jpg
END:VEVENT
BEGIN:VEVENT
DTSTART;TZID=Europe/Lisbon:20250529T200000
DTEND;TZID=Europe/Lisbon:20250601T233000
DTSTAMP:20260422T161043
CREATED:20250427T222641Z
LAST-MODIFIED:20250427T222641Z
UID:657-1748548800-1748820600@eventosagenda.com
SUMMARY:Festas de S. Gonçalo - Cabanas
DESCRIPTION:
URL:https://eventosagenda.com/event/festas-de-s-goncalo-cabanas/
LOCATION:Cabanas\, Cabanas\, Palmela\, Lisboa\, Portugal
CATEGORIES:Festas & Festivals
ATTACH;FMTTYPE=image/jpeg:https://eventosagenda.com/wp-content/uploads/2025/04/facebook_1745791870333_7322381824908503688.jpg
END:VEVENT
BEGIN:VEVENT
DTSTART;TZID=Europe/Lisbon:20250529T210000
DTEND;TZID=Europe/Lisbon:20250601T200000
DTSTAMP:20260422T161043
CREATED:20250507T161216Z
LAST-MODIFIED:20250507T161231Z
UID:1186-1748552400-1748808000@eventosagenda.com
SUMMARY:Festas em Honra Senhora da Hora - Vilela
DESCRIPTION:
URL:https://eventosagenda.com/event/festas-em-honra-senhora-da-hora-vilela/
LOCATION:Vilela\, Vilela\, Porto\, Portugal
CATEGORIES:Festas & Festivals
ATTACH;FMTTYPE=image/jpeg:https://eventosagenda.com/wp-content/uploads/2025/05/496149462_122166878240371178_3002605249638925240_n.jpg
END:VEVENT
END:VCALENDAR