BEGIN:VCALENDAR
VERSION:2.0
PRODID:-// - ECPv6.15.20//NONSGML v1.0//EN
CALSCALE:GREGORIAN
METHOD:PUBLISH
X-ORIGINAL-URL:https://eventosagenda.com
X-WR-CALDESC:Events for 
REFRESH-INTERVAL;VALUE=DURATION:PT1H
X-Robots-Tag:noindex
X-PUBLISHED-TTL:PT1H
BEGIN:VTIMEZONE
TZID:Europe/Lisbon
BEGIN:DAYLIGHT
TZOFFSETFROM:+0000
TZOFFSETTO:+0100
TZNAME:WEST
DTSTART:20240331T010000
END:DAYLIGHT
BEGIN:STANDARD
TZOFFSETFROM:+0100
TZOFFSETTO:+0000
TZNAME:WET
DTSTART:20241027T010000
END:STANDARD
BEGIN:DAYLIGHT
TZOFFSETFROM:+0000
TZOFFSETTO:+0100
TZNAME:WEST
DTSTART:20250330T010000
END:DAYLIGHT
BEGIN:STANDARD
TZOFFSETFROM:+0100
TZOFFSETTO:+0000
TZNAME:WET
DTSTART:20251026T010000
END:STANDARD
BEGIN:DAYLIGHT
TZOFFSETFROM:+0000
TZOFFSETTO:+0100
TZNAME:WEST
DTSTART:20260329T010000
END:DAYLIGHT
BEGIN:STANDARD
TZOFFSETFROM:+0100
TZOFFSETTO:+0000
TZNAME:WET
DTSTART:20261025T010000
END:STANDARD
END:VTIMEZONE
BEGIN:VEVENT
DTSTART;TZID=Europe/Lisbon:20250510T080000
DTEND;TZID=Europe/Lisbon:20250518T233000
DTSTAMP:20260422T174038
CREATED:20250504T111552Z
LAST-MODIFIED:20250513T211639Z
UID:1029-1746864000-1747611000@eventosagenda.com
SUMMARY:Festa en Honra de Nossa Senhora do Rosário - Prazins\, Santa Eufémia
DESCRIPTION:Feast in Honor of Our Lady of the Rosary \n\n\n Prazins Saint Eufemia – Guimarães\n May 10-18\n\n\nI can already smell a party in Prazins Santa Eufémia! \nYou are all invited to celebrate with us this very special tradition in honor of Our Lady of the Rosary.\n\n\nThe programme is packed with moments for the whole family:\n Return to the parish with the Bombos Teixeira Lopes\nChildren’s entertainment\, zumba\, processions and religious celebrations\n Concerts with 4MENS\, MANINHO and HELDER BATISTA\n Fireworks and animation sessions with DJs Pedro Conde and Tio Nando\n\n\n The opening of the festivities will be on May 14th with the traditional lighting.\n Religious ceremonies take place from May 15 to 18\, with the grand procession on Sunday afternoon.\n\n\nDon’t miss out!\nCome celebrate with us this party that belongs to everyone! \nShare and Invite Family and Friends!
URL:https://eventosagenda.com/event/festa-en-honra-de-nossa-senhora-do-rosario-prazins-santa-eufemia/
LOCATION:Prazins Santa Eufémia\, Guimarães\, Braga\, Portugal
CATEGORIES:Festas & Festivals
ATTACH;FMTTYPE=image/jpeg:https://eventosagenda.com/wp-content/uploads/2025/05/facebook_1746330361505_7324640420583385401.jpg
END:VEVENT
BEGIN:VEVENT
DTSTART;VALUE=DATE:20250515
DTEND;VALUE=DATE:20250519
DTSTAMP:20260422T174038
CREATED:20250411T080210Z
LAST-MODIFIED:20250507T220300Z
UID:238-1747267200-1747612799@eventosagenda.com
SUMMARY:Vodafone Rally de Portugal 2025
DESCRIPTION:
URL:https://eventosagenda.com/event/vodafone-rally-de-portugal-2025/
LOCATION:Coimbra\, Coimbra\, Coimbra\, Portugal
CATEGORIES:Sports & Games
ATTACH;FMTTYPE=image/jpeg:https://eventosagenda.com/wp-content/uploads/2025/04/rp2025-rally_portugal.jpg
END:VEVENT
BEGIN:VEVENT
DTSTART;VALUE=DATE:20250515
DTEND;VALUE=DATE:20250519
DTSTAMP:20260422T174038
CREATED:20250418T120246Z
LAST-MODIFIED:20250425T172137Z
UID:428-1747267200-1747612799@eventosagenda.com
SUMMARY:Festas em honra de Santa Catarina - Bustelo
DESCRIPTION:
URL:https://eventosagenda.com/event/festas-em-honra-de-santa-catarina-bustelo/
LOCATION:Bustelo\, Bustelo\, Penafiel\, Porto\, Portugal
CATEGORIES:Festas & Festivals
ATTACH;FMTTYPE=image/jpeg:https://eventosagenda.com/wp-content/uploads/2025/04/Bustelo.jpg
END:VEVENT
BEGIN:VEVENT
DTSTART;VALUE=DATE:20250515
DTEND;VALUE=DATE:20250519
DTSTAMP:20260422T174038
CREATED:20250425T172503Z
LAST-MODIFIED:20250425T172641Z
UID:638-1747267200-1747612799@eventosagenda.com
SUMMARY:Feiras Francas de Fafe 2025
DESCRIPTION:
URL:https://eventosagenda.com/event/feiras-francas-de-fafe-2025/
LOCATION:Fafe\, Fafe\, Braga\, Portugal
CATEGORIES:Festas & Festivals,Markets & Fairs
ATTACH;FMTTYPE=image/jpeg:https://eventosagenda.com/wp-content/uploads/2025/04/facebook_1745185025675_7319836533932864126.jpg
END:VEVENT
BEGIN:VEVENT
DTSTART;TZID=Europe/Lisbon:20250515T180000
DTEND;TZID=Europe/Lisbon:20250518T160000
DTSTAMP:20260422T174038
CREATED:20250510T161526Z
LAST-MODIFIED:20250510T161632Z
UID:1368-1747332000-1747584000@eventosagenda.com
SUMMARY:XXV Expo Égua e III Festival da Biosfera - Golegã
DESCRIPTION:
URL:https://eventosagenda.com/event/xxv-expo-egua-e-iii-festival-da-biosfera-golega/
LOCATION:Golegã\, Golegã\, Santarém\, Portugal
CATEGORIES:Festas & Festivals,Markets & Fairs
ATTACH;FMTTYPE=image/jpeg:https://eventosagenda.com/wp-content/uploads/2025/05/facebook_1746788478742_7326561903542314118.jpg
END:VEVENT
BEGIN:VEVENT
DTSTART;TZID=Europe/Lisbon:20250515T210000
DTEND;TZID=Europe/Lisbon:20250518T170000
DTSTAMP:20260422T174038
CREATED:20250505T161312Z
LAST-MODIFIED:20250505T161312Z
UID:1071-1747342800-1747587600@eventosagenda.com
SUMMARY:Festas em Honra Nossa Senhora da Tocha - Santo Adrião de Vizela
DESCRIPTION:
URL:https://eventosagenda.com/event/festas-em-honra-nossa-senhora-da-tocha-santo-adriao-de-vizela/
LOCATION:Santo Adrião de Vizela\, Vizela\, Braga\, Portugal
CATEGORIES:Festas & Festivals
ATTACH;FMTTYPE=image/jpeg:https://eventosagenda.com/wp-content/uploads/2025/05/facebook_1746362985101_7324777253863445804.jpg
END:VEVENT
END:VCALENDAR