BEGIN:VCALENDAR
VERSION:2.0
PRODID:-// - ECPv6.15.20//NONSGML v1.0//EN
CALSCALE:GREGORIAN
METHOD:PUBLISH
X-ORIGINAL-URL:https://eventosagenda.com
X-WR-CALDESC:Events for 
REFRESH-INTERVAL;VALUE=DURATION:PT1H
X-Robots-Tag:noindex
X-PUBLISHED-TTL:PT1H
BEGIN:VTIMEZONE
TZID:Europe/Lisbon
BEGIN:DAYLIGHT
TZOFFSETFROM:+0000
TZOFFSETTO:+0100
TZNAME:WEST
DTSTART:20240331T010000
END:DAYLIGHT
BEGIN:STANDARD
TZOFFSETFROM:+0100
TZOFFSETTO:+0000
TZNAME:WET
DTSTART:20241027T010000
END:STANDARD
BEGIN:DAYLIGHT
TZOFFSETFROM:+0000
TZOFFSETTO:+0100
TZNAME:WEST
DTSTART:20250330T010000
END:DAYLIGHT
BEGIN:STANDARD
TZOFFSETFROM:+0100
TZOFFSETTO:+0000
TZNAME:WET
DTSTART:20251026T010000
END:STANDARD
BEGIN:DAYLIGHT
TZOFFSETFROM:+0000
TZOFFSETTO:+0100
TZNAME:WEST
DTSTART:20260329T010000
END:DAYLIGHT
BEGIN:STANDARD
TZOFFSETFROM:+0100
TZOFFSETTO:+0000
TZNAME:WET
DTSTART:20261025T010000
END:STANDARD
END:VTIMEZONE
BEGIN:VEVENT
DTSTART;TZID=Europe/Lisbon:20250502T190000
DTEND;TZID=Europe/Lisbon:20250510T000000
DTSTAMP:20260422T174029
CREATED:20250421T123730Z
LAST-MODIFIED:20250421T123730Z
UID:520-1746212400-1746835200@eventosagenda.com
SUMMARY:Fermentelos Fest 2025
DESCRIPTION:
URL:https://eventosagenda.com/event/fermentelos-fest-2025/
LOCATION:Fermentelos\, Fermentelos\, Aveiro\, Portugal
CATEGORIES:Festas & Festivals
ATTACH;FMTTYPE=image/jpeg:https://eventosagenda.com/wp-content/uploads/2025/04/Fermentelos.jpg
END:VEVENT
BEGIN:VEVENT
DTSTART;TZID=Europe/Lisbon:20250503T060000
DTEND;TZID=Europe/Lisbon:20250511T120000
DTSTAMP:20260422T174029
CREATED:20250429T224502Z
LAST-MODIFIED:20250429T224516Z
UID:750-1746252000-1746964800@eventosagenda.com
SUMMARY:Grandiosas Festividades em honra de Nossa senhora do Remedios - Sanfins\, Valença
DESCRIPTION:
URL:https://eventosagenda.com/event/grandiosas-festividades-em-honra-de-nossa-senhora-do-remedios-sanfins-valenca/
LOCATION:Sanfins\, Sanfins\, Valença\,\, Viana do Castelo\, Portugal
CATEGORIES:Festas & Festivals
ATTACH;FMTTYPE=image/jpeg:https://eventosagenda.com/wp-content/uploads/2025/04/facebook_1745707263196_7322026956854614378.jpg
END:VEVENT
BEGIN:VEVENT
DTSTART;VALUE=DATE:20250508
DTEND;VALUE=DATE:20250512
DTSTAMP:20260422T174029
CREATED:20250418T113220Z
LAST-MODIFIED:20250418T113220Z
UID:420-1746662400-1747007999@eventosagenda.com
SUMMARY:Sao Miguel Arcanjo - Freguesia de Rans
DESCRIPTION:
URL:https://eventosagenda.com/event/sao-miguel-arcanjo-freguesia-de-rans/
LOCATION:Rans\, Rans\, Penafiel\, Porto\, Portugal
CATEGORIES:Festas & Festivals
ATTACH;FMTTYPE=image/jpeg:https://eventosagenda.com/wp-content/uploads/2025/04/Arcanjo.jpg
END:VEVENT
BEGIN:VEVENT
DTSTART;VALUE=DATE:20250509
DTEND;VALUE=DATE:20250512
DTSTAMP:20260422T174029
CREATED:20250406T122430Z
LAST-MODIFIED:20250406T122710Z
UID:138-1746748800-1747007999@eventosagenda.com
SUMMARY:Escalos de Cima - Festival in Honour of Saint Peter
DESCRIPTION:
URL:https://eventosagenda.com/event/escalos-de-cima/
LOCATION:Escalos de Cima\, Escalos de Cima\, Lousa\, Coimbra\, Portugal
CATEGORIES:Festas & Festivals
ATTACH;FMTTYPE=image/jpeg:https://eventosagenda.com/wp-content/uploads/2025/04/Escalos-de-Cima.jpg
END:VEVENT
BEGIN:VEVENT
DTSTART;VALUE=DATE:20250509
DTEND;VALUE=DATE:20250512
DTSTAMP:20260422T174029
CREATED:20250410T120111Z
LAST-MODIFIED:20250410T120111Z
UID:229-1746748800-1747007999@eventosagenda.com
SUMMARY:Extreme Fest
DESCRIPTION:
URL:https://eventosagenda.com/event/extreme-fest/
LOCATION:Romariz\, Romariz\, Aveiro\, 3700-864\, Portugal
CATEGORIES:Festas & Festivals,Sports & Games
ATTACH;FMTTYPE=image/jpeg:https://eventosagenda.com/wp-content/uploads/2025/04/Extreme-Fest-scaled.jpg
END:VEVENT
BEGIN:VEVENT
DTSTART;VALUE=DATE:20250509
DTEND;VALUE=DATE:20250512
DTSTAMP:20260422T174029
CREATED:20250417T120235Z
LAST-MODIFIED:20250417T120328Z
UID:392-1746748800-1747007999@eventosagenda.com
SUMMARY:Tradicionais Festa da Santa Cruz - Santiago Mair\, Aldeia da Venda
DESCRIPTION:After a long wait …… there he is!\nFinally\, the long-awaited poster of the Traditional Santa Cruz Festivities in the Village of Venda is out!\nMusic\, hanging out\, tradition and lots of excitement – everything is ready for another unforgettable year!\nWe count on you all to celebrate big!\nMark our calendar and join us!
URL:https://eventosagenda.com/event/tradicionais-festa-da-santa-cruz-santiago-mair-aldeia-da-venda/
LOCATION:Aldeia da Venda\, Aldeia da Venda\, Evora\, Portugal
CATEGORIES:Festas & Festivals
ATTACH;FMTTYPE=image/jpeg:https://eventosagenda.com/wp-content/uploads/2025/04/Santiago-maior.jpg
END:VEVENT
BEGIN:VEVENT
DTSTART;VALUE=DATE:20250509
DTEND;VALUE=DATE:20250512
DTSTAMP:20260422T174029
CREATED:20250417T120923Z
LAST-MODIFIED:20250417T120923Z
UID:396-1746748800-1747007999@eventosagenda.com
SUMMARY:Festa de São Miguel - Mezio\, Castro Daire
DESCRIPTION:
URL:https://eventosagenda.com/event/festa-de-sao-miguel-mezio-castro-daire/
LOCATION:Mezio\, Mezio\, Castro Daire\, Viseu\, Portugal
CATEGORIES:Festas & Festivals
ATTACH;FMTTYPE=image/jpeg:https://eventosagenda.com/wp-content/uploads/2025/04/Mezio-Castro-Daire.jpg
END:VEVENT
BEGIN:VEVENT
DTSTART;VALUE=DATE:20250509
DTEND;VALUE=DATE:20250512
DTSTAMP:20260422T174029
CREATED:20250505T171613Z
LAST-MODIFIED:20250505T171613Z
UID:1114-1746748800-1747007999@eventosagenda.com
SUMMARY:Portugal Cheese Festival - Alcains
DESCRIPTION:
URL:https://eventosagenda.com/event/portugal-cheese-festival-alcains/
LOCATION:Alcains\, Alcains\, Castelo Branco\, Portugal
CATEGORIES:Festas & Festivals,Food & Drink
ATTACH;FMTTYPE=image/png:https://eventosagenda.com/wp-content/uploads/2025/05/Cheese-Festival-scaled.png
END:VEVENT
BEGIN:VEVENT
DTSTART;VALUE=DATE:20250509
DTEND;VALUE=DATE:20250513
DTSTAMP:20260422T174029
CREATED:20250430T213428Z
LAST-MODIFIED:20250430T213457Z
UID:891-1746748800-1747094399@eventosagenda.com
SUMMARY:Festa das Rosas - Vila Franca
DESCRIPTION:Festa das Rosas\n\nEventos \n\n\nA Festa das Rosas decorre todos os anos na freguesia de Vila Franca\, em Viana do Castelo\, marcando o início das romarias na região. A edição de 2025 acontece entre os dias 9 e 12 de maio e\, como sempre\, o destaque vai para o Desfile dos Cestos Floridos\, confecionados com caules\, folhas\, botões e pétalas de flores naturais\, que são transportados na cabeça das mordomas\, como oferenda a Nossa Senhora do Rosário. \nPara além do desfile\, destaque ainda para o Festival de Folclore\, com atuação de grupos folclóricos nacionais e internacionais\, e ainda para as barracas de comes e bebes\, venda de doces tradicionais e outras diversões para todas as idades. \n\n\n\nRose Festival\n\nEvents \n\n\nThe Rose Festival takes place every year in the parish of Vila Franca\, in Viana do Castelo\, marking the beginning of the region’s pilgrimages. The 2025 edition takes place between May 9 and 12 and\, as always\, the highlight is the Flower Basket Parade\, made with stems\, leaves\, buds and petals of natural flowers\, which are carried on the heads of the mordomas as an offering to Our Lady of the Rosary. \nIn addition to the parade\, there will also be a Folklore Festival\, with performances by national and international folklore groups\, as well as food and drink stalls\, the sale of traditional sweets and other entertainment for all ages.
URL:https://eventosagenda.com/event/891/
LOCATION:Vila Franca do Lima\, Vila Franca do Lima\, Alto Minho\, Viana do Castelo\, Portugal
CATEGORIES:Festas & Festivals
ATTACH;FMTTYPE=image/jpeg:https://eventosagenda.com/wp-content/uploads/2025/04/principal-6014.jpg
END:VEVENT
BEGIN:VEVENT
DTSTART;TZID=Europe/Lisbon:20250509T100000
DTEND;TZID=Europe/Lisbon:20250512T223000
DTSTAMP:20260422T174029
CREATED:20250425T123206Z
LAST-MODIFIED:20250425T123225Z
UID:590-1746784800-1747089000@eventosagenda.com
SUMMARY:Freixial do Campo Festa 2025
DESCRIPTION:
URL:https://eventosagenda.com/event/freixial-do-campo-festa-2025/
LOCATION:Freixial do Campo\, Freixial do Campo\, Castelo Branco\, Portugal
CATEGORIES:Festas & Festivals
ATTACH;FMTTYPE=image/jpeg:https://eventosagenda.com/wp-content/uploads/2025/04/facebook_1745562485966_7321419717139587549.jpg
END:VEVENT
BEGIN:VEVENT
DTSTART;TZID=Europe/Lisbon:20250509T170000
DTEND;TZID=Europe/Lisbon:20250511T203000
DTSTAMP:20260422T174029
CREATED:20250425T170028Z
LAST-MODIFIED:20250510T114402Z
UID:622-1746810000-1746995400@eventosagenda.com
SUMMARY:Festa em Honra de São Marcos - Pergulho e Murteira
DESCRIPTION:
URL:https://eventosagenda.com/event/festa-em-honra-de-sao-marcos-pergulho-e-murteira/
LOCATION:Pergulho e Murteira\, Pergulho e Murteira\, Proença-A-Nova\, Castelo Branco\, Portugal
CATEGORIES:Festas & Festivals
ATTACH;FMTTYPE=image/jpeg:https://eventosagenda.com/wp-content/uploads/2025/04/FB_IMG_1746818845302.jpg
END:VEVENT
BEGIN:VEVENT
DTSTART;TZID=Europe/Lisbon:20250509T190000
DTEND;TZID=Europe/Lisbon:20250509T233000
DTSTAMP:20260422T174029
CREATED:20250430T095851Z
LAST-MODIFIED:20250430T100136Z
UID:789-1746817200-1746833400@eventosagenda.com
SUMMARY:Italian Rock'n'Roll - Óbidos
DESCRIPTION:Hey Rock N Roll Kittens\, Garage Rock From Italy \nProhibition Bar\, Óbidos
URL:https://eventosagenda.com/event/italian-rocknroll-obidos/
LOCATION:Prohibition Bar\, Estrada National 8\, No 6\, Óbidos\, Leiria\, Portugal
CATEGORIES:Fado, Concerts & Music
ATTACH;FMTTYPE=image/jpeg:https://eventosagenda.com/wp-content/uploads/2025/04/Garage-Rock.jpg
END:VEVENT
BEGIN:VEVENT
DTSTART;TZID=Europe/Lisbon:20250509T190000
DTEND;TZID=Europe/Lisbon:20250511T183000
DTSTAMP:20260422T174029
CREATED:20250503T105757Z
LAST-MODIFIED:20250503T105757Z
UID:995-1746817200-1746988200@eventosagenda.com
SUMMARY:Alfouvés Festa 2025 - Azambujeira
DESCRIPTION:
URL:https://eventosagenda.com/event/alfouves-festa-2025-azambujeira/
LOCATION:Alfouvés\, Azambujeira\, Santarém\, Portugal
CATEGORIES:Festas & Festivals
ATTACH;FMTTYPE=image/png:https://eventosagenda.com/wp-content/uploads/2025/05/Alfourves.png
END:VEVENT
BEGIN:VEVENT
DTSTART;TZID=Europe/Lisbon:20250509T200000
DTEND;TZID=Europe/Lisbon:20250511T190000
DTSTAMP:20260422T174029
CREATED:20250429T121733Z
LAST-MODIFIED:20250429T121733Z
UID:682-1746820800-1746990000@eventosagenda.com
SUMMARY:Festas em Honra de S. Silvestre - Guilhofrei - Vieira do Minho
DESCRIPTION:
URL:https://eventosagenda.com/event/festas-em-honra-de-s-silvestre-guilhofrei-vieira-do-minho/
LOCATION:Guilhofrei – Vieira do Minho\, Guilhofrei\, Vieira do Minho\, Braga\, Portugal
CATEGORIES:Festas & Festivals
ATTACH;FMTTYPE=image/jpeg:https://eventosagenda.com/wp-content/uploads/2025/04/facebook_1745709036008_7322034392564568038.jpg
END:VEVENT
BEGIN:VEVENT
DTSTART;TZID=Europe/Lisbon:20250509T210000
DTEND;TZID=Europe/Lisbon:20250511T200000
DTSTAMP:20260422T174029
CREATED:20250421T115041Z
LAST-MODIFIED:20250430T154550Z
UID:493-1746824400-1746993600@eventosagenda.com
SUMMARY:Grandiosas Festas Em Honra de Nossa Senhora de Fátima & Santa Leocádia - Travanca\, Cinfães
DESCRIPTION:
URL:https://eventosagenda.com/event/grandiosas-festas-em-honra-de-nossa-senhora-de-fatima-santa-leocadia-travanca-cinfaes/
LOCATION:Travanca\, Travanca\, Cinfães\, Viseu\, Portugal
CATEGORIES:Festas & Festivals
ATTACH;FMTTYPE=image/jpeg:https://eventosagenda.com/wp-content/uploads/2025/04/travanca.jpg
END:VEVENT
BEGIN:VEVENT
DTSTART;TZID=Europe/Lisbon:20250509T213000
DTEND;TZID=Europe/Lisbon:20250509T233000
DTSTAMP:20260422T174029
CREATED:20250502T182956Z
LAST-MODIFIED:20250502T182956Z
UID:980-1746826200-1746833400@eventosagenda.com
SUMMARY:Festival da Sardinha - Agualva-Cacém
DESCRIPTION:
URL:https://eventosagenda.com/event/festival-da-sardinha-agualva-cacem/
LOCATION:Agualva-Cacém\, Sintra\, Lisboa\, Portugal
CATEGORIES:Festas & Festivals,Food & Drink
ATTACH;FMTTYPE=image/jpeg:https://eventosagenda.com/wp-content/uploads/2025/05/Agualva-Cacem.jpg
END:VEVENT
BEGIN:VEVENT
DTSTART;TZID=Europe/Lisbon:20250509T220000
DTEND;TZID=Europe/Lisbon:20250511T200000
DTSTAMP:20260422T174029
CREATED:20250430T110925Z
LAST-MODIFIED:20250430T110925Z
UID:816-1746828000-1746993600@eventosagenda.com
SUMMARY:Feira Agricola Vale do Mouro - Segude
DESCRIPTION:
URL:https://eventosagenda.com/event/feira-agricola-vale-do-mouro-segude/
LOCATION:Segude\, Monção\, Viana do Castelo\, Portugal
CATEGORIES:Festas & Festivals,Markets & Fairs
ATTACH;FMTTYPE=image/jpeg:https://eventosagenda.com/wp-content/uploads/2025/04/facebook_1745930851312_7322964753382103184.jpg
END:VEVENT
BEGIN:VEVENT
DTSTART;TZID=Europe/Lisbon:20250509T220000
DTEND;TZID=Europe/Lisbon:20250512T200000
DTSTAMP:20260422T174029
CREATED:20250502T115109Z
LAST-MODIFIED:20250502T115124Z
UID:944-1746828000-1747080000@eventosagenda.com
SUMMARY:Festa em Honra Senhora do Rosário - Vilarinho\, Santo Tirso
DESCRIPTION:
URL:https://eventosagenda.com/event/festa-em-honra-senhora-do-rosario-vilarinho-santo-tirso/
LOCATION:Vilarinho\, Santo Tirso\, Porto\, Portugal
CATEGORIES:Festas & Festivals
ATTACH;FMTTYPE=image/jpeg:https://eventosagenda.com/wp-content/uploads/2025/05/facebook_1746101169888_7323679121268726911.jpg
END:VEVENT
END:VCALENDAR